{"text_format":"1","workbook":"xlsx","n_sheets":8,"sheets":["List Definitions","Sheet Names","Cycle Template","Summary Sheet","Cycle 1","Cycle 2","Cycle 3","Cycle 4"],"not_rendered":{"charts":0,"images":0,"macros":1,"external_links":0,"defined_names":14,"comments":0,"pivot_tables":0},"unopened":[],"bounds":{"document_bytes":16777216,"sheet_cells":100000,"rows_first":2000,"rows_last":500,"rows_between":2000,"halvings":0,"cell_chars":16384,"cell_head_chars":4096},"cells_cut":0,"cells_raw":0,"read":"whole","date_system":"1900"}

{"sheet":"List Definitions","index":0,"n_rows":66,"n_cols":15,"rows_kept":66,"cut":false,"hidden":true,"merged":[]}
["Grades","Terms","Semesters","Course","District","Position","Field Experience","Major","Scores Between","Standard 10",null,"Columns to Reference (scores on cycle sheets)",null,"Error Message","Enter a value between 0 and 3 or NS."]
["-","-","-","-","-","-","-","-",0,"Yes",null,19]
["Pre-K",1,"Fall 2019","ART ED 378","Alpine","University Supervisor/Liaison","Practicum I","Art Education (K-12)",1,"No",null,24]
["K",2,"Winter 2020","ARTED 476","Jordan","Clinical Faculty Associate","Practicum II","Biological Science Education",2,null,null,30]
[1,null,"Sp/Su 2020","ARTED 496","Nebo","Partnership Facilitator","Student Teaching","Chemistry Education",3,null,null,36]
[2,null,"Fall 2020","BIO 378","Provo","Mentor Teacher","Internship","Dance Education K-12","NS",null,null,41]
[3,null,"Winter 2021","BIO 476","Wasatch","Principal","Other","Early Childhood Education K-3",null,null,null,46]
[4,null,"Sp/Su 2021","CPSE 466","Other","Other",null,"Earth/Space Science Education",null,null,null,53]
[5,null,"Fall 2021","CPSE 467",null,null,null,"Elementary Education K-6",null,null,null,59]
[6,null,"Winter 2022","CPSE 486",null,null,null,"English Teaching",null,null,null,64]
[7,null,"Sp/Su 2022","CPSE 487",null,null,null,"Family and Consumer Sciences Education",null,null,null,69]
[8,null,"Fall 2022","CPSE 496",null,null,null,"French Teaching",null,null,null,75]
[9,null,"Winter 2023","DANCE 466",null,null,null,"German Teaching",null,null,null,80]
[10,null,"Sp/Su 2023","DANCE 476",null,null,null,"History Teaching",null,null,null,86]
[11,null,"Fall 2023","ECE 323",null,null,null,"Latin Teaching",null,null,null,91]
[12,null,"Winter 2024","ECE 425",null,null,null,"Math Education",null,null,null,96]
["1-2",null,"Sp/Su 2024","ECE 442",null,null,null,"Music Education: General K-12",null,null,null,101]
["2-3",null,"Fall 2024","ECE 496",null,null,null,"Music Education: K-12 Choral",null,null,null,106]
["3-4",null,"Winter 2025","EL ED 332",null,null,null,"Music Education: K-12 Instrumental",null,null,null,113]
["4-5",null,"Sp/Su 2025","EL ED 400",null,null,null,"Physical Education Teaching/Coaching (K-12)",null,null,null,119]
["5-6",null,"Fall 2025","EL ED 442",null,null,null,"Physics Teaching",null,null,null,124]
[null,null,"Winter 2026","EL ED 496",null,null,null,"Spanish Teaching",null,null,null,130]
[null,null,"Sp/Su 2026","ENGL 379",null,null,null,"Special Education: Mild/Moderate Disabilities Emphasis",null,null,null,133]
[null,null,"Fall 2026","ENGL 476",null,null,null,"Special Education: Severe Disabilities Emphasis"]
[null,null,"Winter 2027","ENGL 496",null,null,null,"Teaching Physical Science"]
[null,null,"Sp/Su 2027","FREN 378",null,null,null,"Teaching Social Science"]
[null,null,"Fall 2027","GERM 378",null,null,null,"Technology & Engineering Studies"]
[null,null,"Winter 2028","GERM 476",null,null,null,"Theatre Arts Education K-12"]
[null,null,"Sp/Su 2028","GERM 496",null,null,null,"Other"]
[null,null,"Fall 2028","HIST 476"]
[null,null,"Winter 2029","HIST 478"]
[null,null,"Sp/Su 2029","HIST 496"]
[null,null,"Fall 2029","HLTH 382"]
[null,null,"Winter 2030","HLTH 421"]
[null,null,"Sp/Su 2030","HLTH 476"]
[null,null,"Fall 2030","LATIN 378"]
[null,null,"Winter 2031","MTHED 378"]
[null,null,"Sp/Su 2031","MTHED 476"]
[null,null,"Fall 2031","MTHED 496"]
[null,null,"Winter 2032","MUSIC 379"]
[null,null,"Sp/Su 2032","MUSIC 476"]
[null,null,"Fall 2032","PETE 377"]
[null,null,"Winter 2033","PETE 476"]
[null,null,"Sp/Su 2033","PHY S 378"]
[null,null,"Fall 2033","PHY S 476"]
[null,null,"Winter 2034","SC ED 476"]
[null,null,"Sp/Su 2034","SC ED 477"]
[null,null,"Fall 2034","SC ED 496"]
[null,null,"Winter 2035","SFL 378"]
[null,null,"Sp/Su 2035","SFL 476"]
[null,null,"Fall 2035","SFL 496"]
[null,null,"Winter 2036","SPAN 380"]
[null,null,"Sp/Su 2036","SPAN 476"]
[null,null,"Fall 2036","SPAN 496"]
[null,null,"Winter 2037","TEE 378"]
[null,null,"Sp/Su 2037","TEE 476"]
[null,null,"Fall 2037","TEE 496"]
[null,null,"Winter 2038","TELL 477"]
[null,null,"Sp/Su 2038","TMA 377 A"]
[null,null,"Fall 2038","TMA 476"]
[null,null,"Winter 2039","Other"]
[null,null,"Sp/Su 2039"]
[null,null,"Fall 2039"]
[null,null,"Winter 2040"]
[null,null,"Sp/Su 2040"]
[null,null,"Fall 2040"]

{"sheet":"Sheet Names","index":1,"n_rows":200,"n_cols":8,"rows_kept":200,"cut":false,"hidden":true,"merged":[]}
[null,null,null,null,null,null,null,"Cycle 1"]
["Sheet Name","Existing?","On Sheet Title",null,"Number of Cycles:",{"$f":"((COUNTA(B:B)-1)/2)+1","v":4},null,"Cycle 2"]
["Cycle 2","x","Cycle #2 Notes",null,null,null,null,"Cycle 3"]
[null,"x","Cycle #2 Scores ",null,null,null,null,"Cycle 4"]
["Cycle 3","x","Cycle #3 Notes",null,null,null,null,"Cycle 5"]
[null,"x","Cycle #3 Scores ",null,null,null,null,"Cycle 6 "]
["Cycle 4","x","Cycle #4 Notes",null,null,null,null,"Cycle 7"]
[null,"x","Cycle #4 Scores ",null,null,null,null,"Cycle 8"]
["Cycle 5",null,"Cycle #5 Notes",null,null,null,null,"Cycle 9"]
[null,null,"Cycle #5 Scores",null,null,null,null,"Cycle 10"]
["Cycle 6",null,"Cycle #6 Notes",null,null,null,null,"Cycle 11"]
[null,null,"Cycle #6 Scores",null,null,null,null,"Cycle 12"]
["Cycle 7",null,"Cycle #7 Notes",null,null,null,null,"Cycle 13"]
[null,null,"Cycle #7 Scores",null,null,null,null,"Cycle 14"]
["Cycle 8",null,"Cycle #8 Notes",null,null,null,null,"Cycle 15"]
[null,null,"Cycle #8 Scores",null,null,null,null,"Cycle 16"]
["Cycle 9",null,"Cycle #9 Notes",null,null,null,null,"Cycle 17"]
[null,null,"Cycle #9 Scores",null,null,null,null,"Cycle 18"]
["Cycle 10",null,"Cycle #10 Notes",null,null,null,null,"Cycle 19"]
[null,null,"Cycle #10 Scores",null,null,null,null,"Cycle 20"]
["Cycle 11",null,"Cycle #11 Notes",null,null,null,null,"Cycle 21"]
[null,null,"Cycle #11 Scores",null,null,null,null,"Cycle 22"]
["Cycle 12",null,"Cycle #12 Notes",null,null,null,null,"Cycle 23"]
[null,null,"Cycle #12 Scores",null,null,null,null,"Cycle 24"]
["Cycle 13",null,"Cycle #13 Notes",null,null,null,null,"Cycle 25"]
[null,null,"Cycle #13 Scores ",null,null,null,null,"Cycle 26"]
["Cycle 14",null,"Cycle #14 Notes",null,null,null,null,"Cycle 27"]
[null,null,"Cycle #14 Scores ",null,null,null,null,"Cycle 28"]
["Cycle 15",null,"Cycle #15 Notes",null,null,null,null,"Cycle 29"]
[null,null,"Cycle #15 Scores ",null,null,null,null,"Cycle 30"]
["Cycle 16",null,"Cycle #16 Notes",null,null,null,null,"Cycle 31"]
[null,null,"Cycle #16 Scores",null,null,null,null,"Cycle 32"]
["Cycle 17",null,"Cycle #17 Notes",null,null,null,null,"Cycle 33"]
[null,null,"Cycle #17 Scores",null,null,null,null,"Cycle 34"]
["Cycle 18",null,"Cycle #18 Notes",null,null,null,null,"Cycle 35"]
[null,null,"Cycle #18 Scores",null,null,null,null,"Cycle 36"]
["Cycle 19",null,"Cycle #19 Notes",null,null,null,null,"Cycle 37"]
[null,null,"Cycle #19 Scores",null,null,null,null,"Cycle 38"]
["Cycle 20",null,"Cycle #20 Notes",null,null,null,null,"Cycle 39"]
[null,null,"Cycle #20 Scores",null,null,null,null,"Cycle 40"]
["Cycle 21",null,"Cycle #21 Notes",null,null,null,null,"Cycle 41"]
[null,null,"Cycle #21 Scores",null,null,null,null,"Cycle 42"]
["Cycle 22",null,"Cycle #22 Notes",null,null,null,null,"Cycle 43"]
[null,null,"Cycle #22 Scores",null,null,null,null,"Cycle 44"]
["Cycle 23",null,"Cycle #23 Notes",null,null,null,null,"Cycle 45"]
[null,null,"Cycle #23 Scores",null,null,null,null,"Cycle 46"]
["Cycle 24",null,"Cycle #24 Notes",null,null,null,null,"Cycle 47"]
[null,null,"Cycle #24 Scores",null,null,null,null,"Cycle 48"]
["Cycle 25",null,"Cycle #25 Notes",null,null,null,null,"Cycle 49"]
[null,null,"Cycle #25 Scores",null,null,null,null,"Cycle 50"]
["Cycle 26",null,"Cycle #26 Notes",null,null,null,null,"Cycle 51"]
[null,null,"Cycle #26 Scores",null,null,null,null,"Cycle 52"]
["Cycle 27",null,"Cycle #27 Notes",null,null,null,null,"Cycle 53"]
[null,null,"Cycle #27 Scores",null,null,null,null,"Cycle 54"]
["Cycle 28",null,"Cycle #28 Notes",null,null,null,null,"Cycle 55"]
[null,null,"Cycle #28 Scores",null,null,null,null,"Cycle 56"]
["Cycle 29",null,"Cycle #29 Notes",null,null,null,null,"Cycle 57"]
[null,null,"Cycle #29 Scores",null,null,null,null,"Cycle 58"]
["Cycle 30",null,"Cycle #30 Notes",null,null,null,null,"Cycle 59"]
[null,null,"Cycle #30 Scores",null,null,null,null,"Cycle 60"]
["Cycle 31",null,"Cycle #31 Notes",null,null,null,null,"Cycle 61"]
[null,null,"Cycle #31 Scores",null,null,null,null,"Cycle 62"]
["Cycle 32",null,"Cycle #32 Notes",null,null,null,null,"Cycle 63"]
[null,null,"Cycle #32 Scores",null,null,null,null,"Cycle 64"]
["Cycle 33",null,"Cycle #33 Notes",null,null,null,null,"Cycle 65"]
[null,null,"Cycle #33 Scores",null,null,null,null,"Cycle 66"]
["Cycle 34",null,"Cycle #34 Notes",null,null,null,null,"Cycle 67"]
[null,null,"Cycle #34 Scores",null,null,null,null,"Cycle 68"]
["Cycle 35",null,"Cycle #35 Notes",null,null,null,null,"Cycle 69"]
[null,null,"Cycle #35 Scores",null,null,null,null,"Cycle 70"]
["Cycle 36",null,"Cycle #36 Notes",null,null,null,null,"Cycle 71"]
[null,null,"Cycle #36 Scores",null,null,null,null,"Cycle 72"]
["Cycle 37",null,"Cycle #37 Notes",null,null,null,null,"Cycle 73"]
[null,null,"Cycle #37 Scores",null,null,null,null,"Cycle 74"]
["Cycle 38",null,"Cycle #38 Notes",null,null,null,null,"Cycle 75"]
[null,null,"Cycle #38 Scores",null,null,null,null,"Cycle 76"]
["Cycle 39",null,"Cycle #39 Notes",null,null,null,null,"Cycle 77"]
[null,null,"Cycle #39 Scores",null,null,null,null,"Cycle 78"]
["Cycle 40",null,"Cycle #40 Notes",null,null,null,null,"Cycle 79"]
[null,null,"Cycle #40 Scores",null,null,null,null,"Cycle 80"]
["Cycle 41",null,"Cycle #41 Notes",null,null,null,null,"Cycle 81"]
[null,null,"Cycle #41 Scores",null,null,null,null,"Cycle 82"]
["Cycle 42",null,"Cycle #42 Notes",null,null,null,null,"Cycle 83"]
[null,null,"Cycle #42 Scores",null,null,null,null,"Cycle 84"]
["Cycle 43",null,"Cycle #43 Notes",null,null,null,null,"Cycle 85"]
[null,null,"Cycle #43 Scores",null,null,null,null,"Cycle 86"]
["Cycle 44",null,"Cycle #44 Notes",null,null,null,null,"Cycle 87"]
[null,null,"Cycle #44 Scores",null,null,null,null,"Cycle 88"]
["Cycle 45",null,"Cycle #45 Notes",null,null,null,null,"Cycle 89"]
[null,null,"Cycle #45 Scores",null,null,null,null,"Cycle 90"]
["Cycle 46",null,"Cycle #46 Notes",null,null,null,null,"Cycle 91"]
[null,null,"Cycle #46 Scores",null,null,null,null,"Cycle 92"]
["Cycle 47",null,"Cycle #47 Notes",null,null,null,null,"Cycle 93"]
[null,null,"Cycle #47 Scores",null,null,null,null,"Cycle 94"]
["Cycle 48",null,"Cycle #48 Notes",null,null,null,null,"Cycle 95"]
[null,null,"Cycle #48 Scores",null,null,null,null,"Cycle 96"]
["Cycle 49",null,"Cycle #49 Notes",null,null,null,null,"Cycle 97"]
[null,null,"Cycle #49 Scores",null,null,null,null,"Cycle 98"]
["Cycle 50",null,"Cycle #50 Notes",null,null,null,null,"Cycle 99"]
[null,null,"Cycle #50 Scores",null,null,null,null,"Cycle 100"]
["Cycle 51",null,"Cycle #51 Notes"]
[null,null,"Cycle #51 Scores"]
["Cycle 52",null,"Cycle #52 Notes"]
[null,null,"Cycle #52 Scores"]
["Cycle 53",null,"Cycle #53 Notes"]
[null,null,"Cycle #53 Scores"]
["Cycle 54",null,"Cycle #54 Notes"]
[null,null,"Cycle #54 Scores"]
["Cycle 55",null,"Cycle #55 Notes"]
[null,null,"Cycle #55 Scores"]
["Cycle 56",null,"Cycle #56 Notes"]
[null,null,"Cycle #56 Scores"]
["Cycle 57",null,"Cycle #57 Notes"]
[null,null,"Cycle #57 Scores"]
["Cycle 58",null,"Cycle #58 Notes"]
[null,null,"Cycle #58 Scores"]
["Cycle 59",null,"Cycle #59 Notes"]
[null,null,"Cycle #59 Scores"]
["Cycle 60",null,"Cycle #60 Notes"]
[null,null,"Cycle #60 Scores"]
["Cycle 61",null,"Cycle #61 Notes"]
[null,null,"Cycle #61 Scores"]
["Cycle 62",null,"Cycle #62 Notes"]
[null,null,"Cycle #62 Scores"]
["Cycle 63",null,"Cycle #63 Notes"]
[null,null,"Cycle #63 Scores"]
["Cycle 64",null,"Cycle #64 Notes"]
[null,null,"Cycle #64 Scores"]
["Cycle 65",null,"Cycle #65 Notes"]
[null,null,"Cycle #65 Scores"]
["Cycle 66",null,"Cycle #66 Notes"]
[null,null,"Cycle #66 Scores"]
["Cycle 67",null,"Cycle #67 Notes"]
[null,null,"Cycle #67 Scores"]
["Cycle 68",null,"Cycle #68 Notes"]
[null,null,"Cycle #68 Scores"]
["Cycle 69",null,"Cycle #69 Notes"]
[null,null,"Cycle #69 Scores"]
["Cycle 70",null,"Cycle #70 Notes"]
[null,null,"Cycle #70 Scores"]
["Cycle 71",null,"Cycle #71 Notes"]
[null,null,"Cycle #71 Scores"]
["Cycle 72",null,"Cycle #72 Notes"]
[null,null,"Cycle #72 Scores"]
["Cycle 73",null,"Cycle #73 Notes"]
[null,null,"Cycle #73 Scores"]
["Cycle 74",null,"Cycle #74 Notes"]
[null,null,"Cycle #74 Scores"]
["Cycle 75",null,"Cycle #75 Notes"]
[null,null,"Cycle #75 Scores"]
["Cycle 76",null,"Cycle #76 Notes"]
[null,null,"Cycle #76 Scores"]
["Cycle 77",null,"Cycle #77 Notes"]
[null,null,"Cycle #77 Scores"]
["Cycle 78",null,"Cycle #78 Notes"]
[null,null,"Cycle #78 Scores"]
["Cycle 79",null,"Cycle #79 Notes"]
[null,null,"Cycle #79 Scores"]
["Cycle 80",null,"Cycle #80 Notes"]
[null,null,"Cycle #80 Scores"]
["Cycle 81",null,"Cycle #81 Notes"]
[null,null,"Cycle #81 Scores"]
["Cycle 82",null,"Cycle #82 Notes"]
[null,null,"Cycle #82 Scores"]
["Cycle 83",null,"Cycle #83 Notes"]
[null,null,"Cycle #83 Scores"]
["Cycle 84",null,"Cycle #84 Notes"]
[null,null,"Cycle #84 Scores"]
["Cycle 85",null,"Cycle #85 Notes"]
[null,null,"Cycle #85 Scores"]
["Cycle 86",null,"Cycle #86 Notes"]
[null,null,"Cycle #86 Scores"]
["Cycle 87",null,"Cycle #87 Notes"]
[null,null,"Cycle #87 Scores"]
["Cycle 88",null,"Cycle #88 Notes"]
[null,null,"Cycle #88 Scores"]
["Cycle 89",null,"Cycle #89 Notes"]
[null,null,"Cycle #89 Scores"]
["Cycle 90",null,"Cycle #90 Notes"]
[null,null,"Cycle #90 Scores"]
["Cycle 91",null,"Cycle #91 Notes"]
[null,null,"Cycle #91 Scores"]
["Cycle 92",null,"Cycle #92 Notes"]
[null,null,"Cycle #92 Scores"]
["Cycle 93",null,"Cycle #93 Notes"]
[null,null,"Cycle #93 Scores"]
["Cycle 94",null,"Cycle #94 Notes"]
[null,null,"Cycle #94 Scores"]
["Cycle 95",null,"Cycle #95 Notes"]
[null,null,"Cycle #95 Scores"]
["Cycle 96",null,"Cycle #96 Notes"]
[null,null,"Cycle #96 Scores"]
["Cycle 97",null,"Cycle #97 Notes"]
[null,null,"Cycle #97 Scores"]
["Cycle 98",null,"Cycle #98 Notes"]
[null,null,"Cycle #98 Scores"]
["Cycle 99",null,"Cycle #99 Notes"]
[null,null,"Cycle #99 Scores"]
["Cycle 100",null,"Cycle #100 Notes"]
[null,null,"Cycle #100 Scores"]

{"sheet":"Cycle Template","index":2,"n_rows":140,"n_cols":8,"rows_kept":140,"cut":false,"hidden":true,"merged":[[80,7,81,7],[86,6,87,6],[86,2,87,5],[86,7,87,7],[124,7,125,7],[124,6,125,6],[124,2,125,5],[91,6,92,6],[91,2,92,5],[96,7,97,7],[96,2,97,5],[96,6,97,6],[101,2,102,5],[101,6,102,6],[101,7,102,7],[106,7,107,7],[106,6,107,6],[106,2,107,5],[113,2,114,5],[113,6,114,6],[113,7,114,7],[119,7,120,7],[119,6,120,6],[119,2,120,5],[135,1,135,6],[136,1,136,6],[132,0,132,4],[132,5,132,6],[133,0,134,0],[133,2,133,3],[133,4,133,6],[134,2,134,3],[134,4,134,6],[124,0,125,1],[128,0,128,4],[128,5,128,6],[129,0,129,4],[129,5,129,6],[130,0,131,0],[130,2,130,3],[130,4,130,6],[131,2,131,3],[131,4,131,6],[126,0,127,0],[106,0,107,1],[108,0,109,0],[110,5,110,6],[121,0,122,0],[123,0,123,4],[123,5,123,6],[111,0,111,4],[111,5,111,6],[112,0,112,4],[112,5,112,6],[117,0,117,4],[117,5,117,6],[118,0,118,4],[118,5,118,6],[119,0,120,1],[113,0,114,1],[115,0,116,0],[110,0,110,3],[103,0,104,0],[105,0,105,4],[105,5,105,6],[88,0,89,0],[90,0,90,4],[90,5,90,6],[98,0,99,0],[100,0,100,4],[100,5,100,6],[101,0,102,1],[91,7,92,7],[84,0,84,4],[84,5,84,6],[85,0,85,4],[85,5,85,6],[86,0,87,1],[95,0,95,4],[95,5,95,6],[96,0,97,1],[80,0,81,1],[82,0,83,0],[77,0,78,0],[50,5,50,6],[79,0,79,4],[79,5,79,6],[57,0,57,4],[57,5,57,6],[66,0,67,0],[68,0,68,4],[68,5,68,6],[61,0,62,0],[63,0,63,4],[63,5,63,6],[64,0,65,1],[91,0,92,1],[93,0,94,0],[59,6,60,6],[59,2,60,5],[64,6,65,6],[64,2,65,5],[69,6,70,6],[69,2,70,5],[75,6,76,6],[75,2,76,5],[80,2,81,5],[80,6,81,6],[46,7,47,7],[53,7,54,7],[53,6,54,6],[36,0,37,1],[38,0,39,0],[40,0,40,4],[40,5,40,6],[41,0,42,1],[48,0,49,0],[51,0,51,4],[51,5,51,6],[55,0,56,0],[52,0,52,4],[52,5,52,6],[53,0,54,1],[53,2,54,5],[75,0,76,1],[69,0,70,1],[71,0,72,0],[59,7,60,7],[64,7,65,7],[69,7,70,7],[75,7,76,7],[50,0,50,3],[137,1,137,6],[139,1,139,6],[21,0,22,0],[23,0,23,4],[23,5,23,6],[24,0,25,1],[32,0,33,0],[34,0,34,4],[34,5,34,6],[35,0,35,4],[35,5,35,6],[43,0,44,0],[45,0,45,4],[45,5,45,6],[46,0,47,1],[58,0,58,4],[58,5,58,6],[59,0,60,1],[73,0,73,4],[73,5,73,6],[74,0,74,4],[74,5,74,6],[26,0,27,0],[28,0,28,4],[28,5,28,6],[29,0,29,4],[29,5,29,6],[30,0,31,1],[24,2,25,5],[24,6,25,6],[46,2,47,5],[46,6,47,6],[19,7,20,7],[8,1,8,6],[11,1,11,6],[12,1,12,6],[1,1,1,2],[2,1,2,2],[3,1,3,2],[4,1,4,2],[5,1,5,2],[6,0,6,6],[7,1,7,6],[13,1,13,6],[14,1,14,6],[15,0,15,6],[17,0,17,4],[17,5,17,6],[16,5,16,6],[18,0,18,4],[18,5,18,6],[19,0,20,1],[19,2,20,5],[19,6,20,6],[16,0,16,3],[9,0,10,0],[9,1,10,6],[38,50,38,51],[38,54,39,54],[38,59,38,60],[38,63,39,63],[38,68,38,69],[38,72,39,72],[38,77,38,78],[38,81,39,81],[38,86,38,87],[38,9,39,9],[38,14,38,15],[38,18,39,18],[38,23,38,24],[38,27,39,27],[38,32,38,33],[38,36,39,36],[38,41,38,42],[38,45,39,45],[38,131,38,132],[38,135,39,135],[38,140,38,141],[38,144,39,144],[38,149,38,150],[38,153,39,153],[38,158,38,159],[38,162,39,162],[38,167,38,168],[38,90,39,90],[38,95,38,96],[38,99,39,99],[38,104,38,105],[38,108,39,108],[38,113,38,114],[38,117,39,117],[38,122,38,123],[38,126,39,126],[38,212,38,213],[38,216,39,216],[38,221,38,222],[38,225,39,225],[38,230,38,231],[38,234,39,234],[38,239,38,240],[38,243,39,243],[38,248,38,249],[39,212,39,213],[39,221,39,222],[39,230,39,231],[39,239,39,240],[39,248,39,249],[38,171,39,171],[38,176,38,177],[38,180,39,180],[38,185,38,186],[38,189,39,189],[38,194,38,195],[38,198,39,198],[38,203,38,204],[38,207,39,207],[39,203,39,204],[38,293,38,294],[38,297,39,297],[38,302,38,303],[38,306,39,306],[38,311,38,312],[38,315,39,315],[38,320,38,321],[38,324,39,324],[38,329,38,330],[39,293,39,294],[39,302,39,303],[39,311,39,312],[39,320,39,321],[39,329,39,330],[38,252,39,252],[38,257,38,258],[38,261,39,261],[38,266,38,267],[38,270,39,270],[38,275,38,276],[38,279,39,279],[38,284,38,285],[38,288,39,288],[39,257,39,258],[39,266,39,267],[39,275,39,276],[39,284,39,285],[38,374,38,375],[38,378,39,378],[38,383,38,384],[38,387,39,387],[38,392,38,393],[38,396,39,396],[38,401,38,402],[38,405,39,405],[38,410,38,411],[39,374,39,375],[39,383,39,384],[39,392,39,393],[39,401,39,402],[39,410,39,411],[38,333,39,333],[38,338,38,339],[38,342,39,342],[38,347,38,348],[38,351,39,351],[38,356,38,357],[38,360,39,360],[38,365,38,366],[38,369,39,369],[39,338,39,339],[39,347,39,348],[39,356,39,357],[39,365,39,366],[38,455,38,456],[38,459,39,459],[38,464,38,465],[38,468,39,468],[38,473,38,474],[38,477,39,477],[38,482,38,483],[38,486,39,486],[38,491,38,492],[39,455,39,456],[39,464,39,465],[39,473,39,474],[39,482,39,483],[39,491,39,492],[38,414,39,414],[38,419,38,420],[38,423,39,423],[38,428,38,429],[38,432,39,432],[38,437,38,438],[38,441,39,441],[38,446,38,447],[38,450,39,450],[39,419,39,420],[39,428,39,429],[39,437,39,438],[39,446,39,447],[38,536,38,537],[38,540,39,540],[38,545,38,546],[38,549,39,549],[38,554,38,555],[38,558,39,558],[38,563,38,564],[38,567,39,567],[38,572,38,573],[39,536,39,537],[39,545,39,546],[39,554,39,555],[39,563,39,564],[39,572,39,573],[38,495,39,495],[38,500,38,501],[38,504,39,504],[38,509,38,510],[38,513,39,513],[38,518,38,519],[38,522,39,522],[38,527,38,528],[38,531,39,531],[39,500,39,501],[39,509,39,510],[39,518,39,519],[39,527,39,528],[38,617,38,618],[38,621,39,621],[38,626,38,627],[38,630,39,630],[38,635,38,636],[38,639,39,639],[38,644,38,645],[38,648,39,648],[38,653,38,654],[39,617,39,618],[39,626,39,627],[39,635,39,636],[39,644,39,645],[39,653,39,654],[38,576,39,576],[38,581,38,582],[38,585,39,585],[38,590,38,591],[38,594,39,594],[38,599,38,600],[38,603,39,603],[38,608,38,609],[38,612,39,612],[39,581,39,582],[39,590,39,591],[39,599,39,600],[39,608,39,609],[38,698,38,699],[38,702,39,702],[38,707,38,708],[38,711,39,711],[38,716,38,717],[38,720,39,720],[38,725,38,726],[38,729,39,729],[38,734,38,735],[39,698,39,699],[39,707,39,708],[39,716,39,717],[39,725,39,726],[39,734,39,735],[38,657,39,657],[38,662,38,663],[38,666,39,666],[38,671,38,672],[38,675,39,675],[38,680,38,681],[38,684,39,684],[38,689,38,690],[38,693,39,693],[39,662,39,663],[39,671,39,672],[39,680,39,681],[39,689,39,690],[38,779,38,780],[38,783,39,783],[38,788,38,789],[38,792,39,792],[38,797,38,798],[38,801,39,801],[38,806,38,807],[38,810,39,810],[38,815,38,816],[39,779,39,780],[39,788,39,789],[39,797,39,798],[39,806,39,807],[39,815,39,816],[38,738,39,738],[38,743,38,744],[38,747,39,747],[38,752,38,753],[38,756,39,756],[38,761,38,762],[38,765,39,765],[38,770,38,771],[38,774,39,774],[39,743,39,744],[39,752,39,753],[39,761,39,762],[39,770,39,771],[38,860,38,861],[38,864,39,864],[38,869,38,870],[38,873,39,873],[38,878,38,879],[38,882,39,882],[38,887,38,888],[38,891,39,891],[38,896,38,897],[39,860,39,861],[39,869,39,870],[39,878,39,879],[39,887,39,888],[39,896,39,897],[38,819,39,819],[38,824,38,825],[38,828,39,828],[38,833,38,834],[38,837,39,837],[38,842,38,843],[38,846,39,846],[38,851,38,852],[38,855,39,855],[39,824,39,825],[39,833,39,834],[39,842,39,843],[39,851,39,852],[38,941,38,942],[38,945,39,945],[38,950,38,951],[38,954,39,954],[38,959,38,960],[38,963,39,963],[38,968,38,969],[38,972,39,972],[38,977,38,978],[39,941,39,942],[39,950,39,951],[39,959,39,960],[39,968,39,969],[39,977,39,978],[38,900,39,900],[38,905,38,906],[38,909,39,909],[38,914,38,915],[38,918,39,918],[38,923,38,924],[38,927,39,927],[38,932,38,933],[38,936,39,936],[39,905,39,906],[39,914,39,915],[39,923,39,924],[39,932,39,933],[38,1022,38,1023],[38,1026,39,1026],[38,1031,38,1032],[38,1035,39,1035],[38,1040,38,1041],[38,1044,39,1044],[38,1049,38,1050],[38,1053,39,1053],[38,1058,38,1059],[39,1022,39,1023],[39,1031,39,1032],[39,1040,39,1041],[39,1049,39,1050],[39,1058,39,1059],[38,981,39,981],[38,986,38,987],[38,990,39,990],[38,995,38,996],[38,999,39,999],[38,1004,38,1005],[38,1008,39,1008],[38,1013,38,1014],[38,1017,39,1017],[39,986,39,987],[39,995,39,996],[39,1004,39,1005],[39,1013,39,1014],[38,1103,38,1104],[38,1107,39,1107],[38,1112,38,1113],[38,1116,39,1116],[38,1121,38,1122],[38,1125,39,1125],[38,1130,38,1131],[38,1134,39,1134],[38,1139,38,1140],[39,1103,39,1104],[39,1112,39,1113],[39,1121,39,1122],[39,1130,39,1131],[39,1139,39,1140],[38,1062,39,1062],[38,1067,38,1068],[38,1071,39,1071],[38,1076,38,1077],[38,1080,39,1080],[38,1085,38,1086],[38,1089,39,1089],[38,1094,38,1095],[38,1098,39,1098],[39,1067,39,1068],[39,1076,39,1077],[39,1085,39,1086],[39,1094,39,1095],[38,1184,38,1185],[38,1188,39,1188],[38,1193,38,1194],[38,1197,39,1197],[38,1202,38,1203],[38,1206,39,1206],[38,1211,38,1212],[38,1215,39,1215],[38,1220,38,1221],[39,1184,39,1185],[39,1193,39,1194],[39,1202,39,1203],[39,1211,39,1212],[39,1220,39,1221],[38,1143,39,1143],[38,1148,38,1149],[38,1152,39,1152],[38,1157,38,1158],[38,1161,39,1161],[38,1166,38,1167],[38,1170,39,1170],[38,1175,38,1176],[38,1179,39,1179],[39,1148,39,1149],[39,1157,39,1158],[39,1166,39,1167],[39,1175,39,1176],[38,1265,38,1266],[38,1269,39,1269],[38,1274,38,1275],[38,1278,39,1278],[38,1283,38,1284],[38,1287,39,1287],[38,1292,38,1293],[38,1296,39,1296],[38,1301,38,1302],[39,1265,39,1266],[39,1274,39,1275],[39,1283,39,1284],[39,1292,39,1293],[39,1301,39,1302],[38,1224,39,1224],[38,1229,38,1230],[38,1233,39,1233],[38,1238,38,1239],[38,1242,39,1242],[38,1247,38,1248],[38,1251,39,1251],[38,1256,38,1257],[38,1260,39,1260],[39,1229,39,1230],[39,1238,39,1239],[39,1247,39,1248],[39,1256,39,1257],[38,1346,38,1347],[38,1350,39,1350],[38,1355,38,1356],[38,1359,39,1359],[38,1364,38,1365],[38,1368,39,1368],[38,1373,38,1374],[38,1377,39,1377],[38,1382,38,1383],[39,1346,39,1347],[39,1355,39,1356],[39,1364,39,1365],[39,1373,39,1374],[39,1382,39,1383],[38,1305,39,1305],[38,1310,38,1311],[38,1314,39,1314],[38,1319,38,1320],[38,1323,39,1323],[38,1328,38,1329],[38,1332,39,1332],[38,1337,38,1338],[38,1341,39,1341],[39,1310,39,1311],[39,1319,39,1320],[39,1328,39,1329],[39,1337,39,1338],[38,1427,38,1428],[38,1431,39,1431],[38,1436,38,1437],[38,1440,39,1440],[38,1445,38,1446],[38,1449,39,1449],[38,1454,38,1455],[38,1458,39,1458],[38,1463,38,1464],[39,1427,39,1428],[39,1436,39,1437],[39,1445,39,1446],[39,1454,39,1455],[39,1463,39,1464],[38,1386,39,1386],[38,1391,38,1392],[38,1395,39,1395],[38,1400,38,1401],[38,1404,39,1404],[38,1409,38,1410],[38,1413,39,1413],[38,1418,38,1419],[38,1422,39,1422],[39,1391,39,1392],[39,1400,39,1401],[39,1409,39,1410],[39,1418,39,1419],[38,1508,38,1509],[38,1512,39,1512],[38,1517,38,1518],[38,1521,39,1521],[38,1526,38,1527],[38,1530,39,1530],[38,1535,38,1536],[38,1539,39,1539],[38,1544,38,1545],[39,1508,39,1509],[39,1517,39,1518],[39,1526,39,1527],[39,1535,39,1536],[39,1544,39,1545],[38,1467,39,1467],[38,1472,38,1473],[38,1476,39,1476],[38,1481,38,1482],[38,1485,39,1485],[38,1490,38,1491],[38,1494,39,1494],[38,1499,38,1500],[38,1503,39,1503],[39,1472,39,1473],[39,1481,39,1482],[39,1490,39,1491],[39,1499,39,1500],[38,1589,38,1590],[38,1593,39,1593],[38,1598,38,1599],[38,1602,39,1602],[38,1607,38,1608],[38,1611,39,1611],[38,1616,38,1617],[38,1620,39,1620],[38,1625,38,1626],[39,1589,39,1590],[39,1598,39,1599],[39,1607,39,1608],[39,1616,39,1617],[39,1625,39,1626],[38,1548,39,1548],[38,1553,38,1554],[38,1557,39,1557],[38,1562,38,1563],[38,1566,39,1566],[38,1571,38,1572],[38,1575,39,1575],[38,1580,38,1581],[38,1584,39,1584],[39,1553,39,1554],[39,1562,39,1563],[39,1571,39,1572],[39,1580,39,1581],[38,1670,38,1671],[38,1674,39,1674],[38,1679,38,1680],[38,1683,39,1683],[38,1688,38,1689],[38,1692,39,1692],[38,1697,38,1698],[38,1701,39,1701],[38,1706,38,1707],[39,1670,39,1671],[39,1679,39,1680],[39,1688,39,1689],[39,1697,39,1698],[39,1706,39,1707],[38,1629,39,1629],[38,1634,38,1635],[38,1638,39,1638],[38,1643,38,1644],[38,1647,39,1647],[38,1652,38,1653],[38,1656,39,1656],[38,1661,38,1662],[38,1665,39,1665],[39,1634,39,1635],[39,1643,39,1644],[39,1652,39,1653],[39,1661,39,1662],[38,1751,38,1752],[38,1755,39,1755],[38,1760,38,1761],[38,1764,39,1764],[38,1769,38,1770],[38,1773,39,1773],[38,1778,38,1779],[38,1782,39,1782],[38,1787,38,1788],[39,1751,39,1752],[39,1760,39,1761],[39,1769,39,1770],[39,1778,39,1779],[39,1787,39,1788],[38,1710,39,1710],[38,1715,38,1716],[38,1719,39,1719],[38,1724,38,1725],[38,1728,39,1728],[38,1733,38,1734],[38,1737,39,1737],[38,1742,38,1743],[38,1746,39,1746],[39,1715,39,1716],[39,1724,39,1725],[39,1733,39,1734],[39,1742,39,1743],[38,1832,38,1833],[38,1836,39,1836],[38,1841,38,1842],[38,1845,39,1845],[38,1850,38,1851],[38,1854,39,1854],[38,1859,38,1860],[38,1863,39,1863],[38,1868,38,1869],[39,1832,39,1833],[39,1841,39,1842],[39,1850,39,1851],[39,1859,39,1860],[39,1868,39,1869],[38,1791,39,1791],[38,1796,38,1797],[38,1800,39,1800],[38,1805,38,1806],[38,1809,39,1809],[38,1814,38,1815],[38,1818,39,1818],[38,1823,38,1824],[38,1827,39,1827],[39,1796,39,1797],[39,1805,39,1806],[39,1814,39,1815],[39,1823,39,1824],[38,1913,38,1914],[38,1917,39,1917],[38,1922,38,1923],[38,1926,39,1926],[38,1931,38,1932],[38,1935,39,1935],[38,1940,38,1941],[38,1944,39,1944],[38,1949,38,1950],[39,1913,39,1914],[39,1922,39,1923],[39,1931,39,1932],[39,1940,39,1941],[39,1949,39,1950],[38,1872,39,1872],[38,1877,38,1878],[38,1881,39,1881],[38,1886,38,1887],[38,1890,39,1890],[38,1895,38,1896],[38,1899,39,1899],[38,1904,38,1905],[38,1908,39,1908],[39,1877,39,1878],[39,1886,39,1887],[39,1895,39,1896],[39,1904,39,1905],[38,1994,38,1995],[38,1998,39,1998],[38,2003,38,2004],[38,2007,39,2007],[38,2012,38,2013],[38,2016,39,2016],[38,2021,38,2022],[38,2025,39,2025],[38,2030,38,2031],[39,1994,39,1995],[39,2003,39,2004],[39,2012,39,2013],[39,2021,39,2022],[39,2030,39,2031],[38,1953,39,1953],[38,1958,38,1959],[38,1962,39,1962],[38,1967,38,1968],[38,1971,39,1971],[38,1976,38,1977],[38,1980,39,1980],[38,1985,38,1986],[38,1989,39,1989],[39,1958,39,1959],[39,1967,39,1968],[39,1976,39,1977],[39,1985,39,1986],[38,2075,38,2076],[38,2079,39,2079],[38,2084,38,2085],[38,2088,39,2088],[38,2093,38,2094],[38,2097,39,2097],[38,2102,38,2103],[38,2106,39,2106],[38,2111,38,2112],[39,2075,39,2076],[39,2084,39,2085],[39,2093,39,2094],[39,2102,39,2103],[39,2111,39,2112],[38,2034,39,2034],[38,2039,38,2040],[38,2043,39,2043],[38,2048,38,2049],[38,2052,39,2052],[38,2057,38,2058],[38,2061,39,2061],[38,2066,38,2067],[38,2070,39,2070],[39,2039,39,2040],[39,2048,39,2049],[39,2057,39,2058],[39,2066,39,2067],[38,2156,38,2157],[38,2160,39,2160],[38,2165,38,2166],[38,2169,39,2169],[38,2174,38,2175],[38,2178,39,2178],[38,2183,38,2184],[38,2187,39,2187],[38,2192,38,2193],[39,2156,39,2157],[39,2165,39,2166],[39,2174,39,2175],[39,2183,39,2184],[39,2192,39,2193],[38,2115,39,2115],[38,2120,38,2121],[38,2124,39,2124],[38,2129,38,2130],[38,2133,39,2133],[38,2138,38,2139],[38,2142,39,2142],[38,2147,38,2148],[38,2151,39,2151],[39,2120,39,2121],[39,2129,39,2130],[39,2138,39,2139],[39,2147,39,2148],[38,2237,38,2238],[38,2241,39,2241],[38,2246,38,2247],[38,2250,39,2250],[38,2255,38,2256],[38,2259,39,2259],[38,2264,38,2265],[38,2268,39,2268],[38,2273,38,2274],[39,2237,39,2238],[39,2246,39,2247],[39,2255,39,2256],[39,2264,39,2265],[39,2273,39,2274],[38,2196,39,2196],[38,2201,38,2202],[38,2205,39,2205],[38,2210,38,2211],[38,2214,39,2214],[38,2219,38,2220],[38,2223,39,2223],[38,2228,38,2229],[38,2232,39,2232],[39,2201,39,2202],[39,2210,39,2211],[39,2219,39,2220],[39,2228,39,2229],[38,2318,38,2319],[38,2322,39,2322],[38,2327,38,2328],[38,2331,39,2331],[38,2336,38,2337],[38,2340,39,2340],[38,2345,38,2346],[38,2349,39,2349],[38,2354,38,2355],[39,2318,39,2319],[39,2327,39,2328],[39,2336,39,2337],[39,2345,39,2346],[39,2354,39,2355],[38,2277,39,2277],[38,2282,38,2283],[38,2286,39,2286],[38,2291,38,2292],[38,2295,39,2295],[38,2300,38,2301],[38,2304,39,2304],[38,2309,38,2310],[38,2313,39,2313],[39,2282,39,2283],[39,2291,39,2292],[39,2300,39,2301],[39,2309,39,2310],[38,2399,38,2400],[38,2403,39,2403],[38,2408,38,2409],[38,2412,39,2412],[38,2417,38,2418],[38,2421,39,2421],[38,2426,38,2427],[38,2430,39,2430],[38,2435,38,2436],[39,2399,39,2400],[39,2408,39,2409],[39,2417,39,2418],[39,2426,39,2427],[39,2435,39,2436],[38,2358,39,2358],[38,2363,38,2364],[38,2367,39,2367],[38,2372,38,2373],[38,2376,39,2376],[38,2381,38,2382],[38,2385,39,2385],[38,2390,38,2391],[38,2394,39,2394],[39,2363,39,2364],[39,2372,39,2373],[39,2381,39,2382],[39,2390,39,2391],[38,2480,38,2481],[38,2484,39,2484],[38,2489,38,2490],[38,2493,39,2493],[38,2498,38,2499],[38,2502,39,2502],[38,2507,38,2508],[38,2511,39,2511],[38,2516,38,2517],[39,2480,39,2481],[39,2489,39,2490],[39,2498,39,2499],[39,2507,39,2508],[39,2516,39,2517],[38,2439,39,2439],[38,2444,38,2445],[38,2448,39,2448],[38,2453,38,2454],[38,2457,39,2457],[38,2462,38,2463],[38,2466,39,2466],[38,2471,38,2472]],"merged_total":5658,"flags":["merged_cut"]}
[]
["Candidate",{"$f":"IF(COUNTA('Cycle 1'!B2:C2)<>0,'Cycle 1'!B2:C2,\"\")","v":""},null,"Major",{"$f":"IF(COUNTA('Cycle 1'!E2)<>0,'Cycle 1'!E2,\"\")","v":""},"Date"]
["School",{"$f":"IF(COUNTA('Cycle 1'!B3:C3)<>0,'Cycle 1'!B3:C3,\"\")","v":""},null,"Course",{"$f":"IF(COUNTA('Cycle 1'!E3)<>0,'Cycle 1'!E3,\"\")","v":""},"District",{"$f":"IF(COUNTA('Cycle 1'!G3)<>0,'Cycle 1'!G3,\"\")","v":""}]
["Mentor Teacher",{"$f":"IF(COUNTA('Cycle 1'!B4:C4)<>0,'Cycle 1'!B4:C4,\"\")","v":""},null,"Grade",{"$f":"IF(COUNTA('Cycle 1'!E4)<>0,'Cycle 1'!E4,\"\")","v":""},"Principal",{"$f":"IF(COUNTA('Cycle 1'!G4)<>0,'Cycle 1'!G4,\"\")","v":""}]
["Evaluator",null,null,"Semester",{"$f":"IF(COUNTA('Cycle 1'!E5)<>0,'Cycle 1'!E5,\"\")","v":""},"Position",{"$f":"IF(COUNTA('Cycle 1'!G5)<>0,'Cycle 1'!G5,\"\")","v":""}]
["Field Experience",null,null,"Term",{"$f":"IF(COUNTA('Cycle 1'!E6)<>0,'Cycle 1'!E6,\"\")","v":""},"Subject"]
["Cycle ** Notes"]
["Lesson Topic"]
["Observation Minutes"]
["Debrief/Consultation Minutes"]
[]
["Notes:"]
["Notes:"]
["Notes:"]
["Notes:"]
["Cycle ** Scores "]
["THE LEARNER & LEARNING\nTeaching begins with the learner. To ensure that each student learns new knowledge and skills, teachers must understand that learning and developmental patterns vary among individuals, that learners bring unique individual differences to the learning process, and that learners need supportive and safe learning environments to thrive. ",null,null,null,"Total Average Score:",{"$f":"IFERROR(ROUND(AVERAGE($F$19,$F$24,$F$30,$F$36,$F$41,$F$46,$F$53,$F$59,$F$64,$F$69,$F$75,$F$80,$F$86,$F$91,$F$96,$F$101,$F$106,$F$113,$F$119,$F$124,$F$130,$F$133),2),\"--\")","v":"--"}]
["STANDARD 1: Learner Development",null,null,null,null,"SCORE"]
["  1.1  (O)  Appropriate Learning Experiences"]
[null,null,"Preservice (Practicum)",null,null,null,"Student Teaching/Intern","Career Teacher"]
[]
["1.1 \n\nO\nB\nS\nE\nR\nV\nA\nT\nI\nO\nN","Performance Expectation","Not Scored\n\n(NS)","Not Effective\n\n(0)","Beginning\n\n(1)","Developing\n\n(2)","Preservice Effective/\nUSBE Emerging Effective\n(3)","Inservice Effective\n\n(3)"]
[null,"Creates developmentally appropriate and challenging learning experiences based on each learner’s strengths, interests, and needs\n\nUETS 1a, 2e\nInTASC 1\nCAEP 1.1, 3.5","• The evaluator selected not to gather evidence and score this item for this formative assessment","• Provides developmentally inappropriate instruction\n• Lacks awareness of developmental needs\n\n\n","• Creates lessons according to grade level Utah Core Standards\n","…and\n• Add to or modifies lessons to provide varied learning experiences","…and\n• Implements learning experiences based on specific learners developmental levels","…and\n• Identifies appropriate developmental levels of individual learners and consistently and appropriately differentiates instruction learning experiences\n• Incorporates methods of language development into planning and instruction"]
["  1.2  (C) Collaborates with Others"]
[null,null,"Preservice (Practicum)",null,null,null,"Student Teaching/Intern","Career Teacher"]
[]
["1.2 \n\nC\nO\nN\nS\nU\nL\nT\nA\nT\nI\nO\nN","Performance Expectation","Not Scored\n\n(NS)","Not Effective\n\n(0)","Beginning\n\n(1)","Developing\n\n(2)","Preservice Effective/\nUSBE Emerging Effective\n(3)","Inservice Effective\n\n(3)"]
[null,"Collaborates with families, colleagues, and other professionals to promote student growth and development.\n\nUETS 1b\nInTASC 1\nCAEP 1.1, 3.5","• The evaluator selected not to gather evidence and score this item for this formative assessment","• Works in isolation \n• Avoids communication or communicates ineffectively\n• Does not focus on learner needs","• Communicates about procedural issues, schedules, and requirements.","…and \n• Responds to mentor inquires/concerns about learner development and progress. \n• Communicates about curriculum and instruction.\n","…and \n• Interacts with colleagues or families related to learner growth and development","…and\n• Collaborates with family members and a full range of colleagues to help meet the unique needs of all learners\n"]
["STANDARD 2:  Learning Differences",null,null,null,null,"SCORE"]
["  2.1  (O) Diverse Experiences"]
[null,null,"Preservice (Practicum)",null,null,null,"Student Teaching/Intern","Career Teacher"]
[]
["2.1 \n\nO\nB\nS\nE\nR\nV\nA\nT\nI\nO\nN","Performance Expectation","Not Scored\n\n(NS)","Not Effective\n\n(0)","Beginning\n\n(1)","Developing\n\n(2)","Preservice Effective/\nUSBE Emerging Effective\n(3)","Inservice Effective\n\n(3)"]
[null,"Allows learners multiple ways to demonstrate learning sensitive to diverse experiences, while holding high expectations for all.\n\nUETS 2a, 2b, 2c, 2d\nInTASC 2\nCAEP 1.1, 3.5\nCross-cutting Diversity","• The evaluator selected not to gather evidence and score this item for this formative assessment","• Not aware of learner differences\n• Not accepting of differences\n• Does not hold high expectations for learners","• Demonstrates awareness of learner diversity \n• Respects individual differences\n","..and\n• Applies general strategies for diverse learners","…and\n• Applies understanding of specific strategies for learner diversity to encourage all learners to reach their full potential","…and\n• Uses learner differences as an asset to adapt and deliver instruction for all learners\n• Provides students multiple ways to demonstrate learning"]
["STANDARD 3:  Learning Environment",null,null,null,null,"SCORE"]
["3.1  (O)  Engage and Support Students"]
[null,null,"Preservice (Practicum)",null,null,null,"Student Teaching/Intern","Career Teacher"]
[]
["3.1 \n\nO\nB\nS\nE\nR\nV\nA\nT\nI\nO\nN","Performance Expectation","Not Scored\n\n(NS)","Not Effective\n\n(0)","Beginning\n\n(1)","Developing\n\n(2)","Preservice Effective/\nUSBE Emerging Effective\n(3)","Inservice Effective\n\n(3)"]
[null,"Develops learning experiences that engage and support students as self-directed learners who internalize classroom routines, expectations, and procedures.\n\nUETS 3a\nInTASC 3\nCAEP 1.1, 3.5","• The evaluator selected not to gather evidence and score this item for this formative assessment","• Does not have a schedule planned\n• Has unorganized and lengthy transitions \n• Loses Instructional time\n\n","• Plans a schedule, routines, and behavioral expectations\n\n\n","…and \n• Communicates schedule, routines, and behavioral expectations to students\n \n","…and\n• Implements the daily schedule \n• Holds students accountable to follow routines and behavioral expectations\n","…and\n• Provides explicit direction so that learners know what to do and when to do it\n• Supports each learner as he/she establishes expectations and develops responsibility for his/her own behavior\n\n"]
["3.2  (O) Collaborates with Students"]
[null,null,"Preservice (Practicum)",null,null,null,"Student Teaching/Intern","Career Teacher"]
[]
["\n3.2 \n\nO\nB\nS\nE\nR\nV\nA\nT\nI\nO\nN\n","Performance Expectation","Not Scored\n\n(NS)","Not Effective\n\n(0)","Beginning\n\n(1)","Developing\n\n(2)","Preservice Effective/\nUSBE Emerging Effective\n(3)","Inservice Effective\n\n(3)"]
[null,"Collaborates with students to establish a positive learning climate of openness, respectful interactions, support, and inquiry.\n\nUETS 3b\nInTASC 3\nCAEP 1.1, 3.5","• The evaluator selected not to gather evidence and score this item for this formative assessment","• Demonstrates negative demeanor \n• Reprimands frequently \n• Leaves students unattended \n\n","• Communicates with students using developmentally appropriate language \n\n","…and \n• Communicates explicitly the expectations for classroom interactions\n• Provides opportunities for teacher-student interactions\n• Provides opportunities for student interactions\n \n","…and\n• Maintains positive interactions with and among students\n\n","…and\n• Collaborates with students to establish a positive learning climate of openness, respectful interactions, support, and inquiry\n• Organizes student learning teams for the purpose of developing cooperation, collaboration, and student leadership\n\n"]
["3.3  (O) Classroom Management Strategies"]
[null,null,"Preservice (Practicum)",null,null,null,"Student Teaching/Intern","Career Teacher"]
[]
["3.3 \n\nO\nB\nS\nE\nR\nV\nA\nT\nI\nO\nN","Performance Expectation","Not Scored\n\n(NS)","Not Effective\n\n(0)","Beginning\n\n(1)","Developing\n\n(2)","Preservice Effective/\nUSBE Emerging Effective\n(3)","Inservice Effective\n\n(3)"]
[null,"Utilizes positive classroom management strategies, including the resources of time, space, and attention, effectively.\n\nUETS 3c, 3d\nInTASC 3\nCAEP 1.1, 3.5","• The evaluator selected not to gather evidence and score this item for this formative assessment","• Uses time, space, and attention ineffectively\n• Does not use management plan\n","• Plans classroom management strategies\n• Plans instruction for the allotted time\n\n\n","…and\n• Paces instruction appropriate for student learning\n• Addresses inappropriate student behavior","…and \n• Implements classroom management strategies \n• Encourages learners to be engaged with the content \n• Manages time, space, and attention to increase participation","…and\n• Uses differentiated management strategies focusing on individual learner need\n• Gains and maintains student attention through active participation\n• Adjusts instructional pacing and transitions to maintain learner participation and support learning\n\n"]
["INSTRUCTIONAL PRACTICE\nEffective instructional practice requires that teachers have a deep and flexible understanding of their content areas and be able to draw upon content knowledge as they work with learners to access information, apply knowledge in real-world settings, and address meaningful issues. They must also understand and integrate assessment, planning, and instructional strategies in coordinated and engaging ways to assure learner mastery of the content."]
["STANDARD 4:  Content Knowledge",null,null,null,null,"SCORE"]
["  4.1  (O) Accurate, Multiple Representations"]
[null,null,"Preservice (Practicum)",null,null,null,"Student Teaching/Intern","Career Teacher"]
[]
["4.1\n\nO\nB\nS\nE\nR\nV\nA\nT\nI\nO\nN","Performance Expectation","Not Scored\n\n(NS)","Not Effective\n\n(0)","Beginning\n\n(1)","Developing\n\n(2)","Preservice Effective/\nUSBE Emerging Effective\n(3)","Inservice Effective\n\n(3)"]
[null,"Bases instruction on accurate content knowledge using multiple representations of concepts and appropriate academic language.\n \nUETS 4a, 4c, 4d, 4e, 7c\nInTASC 4 and 5\nCAEP 1.1, 1.3, 1.4, 3.4, 3.5\n\n","• The evaluator selected not to gather evidence and score this item for this formative assessment","• Provides inaccurate lesson content\n\n","• Demonstrate content knowledge\n\n","…and \n• Uses more than one way to explain concepts\n• Uses accurate academic language\n","…and \n• Models critical and/or creative thinking in the content area\n• Supports learner use of content-specific academic language\n\n","…and\n• Uses multiple representations and explanations of concepts to deepen each learner’s understanding\n• Models and expects learners to evaluate, create, and think critically about the content\n• Analyzes learner errors and misconceptions in order to redirect, focus, and deepen learning\n\n"]
["STANDARD 5:  Assessment",null,null,null,null,"SCORE"]
["5.1  (C) Assesses Effectiveness of Instruction"]
[null,null,"Preservice (Practicum)",null,null,null,"Student Teaching/Intern","Career Teacher"]
[]
["5.1\n\nC\nO\nN\nS\nU\nL\nT\nA\nT\nI\nO\nN","Performance Expectation","Not Scored\n\n(NS)","Not Effective\n\n(0)","Beginning\n\n(1)","Developing\n\n(2)","Preservice Effective/\nUSBE Emerging Effective\n(3)","Inservice Effective\n\n(3)"]
[null,"Uses data sources to assess the effectiveness of instruction and to make adjustments in planning and instruction.\n\nUETS 5a, 5c, 5d, 8a\nINTASC 6 \nCAEP 1.1, 1.2, 3.5\n\n\n\n","• The evaluator selected not to gather evidence and score this item for this formative assessment","• Does not collect or use data \n\n","• Collects data \n","…and\n• Analyzes data to document student learning \n• Uses formative assessment during instruction\n\n","…and\n• Uses data to evaluate the outcomes of teaching\n• Monitors learning and adjusts instruction during the lesson\n","…and \n• Targets instructional, intervention, and enrichment strategies based on data\n• Uses multiple formative and summative assessments to make ongoing adjustments in instruction based on a wide range of individual learner needs\n"]
["5.2  (C) Elements of Quality Work"]
[null,null,"Preservice (Practicum)",null,null,null,"Student Teaching/Intern","Career Teacher"]
[]
["5.2\n\nC\nO\nN\nS\nU\nL\nT\nA\nT\nI\nO\nN","Performance Expectation","Not Scored\n\n(NS)","Not Effective\n\n(0)","Beginning\n\n(1)","Developing\n\n(2)","Preservice Effective/\nUSBE Emerging Effective\n(3)","Inservice Effective\n\n(3)"]
[null,"Documents student progress and provides descriptive feedback to student, parent/guardian, and other stakeholders in a variety of ways.\n\nUETS 5b, 5e\nINTASC 6\nCAEP 1.1, 3.5","• The evaluator selected not to gather evidence and score this item for this formative assessment","• Does not document learner progress\n•Does not provide feedback\n\n","• Documents learner progress\n• Provides general feedback\n\n","…and \n• Provides specific and timely feedback","…and \n• Provides feedback to individuals and groups based on identified elements of quality work (e.g. rubrics, checklists, exemplars)\n• Shares assessment feedback with parents/guardians under the direction of the mentor teacher","…and\n• Uses a variety of effective formats to document and provide feedback on learner progress\n• Initiates ongoing, open communication between home and school about learner progress\n• Provides timely descriptive, and specific feedback to individuals and groups\n"]
["5.3  (C) Documents Progress, Provides Feedback"]
[null,null,"Preservice (Practicum)",null,null,null,"Student Teaching/Intern","Career Teacher"]
[]
["5.3\n\nC\nO\nN\nS\nU\nL\nT\nA\nT\nI\nO\nN","Performance Expectation","Not Scored\n\n(NS)","Not Effective\n\n(0)","Beginning\n\n(1)","Developing\n\n(2)","Preservice Effective/\nUSBE Emerging Effective\n(3)","Inservice Effective\n\n(3)"]
[null,"Designs or selects pre-assessments, formative, and summative assessments in a variety of formats that align to learning objectives and engage the learner in demonstrating knowledge and skills. \n\nUETS 5a\nInTASC 6\nCAEP 1.1, 3.5\n\n","• The evaluator selected not to gather evidence and score this item for this formative assessment","• Does not assess student learning \n• Assessment is inappropriate \n\n","• Lesson plan includes an assessment\n","…and\n• Designs, selects, or adapts assessments that align with learning objectives\n","…and \n• Uses a variety of assessment formats to evaluate student learning\n","…and\n• Designs assessments in a variety of formats that match learning objectives and Utah Common Core standards\n• Selected assessment(s) differentiate levels of student learning allowing the teacher to reteach missed concepts \n•  Selected assessment(s) accounts for individual learning styles and multicultural differences of learners minimizing bias\n"]
["STANDARD 6:  Instructional Planning",null,null,null,null,"SCORE"]
["6.1  (C) Knowledge and Reference  of Utah Core Standards"]
[null,null,"Preservice (Practicum)",null,null,null,"Student Teaching/Intern","Career Teacher"]
[]
["6.1\n\nC\nO\nN\nS\nU\nL\nT\nA\nT\nI\nO\nN","Performance Expectation","Not Scored\n\n(NS)","Not Effective\n\n(0)","Beginning\n\n(1)","Developing\n\n(2)","Preservice Effective/\nUSBE Emerging Effective\n(3)","Inservice Effective\n\n(3)"]
[null,"Demonstrates knowledge of the Utah Core Standards and references them in short- and long-term planning.\n\nUETS 4b, 6a\nInTASC 7\nCAEP 1.1, 1.3, 1.4, 3.4, 3.5\n","• The evaluator selected not to gather evidence and score this item for this formative assessment","• Unfamiliar with Utah Core Standards\n• Instructional materials do not align with standards \n• No evidence of learning objectives \n• No evidence of planning\n\n\n\n","• Includes Utah Core Standards in lesson plans\n\n\n","…and \n• Includes appropriate learning objectives based on Utah Core Standards\n\n","…and \n• Aligns daily instruction with Utah Core Standards \n• Selects instructional materials that support standards \n","…and\n• Plans and implements short- and long-term learning experiences that reference Utah Core Standards learning objectives and content\n• Organizes and adapts learning experiences and materials to align with the Utah Core Standards\n\n\n"]
["6.2  (C) Integrates Cross-disciplinary Skills"]
[null,null,"Preservice (Practicum)",null,null,null,"Student Teaching/Intern","Career Teacher"]
[]
["6.2\n\nC\nO\nN\nS\nU\nL\nT\nA\nT\nI\nO\nN","Performance Expectation","Not Scored\n\n(NS)","Not Effective\n\n(0)","Beginning\n\n(1)","Developing\n\n(2)","Preservice Effective/\nUSBE Emerging Effective\n(3)","Inservice Effective\n\n(3)"]
[null,"Integrates cross-disciplinary skills into instruction to purposefully engage learners in applying content knowledge.\n\nUETS 6b, 6e\nInTASC 7\nCAEP 1.1, 1.4, 3.4, 3.5","• The evaluator selected not to gather evidence and score this item for this formative assessment","• Does not acknowledge the importance of integrating cross-disciplinary skills (e.g., critical thinking, problem solving, creativity, communication)\n\n\n\n","• Acknowledges the importance of integrating cross-disciplinary skills\n\n","…and\n• Plans lessons in which cross-disciplinary skills are modeled\n\n","…and\n• Plans lessons that engage students in using cross-disciplinary skills\n","…and\n• Plans lessons that demonstrate how knowledge and skills transfer to other content areas\n• Designs learning experiences that promote the application of knowledge in multiple content areas\n\n\n"]
["STANDARD 7:  Instructional Strategies",null,null,null,null,"SCORE"]
["7.1  (O) Range of Appropriate Instructional Strategies"]
[null,null,"Preservice (Practicum)",null,null,null,"Student Teaching/Intern","Career Teacher"]
[]
["7.1\n\nO\nB\nS\nE\nR\nV\nA\nT\nI\nO\nN","Performance Expectation","Not Scored\n\n(NS)","Not Effective\n\n(0)","Beginning\n\n(1)","Developing\n\n(2)","Preservice Effective/\nUSBE Emerging Effective\n(3)","Inservice Effective\n\n(3)"]
[null,"Practices a range of developmentally, culturally, and linguistically appropriate instructional strategies to meet the needs of individuals and groups of learners.\n\nUETS 2b, 2e, 6c, 7a, 7b\nInTASC 8\nCAEP 1.1, 1.2, 1.4, 3.5\nCross-cutting diversity","• The evaluator selected not to gather evidence and score this item for this formative assessment","• Inappropriate strategies\n• No variety of strategies\n• Insensitivity to individual differences\n• No adjustments to instruction\n\n\n\n\n\n\n","• Uses instructional strategies focused on lesson objectives\n\n\n","…and \n• Incorporates various instructional strategies\n\n\n\n","…and \n• Identifies each learner's diverse learning strengths and needs\n• Attempts to adjust instruction based on the developmental, culture, or linguistic needs of the students in individual or small group settings\n","…and\n• Monitors and adjusts instruction in response to developmental, cultural, and linguistic needs of individuals and groups of learners\n• Enhances instruction by using a variety of appropriate strategies\n\n\n"]
["7.2  (O) Opportunities for Students to Develop Skills"]
[null,null,"Preservice (Practicum)",null,null,null,"Student Teaching/Intern","Career Teacher"]
[]
["7.2\n\nO\nB\nS\nE\nR\nV\nA\nT\nI\nO\nN","Performance Expectation","Not Scored\n\n(NS)","Not Effective\n\n(0)","Beginning\n\n(1)","Developing\n\n(2)","Preservice Effective/\nUSBE Emerging Effective\n(3)","Inservice Effective\n\n(3)"]
[null,"Provides multiple opportunities for students to develop higher-order and meta-cognitive skills.\n\nUETS 3f, 6d, 7e\nInTASC 8\nCAEP 1.1, 1.2, 1.4, 3.4, 3.5","• The evaluator selected not to gather evidence and score this item for this formative assessment","• Is not familiar with higher-order and meta-cognitive skills \n\n\n","• Uses instructional strategies focused on lower-order thinking skills (e.g., uses memorization, recall, and rote knowledge for most assessments/ tasks)\n\n","…and \n• Uses instructional strategies in which higher-order thinking skills are modeled \n\n","…and \n• Uses instructional strategies that engage learners in higher-order thinking","…and\n• Provides learners with explicit instruction to analyze, synthesize, and make decisions\n• Provides opportunities for learners to reflect on their own learning\n• Provides opportunities for student to generate and evaluate new ideas\n\n\n"]
["7.3  (O) Expands Learner's Communication Skills"]
[null,null,"Preservice (Practicum)",null,null,null,"Student Teaching/Intern","Career Teacher"]
[]
["7.3\n\nO\nB\nS\nE\nR\nV\nA\nT\nI\nO\nN","Performance Expectation","Not Scored\n\n(NS)","Not Effective\n\n(0)","Beginning\n\n(1)","Developing\n\n(2)","Preservice Effective/\nUSBE Emerging Effective\n(3)","Inservice Effective\n\n(3)"]
[null,"Supports and expands each learner’s communication skills through reading, writing, listening, and speaking.\n\nUETS 3f, 7d\nInTASC 8\nCAEP 1.1, 1.4, 3.4, 3.5","• The evaluator selected not to gather evidence and score this item for this formative assessment","• Communication skills are not taught or developed specifically\n• No opportunities for learner communication\n\n\n\n","• Engages learners in listening and/or reading during instruction ","…and \n• Allows learners to contribute through speaking or writing as part of instruction\n","…and \n• Provides opportunities for learners to practice communication skills, including reading, writing, listening, and speaking","…and\n• Teaches content-specific reading, writing, listening, and speaking skills for effective communication\n• Provides opportunities for learners to expand communication skills to articulate thoughts and ideas \n\n\n"]
["7.4  (O) Variety of Effective Technology and Resources"]
[null,null,"Preservice (Practicum)",null,null,null,"Student Teaching/Intern","Career Teacher"]
[]
["7.4\n\nO\nB\nS\nE\nR\nV\nA\nT\nI\nO\nN","Performance Expectation","Not Scored\n\n(NS)","Not Effective\n\n(0)","Beginning\n\n(1)","Developing\n\n(2)","Preservice Effective/\nUSBE Emerging Effective\n(3)","Inservice Effective\n\n(3)"]
[null,"Uses a variety of available and appropriate technology and/or resources to support learning.\n\nUETS 3e, 7f, 7g\nInTASC 8\nCAEP 1.1, 1.3, 1.5, 3.4, 3.5\nCross-cutting technology","• The evaluator selected not to gather evidence and score this item for this formative assessment","• Does not use available technology \n\n\n","• Uses teacher-centered technologies\n\n\n","…and \n• Uses technology to engage students\n\n","…and\n• Uses student-centered technologies in ways that promote learning","…and\n• Evaluates and uses various appropriate technologies to support content and skill development\n• Incorporates appropriate technology and/or resources to extend learner content knowledge and skill development\n\n\n"]
["7.5  (O) Finding and Using Information to Solve Problems"]
[null,null,"Preservice (Practicum)",null,null,null,"Student Teaching/Intern","Career Teacher"]
[]
["7.5\n\nO\nB\nS\nE\nR\nV\nA\nT\nI\nO\nN","Performance Expectation","Not Scored\n\n(NS)","Not Effective\n\n(0)","Beginning\n\n(1)","Developing\n\n(2)","Preservice Effective/\nUSBE Emerging Effective\n(3)","Inservice Effective\n\n(3)"]
[null,"Develops learners’ abilities to find and use information to solve real-world problems.\n\nUETS 7f, 7g\nInTASC 8\nCAEP 1.1, 1.3, 1.4, 3.4, 3.5","• The evaluator selected not to gather evidence and score this item for this formative assessment","• Sources not appropriate for instruction \n\n\n","• Provides multiple, appropriate sources of  information","…and \n• Uses multiple, appropriate sources of information during instruction ","…and \n• Engages learners in using multiple, appropriate sources of information","…and\n• Develops each learner’s ability to find, understand, and analyze diverse sources of information\n• Provides opportunities for learners to use multiple sources of information for quality and accuracy\n\n"]
["PROFESSIONAL RESPONSIBILITY\nCreating and supporting safe, productive learning environments that result in learners achieving at the highest levels is a teacher's primary responsibility. To do this well, teachers must engage in meaningful, intensive professional learning by regularly examining practice through ongoing study, self-reflection, and collaboration. They must be aware of legal and ethical requirements and engage in the highest levels of professional and ethical conduct."]
["STANDARD 8:  Reflection and Continuous Growth",null,null,null,null,"SCORE"]
["8.1 (C) Adapts and Improves Practice"]
[null,null,"Preservice (Practicum)",null,null,null,"Student Teaching/Intern","Career Teacher"]
[]
["8.1\n\nC\nO\nN\nS\nU\nL\nT\nA\nT\nI\nO\nN","Performance Expectation","Not Scored\n\n(NS)","Not Effective\n\n(0)","Beginning\n\n(1)","Developing\n\n(2)","Preservice Effective/\nUSBE Emerging Effective\n(3)","Inservice Effective\n\n(3)"]
[null,"Adapts and improves practice based on reflection and new learning.\n\nUETS 8b, 8c, 8d, 8e\nInTASC 9\nCAEP 1.1, 1.2, 3.3, 3.4, 3.5","• The evaluator selected not to gather evidence and score this item for this formative assessment","• Does not reflect on instruction \n• Does not accept feedback","• Attends to feedback from mentor teacher and supervisor ","…and \n• Develops a plan to improve practice in response to feedback\n• Self-reflects on lesson effectiveness \n","…and \n• Applies feedback from mentor teachers, supervisors, and self-reflection to improve teaching and learning in the classroom","…and\n• Applies current professional learning to classroom practice, consistent with its intent\n• Acknowledges the impact of bias on own teaching\n• Collaborates with supervisor to develop a professional learning plan based on data and the Utah Effective Teaching Standards\n"]
["STANDARD 9:  Leadership and Collaboration",null,null,null,null,"SCORE"]
["  9.1  (C) Participates and Collaborates in Decision Making"]
[null,null,"Preservice (Practicum)",null,null,null,"Student Teaching/Intern","Career Teacher"]
[]
["9.1\n\nC\nO\nN\nS\nU\nL\nT\nA\nT\nI\nO\nN","Performance Expectation","Not Scored\n\n(NS)","Not Effective\n\n(0)","Beginning\n\n(1)","Developing\n\n(2)","Preservice Effective/\nUSBE Emerging Effective\n(3)","Inservice Effective\n\n(3)"]
[null,"Participates actively in decision-making processes, while building a shared culture that affects the school and larger educational community.\n\nUETS 9a, 9b, 9d, 9e\nInTASC 10\nCAEP 1.1, 3.3, 3.5\n\n\n\n","• The evaluator selected not to gather evidence and score this item for this formative assessment","• Fails to fulfill required duties (e.g., contracted school day, etc.)\n• Displays lack of respect for colleagues/ classmates\n• Blames others, including students, for lack of success\n\n\n","• Participates in required school activities \n• Communicates with colleagues/ classmates when required \n\n\n\n","…and \n• Attends and participates in team meetings and other collaborative opportunities, when invited\n","…and \n• Acknowledges own actions that lead to success of all learners\n• Maintains cordial professional relationships with colleagues/classmates\n\n","…and\n• Participates with colleagues and collaborates in decision making\n• Accepts responsibility for the success of all learners\n\n"]
["  9.2  (C) Student is an Advocate"]
[null,null,"Preservice (Practicum)",null,null,null,"Student Teaching/Intern","Career Teacher"]
[]
["9.2\n\nC\nO\nN\nS\nU\nL\nT\nA\nT\nI\nO\nN","Performance Expectation","Not Scored\n\n(NS)","Not Effective\n\n(0)","Beginning\n\n(1)","Developing\n\n(2)","Preservice Effective/\nUSBE Emerging Effective\n(3)","Inservice Effective\n\n(3)"]
[null,"Advocates for the learners, the school, the community, and the profession.\n\nUETS 9c\nInTASC 9\nCAEP 1.1, 3.3, 3.5","• The evaluator selected not to gather evidence and score this item for this formative assessment","• Lacks respect for learners and families\n• Communicates negatively about learners, families, or the profession\n• Interacts inappropriately with learners, families, or colleagues/ classmates\n\n\n\n","• Respects learners, families, and the profession\n• Communicates positively about learners, families, and the profession\n• Interacts appropriately with learners, classmates, colleagues, and families\n\n","…and\n• Positively represents the profession, school, and university \n\n","…and \n• Contributes to learner success by responding to learner and/or family/community concerns ","…and\n• Advocates for all students to be prepared for high school graduation and future school work success\n• Seeks opportunities to make a positive impact on teaching quality, school improvement, and student achievement \n\n\n"]
["STANDARD 10: Professional Learning and Ethical Practices",null,null,null,null,"SCORE"]
["  10.1  (C) Complies With All Policies, Rules & Laws"]
["10.1\n\nC\nO\nN\nS\nU\nL\nT\nA\nT\nI\nO\nN","Performance Expectation","NO",null,"YES"]
[null,"Is responsible for compliance with university policies, federal and state laws, State Board of Education administrative rules, state assessment policies, local board policies, and supervisory directives.\n\nUETS 10a, 5f\nInTASC 9\nCAEP 1.1, 1.4, 3.3, 3.5, 3.6\n\n\n","• Does not understand nor adheres to university policies, federal and state laws, State Board of Education rules, state and local policies, supervisory directives, professional, moral, and ethical conduct and does not hold others accountable to do the same ",null," • Understands, adheres to, and upholds university polices, federal and state laws, State Board of Education rules, state and local policies, supervisory directives, professional, moral, and ethical conduct and holds others accountable to do the same\n"]
["  10.2  (C) Complies with State Board of Education Rule R277-530"]
["10.2\n\nC\nO\nN\nS\nU\nL\nT\nA\nT\nI\nO\nN","Performance Expectation","NO",null,"YES"]
[null,"Is responsible for compliance with all requirements of State Board of Education Rule R277-515 at all levels of teacher development.\n\nUETS 10b\nInTASC 9\nCAEP 1.1, 1.4, 3.3, 3.5, 3.6","• Does not avoid actions that may adversely affect ability to perform assigned duties and carry out the responsibilities of the profession, including role-model responsibilities\n• Does not know or understand professional requirements\n• Does not complete all requirements for clinical experiences\n• Does not maintain instructional and non-instructional records\n• Does not maintain integrity and confidentiality in matters concerning student records and collegial consultation\n• Develops inappropriate student-teacher relationships as defined in rules, law, and policy\n• Does not maintain professional demeanor and appearance as defined by university and the local education agency (LEA)\n",null,"• Avoids actions that may adversely affect ability to perform assigned duties and carry out the responsibilities of the profession, including role-model responsibilities\n• Takes responsibility to understand professional requirements and to complete all requirements for clinical experience\n• Takes responsibility to understand professional requirements, to maintain a current Utah Educator License, and to complete license upgrades, renewals, and additional requirements in a timely way\n• Maintains accurate instructional and non-instructional records\n• Maintains integrity and confidentiality in matters concerning student records and collegial consultation\n• Develops appropriate student-teacher relationships as defined in rules, law, and policy\n• Maintains professional demeanor and appearance as defined by university and the local education agency (LEA)\n"]
["Strengths:"]
["Suggestions:"]
["Candidate's Goal(s):"]
["Evaluator's Goal(s):"]
["Other:"]

{"sheet":"Summary Sheet","index":3,"n_rows":44,"n_cols":1915,"rows_kept":44,"cut":false,"hidden":false,"merged":[[19,0,19,1],[20,0,20,1],[21,0,21,1],[22,0,22,1],[15,0,15,1],[16,0,16,1],[17,0,17,1],[18,0,18,1],[10,0,10,1],[11,0,11,1],[12,0,12,1],[13,0,13,1],[14,0,14,1],[5,0,5,1],[6,0,6,1],[7,0,7,1],[9,0,9,1],[8,0,8,1],[0,0,0,1],[1,0,1,1],[2,0,2,1],[3,0,3,1],[4,0,4,1],[23,0,23,1],[24,0,24,1],[25,0,25,1],[26,0,26,1],[27,0,27,1],[28,0,28,1],[29,0,29,1],[30,0,30,1],[31,0,31,1],[43,0,43,1],[38,0,38,1],[41,2,41,14],[42,2,42,14],[43,2,43,14],[32,0,32,1],[39,0,39,1],[33,0,33,1],[34,0,34,1],[35,0,35,1],[36,0,36,1],[37,0,37,1],[40,0,40,1],[41,0,41,1],[42,0,42,1]]}
[]
[{"$f":"'Cycle 1'!B2& CHAR(10)&\" Grade: \" &'Cycle 1'!E4","v":"\n Grade: "},null,"Average Score","Adjusted Score",{"$f":"IF(AND(COUNTA('Cycle 1'!$G$2)<>0,COUNTA('Cycle 1'!$B$8)<>0),TEXT('Cycle 1'!$G$2, \"mm/dd/yy\")&\" - \"&'Cycle 1'!$B$8,\"--\")","v":"--"},{"$f":"IF(AND(COUNTA('Cycle 2'!$G$2)<>0,COUNTA('Cycle 2'!$B$8)<>0),TEXT('Cycle 2'!$G$2, \"mm/dd/yy\")&\" - \"&'Cycle 2'!$B$8,\"--\")","v":"--"},{"$f":"IF(AND(COUNTA('Cycle 3'!$G$2)<>0,COUNTA('Cycle 3'!$B$8)<>0),TEXT('Cycle 3'!$G$2, \"mm/dd/yy\")&\" - \"&'Cycle 3'!$B$8,\"--\")","v":"--"},{"$f":"IF(AND(COUNTA('Cycle 4'!$G$2)<>0,COUNTA('Cycle 4'!$B$8)<>0),TEXT('Cycle 4'!$G$2, \"mm/dd/yy\")&\" - \"&'Cycle 4'!$B$8,\"--\")","v":"--"}]
["The Learner & Learning",null,{"$f":"\"\"","v":""},{"$f":"\"\"","v":""},{"$f":"IF(OR(E5=\"\",E6=\"\",E8=\"\",E10=\"\",E11=\"\",E12=\"\"),\"\",(SUM(E5:E6,E8,E10:E12)&\"/\"&3*COUNTIFS(E5:E12,\">=0\",E5:E12,\"<>\"\"\")))","v":""},{"$f":"IF(OR(F5=\"\",F6=\"\",F8=\"\",F10=\"\",F11=\"\",F12=\"\"),\"\",(SUM(F5:F6,F8,F10:F12)&\"/\"&3*COUNTIFS(F5:F12,\">=0\",F5:F12,\"<>\"\"\")))","v":""},{"$f":"IF(OR(G5=\"\",G6=\"\",G8=\"\",G10=\"\",G11=\"\",G12=\"\"),\"\",(SUM(G5:G6,G8,G10:G12)&\"/\"&3*COUNTIFS(G5:G12,\">=0\",G5:G12,\"<>\"\"\")))","v":""},{"$f":"IF(OR(H5=\"\",H6=\"\",H8=\"\",H10=\"\",H11=\"\",H12=\"\"),\"\",(SUM(H5:H6,H8,H10:H12)&\"/\"&3*COUNTIFS(H5:H12,\">=0\",H5:H12,\"<>\"\"\")))","v":""},"","","","","","","","","","","","","","","","","","","","","","","","","","","","","","","","","","","","","","","","","","","","","","","","","","","","","","","","","","","","","",{"$f":"IF(OR(BR5=\"\",BR6=\"\",BR8=\"\",BR10=\"\",BR11=\"\",BR12=\"\"),\"\",(SUM(BR5:BR6,BR8,BR10:BR12)&\"/\"&3*COUNTIFS(BR5:BR12,\">=0\",BR5:BR12,\"<>\"\"\")))","v":""},"","","","","","","","","","","","","","","","","","","","","","","","","","","","","","","","","","",{"$f":"IFERROR(AVERAGE(DA5:DA6,DA8,DA10:DA12),\"\")","v":""},"","","","","","","","","","","","","","","","","","","","","","","","","","","","","","","","","","","","","","",{"$f":"IFERROR(AVERAGE(EN5:EN6,EN8,EN10:EN12),\"\")","v":""},"","","","","","","","","","","","","","","","","","","","","","","","","","","","","","","","","","","","","","","","","","","","","","","","","","","","","","","","","","","","","","","",{"$f":"IFERROR(AVERAGE(GZ5:GZ6,GZ8,GZ10:GZ12),\"\")","v":""},"","","","","","","","","","","","","","","","","","","","","","","","","","","","","","","","","","","","","","","","","","","","","","","","","","","","","","","","","","","","","","","",{"$f":"IFERROR(AVERAGE(JL5:JL6,JL8,JL10:JL12),\"\")","v":""},"","","","","","","","","","","","","","","","","","","","","","","","","","","","","","","","","","","","","","","","","","","","","","","","","","","","","","","","","","","","","","","",{"$f":"IFERROR(AVERAGE(LX5:LX6,LX8,LX10:LX12),\"\")","v":""},"","","","","","","","","","","","","","","","","","","","","","","","","","","","","","","","","","","","","","","","","","","","","","","","","","","","","","","","","","","","","","","",{"$f":"IFERROR(AVERAGE(OJ5:OJ6,OJ8,OJ10:OJ12),\"\")","v":""},"","","","","","","","","","","","","","","","","","","","","","","","","","","","","","","","","","","","","","","","","","","","","","","","","","","","","","","","","","","","","","","",{"$f":"IFERROR(AVERAGE(QV5:QV6,QV8,QV10:QV12),\"\")","v":""},"","","","","","","","","","","","","","","","","","","","","","","","","","","","","","","","","","","","","","","","","","","","","","","","","","","","","","","","","","","","","","","",{"$f":"IFERROR(AVERAGE(TH5:TH6,TH8,TH10:TH12),\"\")","v":""},"","","","","","","","","","","","","","","","","","","","","","","","","","","","","","","","","","","","","","","","","","","","","","","","","","","","","","","","","","","","","","","",{"$f":"IFERROR(AVERAGE(VT5:VT6,VT8,VT10:VT12),\"\")","v":""},"","","","","","","","","","","","","","","","","","","","","","","","","","","","","","","","","","","","","","","","","","","","","","","","","","","","","","","","","","","","","","","",{"$f":"IFERROR(AVERAGE(YF5:YF6,YF8,YF10:YF12),\"\")","v":""},"","",null,{"$f":"IFERROR(AVERAGE(YJ5:YJ6,YJ8,YJ10:YJ12),\"\")","v":""},null,"","","","",null,"",null,null,null,"",null,"","","","",null,"",null,null,null,"",null,"","","","",null,"",null,null,null,"",null,"","","","",null,"",null,null,null,"",null,"","","","",null,"",null,null,null,{"$f":"IFERROR(AVERAGE(AAM5:AAM6,AAM8,AAM10:AAM12),\"\")","v":""},null,"","","","",null,"",null,null,null,"",null,"","","","",null,"",null,null,null,"",null,"","","",""]
["STANDARD 1: Learner Development",null,{"$f":"\"\"","v":""},{"$f":"\"\"","v":""},{"$f":"\"\"","v":""},{"$f":"\"\"","v":""},{"$f":"\"\"","v":""},{"$f":"\"\"","v":""},{"$f":"\"\"","v":""},{"$f":"\"\"","v":""},{"$f":"\"\"","v":""},{"$f":"\"\"","v":""},{"$f":"\"\"","v":""},{"$f":"\"\"","v":""},{"$f":"\"\"","v":""},{"$f":"\"\"","v":""},{"$f":"\"\"","v":""},{"$f":"\"\"","v":""},{"$f":"\"\"","v":""},{"$f":"\"\"","v":""},{"$f":"\"\"","v":""},{"$f":"\"\"","v":""},{"$f":"\"\"","v":""},{"$f":"\"\"","v":""},{"$f":"\"\"","v":""},{"$f":"\"\"","v":""},{"$f":"\"\"","v":""},{"$f":"\"\"","v":""},{"$f":"\"\"","v":""},{"$f":"\"\"","v":""},{"$f":"\"\"","v":""},{"$f":"\"\"","v":""},{"$f":"\"\"","v":""},{"$f":"\"\"","v":""},{"$f":"\"\"","v":""},{"$f":"\"\"","v":""},{"$f":"\"\"","v":""},{"$f":"\"\"","v":""},{"$f":"\"\"","v":""},{"$f":"\"\"","v":""},{"$f":"\"\"","v":""},{"$f":"\"\"","v":""},{"$f":"\"\"","v":""},{"$f":"\"\"","v":""},{"$f":"\"\"","v":""},{"$f":"\"\"","v":""},{"$f":"\"\"","v":""},{"$f":"\"\"","v":""},{"$f":"\"\"","v":""},{"$f":"\"\"","v":""},{"$f":"\"\"","v":""},{"$f":"\"\"","v":""},{"$f":"\"\"","v":""},{"$f":"\"\"","v":""},{"$f":"\"\"","v":""},{"$f":"\"\"","v":""},{"$f":"\"\"","v":""},{"$f":"\"\"","v":""},{"$f":"\"\"","v":""},{"$f":"\"\"","v":""},{"$f":"\"\"","v":""},{"$f":"\"\"","v":""},{"$f":"\"\"","v":""},{"$f":"\"\"","v":""},{"$f":"\"\"","v":""},{"$f":"\"\"","v":""},{"$f":"\"\"","v":""},{"$f":"\"\"","v":""},{"$f":"\"\"","v":""},{"$f":"\"\"","v":""},{"$f":"\"\"","v":""},{"$f":"\"\"","v":""},{"$f":"\"\"","v":""},{"$f":"\"\"","v":""},{"$f":"\"\"","v":""},{"$f":"\"\"","v":""},{"$f":"\"\"","v":""},{"$f":"\"\"","v":""},{"$f":"\"\"","v":""},{"$f":"\"\"","v":""},{"$f":"\"\"","v":""},{"$f":"\"\"","v":""},{"$f":"\"\"","v":""},{"$f":"\"\"","v":""},{"$f":"\"\"","v":""},{"$f":"\"\"","v":""},{"$f":"\"\"","v":""},{"$f":"\"\"","v":""},{"$f":"\"\"","v":""},{"$f":"\"\"","v":""},{"$f":"\"\"","v":""},{"$f":"\"\"","v":""},{"$f":"\"\"","v":""},{"$f":"\"\"","v":""},{"$f":"\"\"","v":""},{"$f":"\"\"","v":""},{"$f":"\"\"","v":""},{"$f":"\"\"","v":""},{"$f":"\"\"","v":""},{"$f":"\"\"","v":""},{"$f":"\"\"","v":""},{"$f":"\"\"","v":""},{"$f":"\"\"","v":""},{"$f":"\"\"","v":""},{"$f":"\"\"","v":""},{"$f":"\"\"","v":""},{"$f":"\"\"","v":""},{"$f":"\"\"","v":""},{"$f":"\"\"","v":""},{"$f":"\"\"","v":""},{"$f":"\"\"","v":""},{"$f":"\"\"","v":""},{"$f":"\"\"","v":""},{"$f":"\"\"","v":""},{"$f":"\"\"","v":""},{"$f":"\"\"","v":""},{"$f":"\"\"","v":""},{"$f":"\"\"","v":""},{"$f":"\"\"","v":""},{"$f":"\"\"","v":""},{"$f":"\"\"","v":""},{"$f":"\"\"","v":""},{"$f":"\"\"","v":""},{"$f":"\"\"","v":""},{"$f":"\"\"","v":""},{"$f":"\"\"","v":""},{"$f":"\"\"","v":""},{"$f":"\"\"","v":""},{"$f":"\"\"","v":""},{"$f":"\"\"","v":""},{"$f":"\"\"","v":""},{"$f":"\"\"","v":""},{"$f":"\"\"","v":""},{"$f":"\"\"","v":""},{"$f":"\"\"","v":""},{"$f":"\"\"","v":""},{"$f":"\"\"","v":""},{"$f":"\"\"","v":""},{"$f":"\"\"","v":""},{"$f":"\"\"","v":""},{"$f":"\"\"","v":""},{"$f":"\"\"","v":""},{"$f":"\"\"","v":""},{"$f":"\"\"","v":""},{"$f":"\"\"","v":""},{"$f":"\"\"","v":""},{"$f":"\"\"","v":""},{"$f":"\"\"","v":""},{"$f":"\"\"","v":""},{"$f":"\"\"","v":""},{"$f":"\"\"","v":""},{"$f":"\"\"","v":""},{"$f":"\"\"","v":""},{"$f":"\"\"","v":""},{"$f":"\"\"","v":""},{"$f":"\"\"","v":""},{"$f":"\"\"","v":""},{"$f":"\"\"","v":""},{"$f":"\"\"","v":""},{"$f":"\"\"","v":""},{"$f":"\"\"","v":""},{"$f":"\"\"","v":""},{"$f":"\"\"","v":""},{"$f":"\"\"","v":""},{"$f":"\"\"","v":""},{"$f":"\"\"","v":""},{"$f":"\"\"","v":""},{"$f":"\"\"","v":""},{"$f":"\"\"","v":""},{"$f":"\"\"","v":""},{"$f":"\"\"","v":""},{"$f":"\"\"","v":""},{"$f":"\"\"","v":""},{"$f":"\"\"","v":""},{"$f":"\"\"","v":""},{"$f":"\"\"","v":""},{"$f":"\"\"","v":""},{"$f":"\"\"","v":""},{"$f":"\"\"","v":""},{"$f":"\"\"","v":""},{"$f":"\"\"","v":""},{"$f":"\"\"","v":""},{"$f":"\"\"","v":""},{"$f":"\"\"","v":""},{"$f":"\"\"","v":""},{"$f":"\"\"","v":""},{"$f":"\"\"","v":""},{"$f":"\"\"","v":""},{"$f":"\"\"","v":""},{"$f":"\"\"","v":""},{"$f":"\"\"","v":""},{"$f":"\"\"","v":""},{"$f":"\"\"","v":""},{"$f":"\"\"","v":""},{"$f":"\"\"","v":""},{"$f":"\"\"","v":""},{"$f":"\"\"","v":""},{"$f":"\"\"","v":""},{"$f":"\"\"","v":""},{"$f":"\"\"","v":""},{"$f":"\"\"","v":""},{"$f":"\"\"","v":""},{"$f":"\"\"","v":""},{"$f":"\"\"","v":""},{"$f":"\"\"","v":""},{"$f":"\"\"","v":""},{"$f":"\"\"","v":""},{"$f":"\"\"","v":""},{"$f":"\"\"","v":""},{"$f":"\"\"","v":""},{"$f":"\"\"","v":""},{"$f":"\"\"","v":""},{"$f":"\"\"","v":""},{"$f":"\"\"","v":""},{"$f":"\"\"","v":""},{"$f":"\"\"","v":""},{"$f":"\"\"","v":""},{"$f":"\"\"","v":""},{"$f":"\"\"","v":""},{"$f":"\"\"","v":""},{"$f":"\"\"","v":""},{"$f":"\"\"","v":""},{"$f":"\"\"","v":""},{"$f":"\"\"","v":""},{"$f":"\"\"","v":""},{"$f":"\"\"","v":""},{"$f":"\"\"","v":""},{"$f":"\"\"","v":""},{"$f":"\"\"","v":""},{"$f":"\"\"","v":""},{"$f":"\"\"","v":""},{"$f":"\"\"","v":""},{"$f":"\"\"","v":""},{"$f":"\"\"","v":""},{"$f":"\"\"","v":""},{"$f":"\"\"","v":""},{"$f":"\"\"","v":""},{"$f":"\"\"","v":""},{"$f":"\"\"","v":""},{"$f":"\"\"","v":""},{"$f":"\"\"","v":""},{"$f":"\"\"","v":""},{"$f":"\"\"","v":""},{"$f":"\"\"","v":""},{"$f":"\"\"","v":""},{"$f":"\"\"","v":""},{"$f":"\"\"","v":""},{"$f":"\"\"","v":""},{"$f":"\"\"","v":""},{"$f":"\"\"","v":""},{"$f":"\"\"","v":""},{"$f":"\"\"","v":""},{"$f":"\"\"","v":""},{"$f":"\"\"","v":""},{"$f":"\"\"","v":""},{"$f":"\"\"","v":""},{"$f":"\"\"","v":""},{"$f":"\"\"","v":""},{"$f":"\"\"","v":""},{"$f":"\"\"","v":""},{"$f":"\"\"","v":""},{"$f":"\"\"","v":""},{"$f":"\"\"","v":""},{"$f":"\"\"","v":""},{"$f":"\"\"","v":""},{"$f":"\"\"","v":""},{"$f":"\"\"","v":""},{"$f":"\"\"","v":""},{"$f":"\"\"","v":""},{"$f":"\"\"","v":""},{"$f":"\"\"","v":""},{"$f":"\"\"","v":""},{"$f":"\"\"","v":""},{"$f":"\"\"","v":""},{"$f":"\"\"","v":""},{"$f":"\"\"","v":""},{"$f":"\"\"","v":""},{"$f":"\"\"","v":""},{"$f":"\"\"","v":""},{"$f":"\"\"","v":""},{"$f":"\"\"","v":""},{"$f":"\"\"","v":""},{"$f":"\"\"","v":""},{"$f":"\"\"","v":""},{"$f":"\"\"","v":""},{"$f":"\"\"","v":""},{"$f":"\"\"","v":""},{"$f":"\"\"","v":""},{"$f":"\"\"","v":""},{"$f":"\"\"","v":""},{"$f":"\"\"","v":""},{"$f":"\"\"","v":""},{"$f":"\"\"","v":""},{"$f":"\"\"","v":""},{"$f":"\"\"","v":""},{"$f":"\"\"","v":""},{"$f":"\"\"","v":""},{"$f":"\"\"","v":""},{"$f":"\"\"","v":""},{"$f":"\"\"","v":""},{"$f":"\"\"","v":""},{"$f":"\"\"","v":""},{"$f":"\"\"","v":""},{"$f":"\"\"","v":""},{"$f":"\"\"","v":""},{"$f":"\"\"","v":""},{"$f":"\"\"","v":""},{"$f":"\"\"","v":""},{"$f":"\"\"","v":""},{"$f":"\"\"","v":""},{"$f":"\"\"","v":""},{"$f":"\"\"","v":""},{"$f":"\"\"","v":""},{"$f":"\"\"","v":""},{"$f":"\"\"","v":""},{"$f":"\"\"","v":""},{"$f":"\"\"","v":""},{"$f":"\"\"","v":""},{"$f":"\"\"","v":""},{"$f":"\"\"","v":""},{"$f":"\"\"","v":""},{"$f":"\"\"","v":""},{"$f":"\"\"","v":""},{"$f":"\"\"","v":""},{"$f":"\"\"","v":""},{"$f":"\"\"","v":""},{"$f":"\"\"","v":""},{"$f":"\"\"","v":""},{"$f":"\"\"","v":""},{"$f":"\"\"","v":""},{"$f":"\"\"","v":""},{"$f":"\"\"","v":""},{"$f":"\"\"","v":""},{"$f":"\"\"","v":""},{"$f":"\"\"","v":""},{"$f":"\"\"","v":""},{"$f":"\"\"","v":""},{"$f":"\"\"","v":""},{"$f":"\"\"","v":""},{"$f":"\"\"","v":""},{"$f":"\"\"","v":""},{"$f":"\"\"","v":""},{"$f":"\"\"","v":""},{"$f":"\"\"","v":""},{"$f":"\"\"","v":""},{"$f":"\"\"","v":""},{"$f":"\"\"","v":""},{"$f":"\"\"","v":""},{"$f":"\"\"","v":""},{"$f":"\"\"","v":""},{"$f":"\"\"","v":""},{"$f":"\"\"","v":""},{"$f":"\"\"","v":""},{"$f":"\"\"","v":""},{"$f":"\"\"","v":""},{"$f":"\"\"","v":""},{"$f":"\"\"","v":""},{"$f":"\"\"","v":""},{"$f":"\"\"","v":""},{"$f":"\"\"","v":""},{"$f":"\"\"","v":""},{"$f":"\"\"","v":""},{"$f":"\"\"","v":""},{"$f":"\"\"","v":""},{"$f":"\"\"","v":""},{"$f":"\"\"","v":""},{"$f":"\"\"","v":""},{"$f":"\"\"","v":""},{"$f":"\"\"","v":""},{"$f":"\"\"","v":""},{"$f":"\"\"","v":""},{"$f":"\"\"","v":""},{"$f":"\"\"","v":""},{"$f":"\"\"","v":""},{"$f":"\"\"","v":""},{"$f":"\"\"","v":""},{"$f":"\"\"","v":""},{"$f":"\"\"","v":""},{"$f":"\"\"","v":""},{"$f":"\"\"","v":""},{"$f":"\"\"","v":""},{"$f":"\"\"","v":""},{"$f":"\"\"","v":""},{"$f":"\"\"","v":""},{"$f":"\"\"","v":""},{"$f":"\"\"","v":""},{"$f":"\"\"","v":""},{"$f":"\"\"","v":""},{"$f":"\"\"","v":""},{"$f":"\"\"","v":""},{"$f":"\"\"","v":""},{"$f":"\"\"","v":""},{"$f":"\"\"","v":""},{"$f":"\"\"","v":""},{"$f":"\"\"","v":""},{"$f":"\"\"","v":""},{"$f":"\"\"","v":""},{"$f":"\"\"","v":""},{"$f":"\"\"","v":""},{"$f":"\"\"","v":""},{"$f":"\"\"","v":""},{"$f":"\"\"","v":""},{"$f":"\"\"","v":""},{"$f":"\"\"","v":""},{"$f":"\"\"","v":""},{"$f":"\"\"","v":""},{"$f":"\"\"","v":""},{"$f":"\"\"","v":""},{"$f":"\"\"","v":""},{"$f":"\"\"","v":""},{"$f":"\"\"","v":""},{"$f":"\"\"","v":""},{"$f":"\"\"","v":""},{"$f":"\"\"","v":""},{"$f":"\"\"","v":""},{"$f":"\"\"","v":""},{"$f":"\"\"","v":""},{"$f":"\"\"","v":""},{"$f":"\"\"","v":""},{"$f":"\"\"","v":""},{"$f":"\"\"","v":""},{"$f":"\"\"","v":""},{"$f":"\"\"","v":""},{"$f":"\"\"","v":""},{"$f":"\"\"","v":""},{"$f":"\"\"","v":""},{"$f":"\"\"","v":""},{"$f":"\"\"","v":""},{"$f":"\"\"","v":""},{"$f":"\"\"","v":""},{"$f":"\"\"","v":""},{"$f":"\"\"","v":""},{"$f":"\"\"","v":""},{"$f":"\"\"","v":""},{"$f":"\"\"","v":""},{"$f":"\"\"","v":""},{"$f":"\"\"","v":""},{"$f":"\"\"","v":""},{"$f":"\"\"","v":""},{"$f":"\"\"","v":""},{"$f":"\"\"","v":""},{"$f":"\"\"","v":""},{"$f":"\"\"","v":""},{"$f":"\"\"","v":""},{"$f":"\"\"","v":""},{"$f":"\"\"","v":""},{"$f":"\"\"","v":""},{"$f":"\"\"","v":""},{"$f":"\"\"","v":""},{"$f":"\"\"","v":""},{"$f":"\"\"","v":""},{"$f":"\"\"","v":""},{"$f":"\"\"","v":""},{"$f":"\"\"","v":""},{"$f":"\"\"","v":""},{"$f":"\"\"","v":""},{"$f":"\"\"","v":""},{"$f":"\"\"","v":""},{"$f":"\"\"","v":""},{"$f":"\"\"","v":""},{"$f":"\"\"","v":""},{"$f":"\"\"","v":""},{"$f":"\"\"","v":""},{"$f":"\"\"","v":""},{"$f":"\"\"","v":""},{"$f":"\"\"","v":""},{"$f":"\"\"","v":""},{"$f":"\"\"","v":""},{"$f":"\"\"","v":""},{"$f":"\"\"","v":""},{"$f":"\"\"","v":""},{"$f":"\"\"","v":""},{"$f":"\"\"","v":""},{"$f":"\"\"","v":""},{"$f":"\"\"","v":""},{"$f":"\"\"","v":""},{"$f":"\"\"","v":""},{"$f":"\"\"","v":""},{"$f":"\"\"","v":""},{"$f":"\"\"","v":""},{"$f":"\"\"","v":""},{"$f":"\"\"","v":""},{"$f":"\"\"","v":""},{"$f":"\"\"","v":""},{"$f":"\"\"","v":""},{"$f":"\"\"","v":""},{"$f":"\"\"","v":""},{"$f":"\"\"","v":""},{"$f":"\"\"","v":""},{"$f":"\"\"","v":""},{"$f":"\"\"","v":""},{"$f":"\"\"","v":""},{"$f":"\"\"","v":""},{"$f":"\"\"","v":""},{"$f":"\"\"","v":""},{"$f":"\"\"","v":""},{"$f":"\"\"","v":""},{"$f":"\"\"","v":""},{"$f":"\"\"","v":""},{"$f":"\"\"","v":""},{"$f":"\"\"","v":""},{"$f":"\"\"","v":""},{"$f":"\"\"","v":""},{"$f":"\"\"","v":""},{"$f":"\"\"","v":""},{"$f":"\"\"","v":""},{"$f":"\"\"","v":""},{"$f":"\"\"","v":""},{"$f":"\"\"","v":""},{"$f":"\"\"","v":""},{"$f":"\"\"","v":""},{"$f":"\"\"","v":""},{"$f":"\"\"","v":""},{"$f":"\"\"","v":""},{"$f":"\"\"","v":""},{"$f":"\"\"","v":""},{"$f":"\"\"","v":""},{"$f":"\"\"","v":""},{"$f":"\"\"","v":""},{"$f":"\"\"","v":""},{"$f":"\"\"","v":""},{"$f":"\"\"","v":""},{"$f":"\"\"","v":""},{"$f":"\"\"","v":""},{"$f":"\"\"","v":""},{"$f":"\"\"","v":""},{"$f":"\"\"","v":""},{"$f":"\"\"","v":""},{"$f":"\"\"","v":""},{"$f":"\"\"","v":""},{"$f":"\"\"","v":""},{"$f":"\"\"","v":""},{"$f":"\"\"","v":""},{"$f":"\"\"","v":""},{"$f":"\"\"","v":""},{"$f":"\"\"","v":""},{"$f":"\"\"","v":""},{"$f":"\"\"","v":""},{"$f":"\"\"","v":""},{"$f":"\"\"","v":""},{"$f":"\"\"","v":""},{"$f":"\"\"","v":""},{"$f":"\"\"","v":""},{"$f":"\"\"","v":""},{"$f":"\"\"","v":""},{"$f":"\"\"","v":""},{"$f":"\"\"","v":""},{"$f":"\"\"","v":""},{"$f":"\"\"","v":""},{"$f":"\"\"","v":""},{"$f":"\"\"","v":""},{"$f":"\"\"","v":""},{"$f":"\"\"","v":""},{"$f":"\"\"","v":""},{"$f":"\"\"","v":""},{"$f":"\"\"","v":""},{"$f":"\"\"","v":""},{"$f":"\"\"","v":""},{"$f":"\"\"","v":""},{"$f":"\"\"","v":""},{"$f":"\"\"","v":""},{"$f":"\"\"","v":""},{"$f":"\"\"","v":""},{"$f":"\"\"","v":""},{"$f":"\"\"","v":""},{"$f":"\"\"","v":""},{"$f":"\"\"","v":""},{"$f":"\"\"","v":""},{"$f":"\"\"","v":""},{"$f":"\"\"","v":""},{"$f":"\"\"","v":""},{"$f":"\"\"","v":""},{"$f":"\"\"","v":""},{"$f":"\"\"","v":""},{"$f":"\"\"","v":""},{"$f":"\"\"","v":""},{"$f":"\"\"","v":""},{"$f":"\"\"","v":""},{"$f":"\"\"","v":""},{"$f":"\"\"","v":""},{"$f":"\"\"","v":""},{"$f":"\"\"","v":""},{"$f":"\"\"","v":""},{"$f":"\"\"","v":""},{"$f":"\"\"","v":""},{"$f":"\"\"","v":""},{"$f":"\"\"","v":""},{"$f":"\"\"","v":""},{"$f":"\"\"","v":""},{"$f":"\"\"","v":""},{"$f":"\"\"","v":""},{"$f":"\"\"","v":""},{"$f":"\"\"","v":""},{"$f":"\"\"","v":""},{"$f":"\"\"","v":""},{"$f":"\"\"","v":""},{"$f":"\"\"","v":""},{"$f":"\"\"","v":""},{"$f":"\"\"","v":""},{"$f":"\"\"","v":""},{"$f":"\"\"","v":""},{"$f":"\"\"","v":""},{"$f":"\"\"","v":""},{"$f":"\"\"","v":""},{"$f":"\"\"","v":""},{"$f":"\"\"","v":""},{"$f":"\"\"","v":""},{"$f":"\"\"","v":""},{"$f":"\"\"","v":""},{"$f":"\"\"","v":""},{"$f":"\"\"","v":""},{"$f":"\"\"","v":""},{"$f":"\"\"","v":""},{"$f":"\"\"","v":""},{"$f":"\"\"","v":""},{"$f":"\"\"","v":""},{"$f":"\"\"","v":""},{"$f":"\"\"","v":""},{"$f":"\"\"","v":""},{"$f":"\"\"","v":""},{"$f":"\"\"","v":""},{"$f":"\"\"","v":""},{"$f":"\"\"","v":""},{"$f":"\"\"","v":""},{"$f":"\"\"","v":""},{"$f":"\"\"","v":""},{"$f":"\"\"","v":""},{"$f":"\"\"","v":""},{"$f":"\"\"","v":""},{"$f":"\"\"","v":""},{"$f":"\"\"","v":""},{"$f":"\"\"","v":""},{"$f":"\"\"","v":""},{"$f":"\"\"","v":""},{"$f":"\"\"","v":""},{"$f":"\"\"","v":""},{"$f":"\"\"","v":""},{"$f":"\"\"","v":""},{"$f":"\"\"","v":""},{"$f":"\"\"","v":""},{"$f":"\"\"","v":""},{"$f":"\"\"","v":""},{"$f":"\"\"","v":""},{"$f":"\"\"","v":""},{"$f":"\"\"","v":""},{"$f":"\"\"","v":""},{"$f":"\"\"","v":""},{"$f":"\"\"","v":""},{"$f":"\"\"","v":""},{"$f":"\"\"","v":""},{"$f":"\"\"","v":""},{"$f":"\"\"","v":""},{"$f":"\"\"","v":""},{"$f":"\"\"","v":""},{"$f":"\"\"","v":""},{"$f":"\"\"","v":""},{"$f":"\"\"","v":""},{"$f":"\"\"","v":""},{"$f":"\"\"","v":""},{"$f":"\"\"","v":""},{"$f":"\"\"","v":""},{"$f":"\"\"","v":""},{"$f":"\"\"","v":""},{"$f":"\"\"","v":""},{"$f":"\"\"","v":""},{"$f":"\"\"","v":""},{"$f":"\"\"","v":""},{"$f":"\"\"","v":""},{"$f":"\"\"","v":""},{"$f":"\"\"","v":""},{"$f":"\"\"","v":""},{"$f":"\"\"","v":""},{"$f":"\"\"","v":""},{"$f":"\"\"","v":""},{"$f":"\"\"","v":""},{"$f":"\"\"","v":""},{"$f":"\"\"","v":""},{"$f":"\"\"","v":""},{"$f":"\"\"","v":""},{"$f":"\"\"","v":""},{"$f":"\"\"","v":""},{"$f":"\"\"","v":""},{"$f":"\"\"","v":""},{"$f":"\"\"","v":""},{"$f":"\"\"","v":""},{"$f":"\"\"","v":""},{"$f":"\"\"","v":""},{"$f":"\"\"","v":""},{"$f":"\"\"","v":""},{"$f":"\"\"","v":""},{"$f":"\"\"","v":""},{"$f":"\"\"","v":""},{"$f":"\"\"","v":""},{"$f":"\"\"","v":""},{"$f":"\"\"","v":""},{"$f":"\"\"","v":""},{"$f":"\"\"","v":""},{"$f":"\"\"","v":""},{"$f":"\"\"","v":""},{"$f":"\"\"","v":""},{"$f":"\"\"","v":""},{"$f":"\"\"","v":""},{"$f":"\"\"","v":""},{"$f":"\"\"","v":""},{"$f":"\"\"","v":""},{"$f":"\"\"","v":""},{"$f":"\"\"","v":""},{"$f":"\"\"","v":""},{"$f":"\"\"","v":""},{"$f":"\"\"","v":""},{"$f":"\"\"","v":""},{"$f":"\"\"","v":""},{"$f":"\"\"","v":""},{"$f":"\"\"","v":""},{"$f":"\"\"","v":""},{"$f":"\"\"","v":""},{"$f":"\"\"","v":""},{"$f":"\"\"","v":""},{"$f":"\"\"","v":""},{"$f":"\"\"","v":""},{"$f":"\"\"","v":""},{"$f":"\"\"","v":""},{"$f":"\"\"","v":""},{"$f":"\"\"","v":""},{"$f":"\"\"","v":""},{"$f":"\"\"","v":""},{"$f":"\"\"","v":""},{"$f":"\"\"","v":""},{"$f":"\"\"","v":""},{"$f":"\"\"","v":""},{"$f":"\"\"","v":""},{"$f":"\"\"","v":""},{"$f":"\"\"","v":""},{"$f":"\"\"","v":""},{"$f":"\"\"","v":""},{"$f":"\"\"","v":""},{"$f":"\"\"","v":""},{"$f":"\"\"","v":""},{"$f":"\"\"","v":""},{"$f":"\"\"","v":""},{"$f":"\"\"","v":""},{"$f":"\"\"","v":""},{"$f":"\"\"","v":""},{"$f":"\"\"","v":""},{"$f":"\"\"","v":""},{"$f":"\"\"","v":""},{"$f":"\"\"","v":""},{"$f":"\"\"","v":""},{"$f":"\"\"","v":""},{"$f":"\"\"","v":""},{"$f":"\"\"","v":""},{"$f":"\"\"","v":""},{"$f":"\"\"","v":""},{"$f":"\"\"","v":""},{"$f":"\"\"","v":""},{"$f":"\"\"","v":""},{"$f":"\"\"","v":""},{"$f":"\"\"","v":""},{"$f":"\"\"","v":""},{"$f":"\"\"","v":""},{"$f":"\"\"","v":""},{"$f":"\"\"","v":""},{"$f":"\"\"","v":""},{"$f":"\"\"","v":""},{"$f":"\"\"","v":""},{"$f":"\"\"","v":""},{"$f":"\"\"","v":""},{"$f":"\"\"","v":""},{"$f":"\"\"","v":""},{"$f":"\"\"","v":""},{"$f":"\"\"","v":""},{"$f":"\"\"","v":""},{"$f":"\"\"","v":""},{"$f":"\"\"","v":""},{"$f":"\"\"","v":""},{"$f":"\"\"","v":""},{"$f":"\"\"","v":""},{"$f":"\"\"","v":""},{"$f":"\"\"","v":""},{"$f":"\"\"","v":""},{"$f":"\"\"","v":""},{"$f":"\"\"","v":""},{"$f":"\"\"","v":""},{"$f":"\"\"","v":""},{"$f":"\"\"","v":""},{"$f":"\"\"","v":""},{"$f":"\"\"","v":""},{"$f":"\"\"","v":""},{"$f":"\"\"","v":""},{"$f":"\"\"","v":""},{"$f":"\"\"","v":""},{"$f":"\"\"","v":""},{"$f":"\"\"","v":""},{"$f":"\"\"","v":""},{"$f":"\"\"","v":""},{"$f":"\"\"","v":""},{"$f":"\"\"","v":""},{"$f":"\"\"","v":""},{"$f":"\"\"","v":""},{"$f":"\"\"","v":""},{"$f":"\"\"","v":""},{"$f":"\"\"","v":""},{"$f":"\"\"","v":""},{"$f":"\"\"","v":""},{"$f":"\"\"","v":""},{"$f":"\"\"","v":""},{"$f":"\"\"","v":""},{"$f":"\"\"","v":""},{"$f":"\"\"","v":""},{"$f":"\"\"","v":""},{"$f":"\"\"","v":""},{"$f":"\"\"","v":""},{"$f":"\"\"","v":""},{"$f":"\"\"","v":""},{"$f":"\"\"","v":""},{"$f":"\"\"","v":""},{"$f":"\"\"","v":""},{"$f":"\"\"","v":""},{"$f":"\"\"","v":""},{"$f":"\"\"","v":""},{"$f":"\"\"","v":""},{"$f":"\"\"","v":""},{"$f":"\"\"","v":""},{"$f":"\"\"","v":""},{"$f":"\"\"","v":""},{"$f":"\"\"","v":""},{"$f":"\"\"","v":""},{"$f":"\"\"","v":""},{"$f":"\"\"","v":""},{"$f":"\"\"","v":""},{"$f":"\"\"","v":""},{"$f":"\"\"","v":""},{"$f":"\"\"","v":""},{"$f":"\"\"","v":""},{"$f":"\"\"","v":""},{"$f":"\"\"","v":""},{"$f":"\"\"","v":""},{"$f":"\"\"","v":""},{"$f":"\"\"","v":""},{"$f":"\"\"","v":""},{"$f":"\"\"","v":""},{"$f":"\"\"","v":""},{"$f":"\"\"","v":""},{"$f":"\"\"","v":""},{"$f":"\"\"","v":""},{"$f":"\"\"","v":""},{"$f":"\"\"","v":""},{"$f":"\"\"","v":""},{"$f":"\"\"","v":""},{"$f":"\"\"","v":""},{"$f":"\"\"","v":""},{"$f":"\"\"","v":""},{"$f":"\"\"","v":""},{"$f":"\"\"","v":""},{"$f":"\"\"","v":""},{"$f":"\"\"","v":""},{"$f":"\"\"","v":""},{"$f":"\"\"","v":""},{"$f":"\"\"","v":""},{"$f":"\"\"","v":""},{"$f":"\"\"","v":""},{"$f":"\"\"","v":""},{"$f":"\"\"","v":""},{"$f":"\"\"","v":""},{"$f":"\"\"","v":""},{"$f":"\"\"","v":""},{"$f":"\"\"","v":""},{"$f":"\"\"","v":""},{"$f":"\"\"","v":""},{"$f":"\"\"","v":""},{"$f":"\"\"","v":""},{"$f":"\"\"","v":""},{"$f":"\"\"","v":""},{"$f":"\"\"","v":""},{"$f":"\"\"","v":""},{"$f":"\"\"","v":""},{"$f":"\"\"","v":""},{"$f":"\"\"","v":""},{"$f":"\"\"","v":""},{"$f":"\"\"","v":""},{"$f":"\"\"","v":""},{"$f":"\"\"","v":""},{"$f":"\"\"","v":""},{"$f":"\"\"","v":""},{"$f":"\"\"","v":""},{"$f":"\"\"","v":""},{"$f":"\"\"","v":""},{"$f":"\"\"","v":""},{"$f":"\"\"","v":""},{"$f":"\"\"","v":""},{"$f":"\"\"","v":""},{"$f":"\"\"","v":""},{"$f":"\"\"","v":""},{"$f":"\"\"","v":""},{"$f":"\"\"","v":""},{"$f":"\"\"","v":""},{"$f":"\"\"","v":""},{"$f":"\"\"","v":""},{"$f":"\"\"","v":""},{"$f":"\"\"","v":""},{"$f":"\"\"","v":""},{"$f":"\"\"","v":""},{"$f":"\"\"","v":""},{"$f":"\"\"","v":""},{"$f":"\"\"","v":""},{"$f":"\"\"","v":""},{"$f":"\"\"","v":""},{"$f":"\"\"","v":""},{"$f":"\"\"","v":""},{"$f":"\"\"","v":""},{"$f":"\"\"","v":""},{"$f":"\"\"","v":""},{"$f":"\"\"","v":""},{"$f":"\"\"","v":""},{"$f":"\"\"","v":""},{"$f":"\"\"","v":""},{"$f":"\"\"","v":""},{"$f":"\"\"","v":""},{"$f":"\"\"","v":""},{"$f":"\"\"","v":""},{"$f":"\"\"","v":""},{"$f":"\"\"","v":""},{"$f":"\"\"","v":""},{"$f":"\"\"","v":""},{"$f":"\"\"","v":""},{"$f":"\"\"","v":""},{"$f":"\"\"","v":""},{"$f":"\"\"","v":""},{"$f":"\"\"","v":""},{"$f":"\"\"","v":""},{"$f":"\"\"","v":""},{"$f":"\"\"","v":""},{"$f":"\"\"","v":""},{"$f":"\"\"","v":""},{"$f":"\"\"","v":""},{"$f":"\"\"","v":""},{"$f":"\"\"","v":""},{"$f":"\"\"","v":""},{"$f":"\"\"","v":""},{"$f":"\"\"","v":""},{"$f":"\"\"","v":""},{"$f":"\"\"","v":""},{"$f":"\"\"","v":""},{"$f":"\"\"","v":""},{"$f":"\"\"","v":""},{"$f":"\"\"","v":""},{"$f":"\"\"","v":""},{"$f":"\"\"","v":""},{"$f":"\"\"","v":""},{"$f":"\"\"","v":""},{"$f":"\"\"","v":""},{"$f":"\"\"","v":""},{"$f":"\"\"","v":""},{"$f":"\"\"","v":""},{"$f":"\"\"","v":""},{"$f":"\"\"","v":""},{"$f":"\"\"","v":""},{"$f":"\"\"","v":""},{"$f":"\"\"","v":""},{"$f":"\"\"","v":""},{"$f":"\"\"","v":""},{"$f":"\"\"","v":""},{"$f":"\"\"","v":""},{"$f":"\"\"","v":""},{"$f":"\"\"","v":""},{"$f":"\"\"","v":""},{"$f":"\"\"","v":""},{"$f":"\"\"","v":""},{"$f":"\"\"","v":""},{"$f":"\"\"","v":""},{"$f":"\"\"","v":""},{"$f":"\"\"","v":""},{"$f":"\"\"","v":""},{"$f":"\"\"","v":""},{"$f":"\"\"","v":""},{"$f":"\"\"","v":""},{"$f":"\"\"","v":""},{"$f":"\"\"","v":""},{"$f":"\"\"","v":""},{"$f":"\"\"","v":""},{"$f":"\"\"","v":""},{"$f":"\"\"","v":""},{"$f":"\"\"","v":""},{"$f":"\"\"","v":""},{"$f":"\"\"","v":""},{"$f":"\"\"","v":""},{"$f":"\"\"","v":""},{"$f":"\"\"","v":""},{"$f":"\"\"","v":""},{"$f":"\"\"","v":""},{"$f":"\"\"","v":""},{"$f":"\"\"","v":""},{"$f":"\"\"","v":""},{"$f":"\"\"","v":""},{"$f":"\"\"","v":""},{"$f":"\"\"","v":""},{"$f":"\"\"","v":""},{"$f":"\"\"","v":""},{"$f":"\"\"","v":""},{"$f":"\"\"","v":""},{"$f":"\"\"","v":""},{"$f":"\"\"","v":""},{"$f":"\"\"","v":""},{"$f":"\"\"","v":""},{"$f":"\"\"","v":""},{"$f":"\"\"","v":""},{"$f":"\"\"","v":""},{"$f":"\"\"","v":""},{"$f":"\"\"","v":""},{"$f":"\"\"","v":""},{"$f":"\"\"","v":""},{"$f":"\"\"","v":""},{"$f":"\"\"","v":""},{"$f":"\"\"","v":""},{"$f":"\"\"","v":""},{"$f":"\"\"","v":""},{"$f":"\"\"","v":""},{"$f":"\"\"","v":""},{"$f":"\"\"","v":""},{"$f":"\"\"","v":""},{"$f":"\"\"","v":""},{"$f":"\"\"","v":""},{"$f":"\"\"","v":""},{"$f":"\"\"","v":""},{"$f":"\"\"","v":""},{"$f":"\"\"","v":""},{"$f":"\"\"","v":""},{"$f":"\"\"","v":""},{"$f":"\"\"","v":""},{"$f":"\"\"","v":""},{"$f":"\"\"","v":""},{"$f":"\"\"","v":""},{"$f":"\"\"","v":""},{"$f":"\"\"","v":""},{"$f":"\"\"","v":""},{"$f":"\"\"","v":""},{"$f":"\"\"","v":""},{"$f":"\"\"","v":""},{"$f":"\"\"","v":""},{"$f":"\"\"","v":""},{"$f":"\"\"","v":""},{"$f":"\"\"","v":""},{"$f":"\"\"","v":""},{"$f":"\"\"","v":""},{"$f":"\"\"","v":""},{"$f":"\"\"","v":""},{"$f":"\"\"","v":""},{"$f":"\"\"","v":""},{"$f":"\"\"","v":""},{"$f":"\"\"","v":""},{"$f":"\"\"","v":""},{"$f":"\"\"","v":""},{"$f":"\"\"","v":""},{"$f":"\"\"","v":""},{"$f":"\"\"","v":""},{"$f":"\"\"","v":""},{"$f":"\"\"","v":""},{"$f":"\"\"","v":""},{"$f":"\"\"","v":""},{"$f":"\"\"","v":""},{"$f":"\"\"","v":""},{"$f":"\"\"","v":""},{"$f":"\"\"","v":""},{"$f":"\"\"","v":""},{"$f":"\"\"","v":""},{"$f":"\"\"","v":""},{"$f":"\"\"","v":""},{"$f":"\"\"","v":""},{"$f":"\"\"","v":""},{"$f":"\"\"","v":""},{"$f":"\"\"","v":""},{"$f":"\"\"","v":""},{"$f":"\"\"","v":""},{"$f":"\"\"","v":""},{"$f":"\"\"","v":""},{"$f":"\"\"","v":""},{"$f":"\"\"","v":""},{"$f":"\"\"","v":""},{"$f":"\"\"","v":""},{"$f":"\"\"","v":""},{"$f":"\"\"","v":""},{"$f":"\"\"","v":""},{"$f":"\"\"","v":""},{"$f":"\"\"","v":""},{"$f":"\"\"","v":""},{"$f":"\"\"","v":""},{"$f":"\"\"","v":""},{"$f":"\"\"","v":""},{"$f":"\"\"","v":""},{"$f":"\"\"","v":""},{"$f":"\"\"","v":""},{"$f":"\"\"","v":""},{"$f":"\"\"","v":""},{"$f":"\"\"","v":""},{"$f":"\"\"","v":""},{"$f":"\"\"","v":""},{"$f":"\"\"","v":""},{"$f":"\"\"","v":""},{"$f":"\"\"","v":""},{"$f":"\"\"","v":""},{"$f":"\"\"","v":""},{"$f":"\"\"","v":""},{"$f":"\"\"","v":""},{"$f":"\"\"","v":""},{"$f":"\"\"","v":""},{"$f":"\"\"","v":""},{"$f":"\"\"","v":""},{"$f":"\"\"","v":""},{"$f":"\"\"","v":""},{"$f":"\"\"","v":""},{"$f":"\"\"","v":""},{"$f":"\"\"","v":""},{"$f":"\"\"","v":""},{"$f":"\"\"","v":""},{"$f":"\"\"","v":""},{"$f":"\"\"","v":""},{"$f":"\"\"","v":""},{"$f":"\"\"","v":""},{"$f":"\"\"","v":""},{"$f":"\"\"","v":""},{"$f":"\"\"","v":""},{"$f":"\"\"","v":""},{"$f":"\"\"","v":""},{"$f":"\"\"","v":""},{"$f":"\"\"","v":""},{"$f":"\"\"","v":""},{"$f":"\"\"","v":""},{"$f":"\"\"","v":""},{"$f":"\"\"","v":""},{"$f":"\"\"","v":""},{"$f":"\"\"","v":""},{"$f":"\"\"","v":""},{"$f":"\"\"","v":""},{"$f":"\"\"","v":""},{"$f":"\"\"","v":""},{"$f":"\"\"","v":""},{"$f":"\"\"","v":""},{"$f":"\"\"","v":""},{"$f":"\"\"","v":""},{"$f":"\"\"","v":""},{"$f":"\"\"","v":""},{"$f":"\"\"","v":""},{"$f":"\"\"","v":""},{"$f":"\"\"","v":""},{"$f":"\"\"","v":""},{"$f":"\"\"","v":""},{"$f":"\"\"","v":""},{"$f":"\"\"","v":""},{"$f":"\"\"","v":""},{"$f":"\"\"","v":""},{"$f":"\"\"","v":""},{"$f":"\"\"","v":""},{"$f":"\"\"","v":""},{"$f":"\"\"","v":""},{"$f":"\"\"","v":""},{"$f":"\"\"","v":""},{"$f":"\"\"","v":""},{"$f":"\"\"","v":""},{"$f":"\"\"","v":""},{"$f":"\"\"","v":""},{"$f":"\"\"","v":""},{"$f":"\"\"","v":""},{"$f":"\"\"","v":""},{"$f":"\"\"","v":""},{"$f":"\"\"","v":""},{"$f":"\"\"","v":""},{"$f":"\"\"","v":""},{"$f":"\"\"","v":""},{"$f":"\"\"","v":""},{"$f":"\"\"","v":""},{"$f":"\"\"","v":""},{"$f":"\"\"","v":""},{"$f":"\"\"","v":""},{"$f":"\"\"","v":""},{"$f":"\"\"","v":""},{"$f":"\"\"","v":""},{"$f":"\"\"","v":""},{"$f":"\"\"","v":""},{"$f":"\"\"","v":""},{"$f":"\"\"","v":""},{"$f":"\"\"","v":""},{"$f":"\"\"","v":""},{"$f":"\"\"","v":""},{"$f":"\"\"","v":""},{"$f":"\"\"","v":""},{"$f":"\"\"","v":""},{"$f":"\"\"","v":""},{"$f":"\"\"","v":""},{"$f":"\"\"","v":""},{"$f":"\"\"","v":""},{"$f":"\"\"","v":""},{"$f":"\"\"","v":""},{"$f":"\"\"","v":""},{"$f":"\"\"","v":""},{"$f":"\"\"","v":""},{"$f":"\"\"","v":""},{"$f":"\"\"","v":""},{"$f":"\"\"","v":""},{"$f":"\"\"","v":""},{"$f":"\"\"","v":""},{"$f":"\"\"","v":""},{"$f":"\"\"","v":""},{"$f":"\"\"","v":""},{"$f":"\"\"","v":""},{"$f":"\"\"","v":""},{"$f":"\"\"","v":""},{"$f":"\"\"","v":""},{"$f":"\"\"","v":""},{"$f":"\"\"","v":""},{"$f":"\"\"","v":""},{"$f":"\"\"","v":""},{"$f":"\"\"","v":""},{"$f":"\"\"","v":""},{"$f":"\"\"","v":""},{"$f":"\"\"","v":""},{"$f":"\"\"","v":""},{"$f":"\"\"","v":""},{"$f":"\"\"","v":""},{"$f":"\"\"","v":""},{"$f":"\"\"","v":""},{"$f":"\"\"","v":""},{"$f":"\"\"","v":""},{"$f":"\"\"","v":""},{"$f":"\"\"","v":""},{"$f":"\"\"","v":""},{"$f":"\"\"","v":""},{"$f":"\"\"","v":""},{"$f":"\"\"","v":""},{"$f":"\"\"","v":""},{"$f":"\"\"","v":""},{"$f":"\"\"","v":""},{"$f":"\"\"","v":""},{"$f":"\"\"","v":""},{"$f":"\"\"","v":""},{"$f":"\"\"","v":""},{"$f":"\"\"","v":""},{"$f":"\"\"","v":""},{"$f":"\"\"","v":""},{"$f":"\"\"","v":""},{"$f":"\"\"","v":""},{"$f":"\"\"","v":""},{"$f":"\"\"","v":""},{"$f":"\"\"","v":""},{"$f":"\"\"","v":""},{"$f":"\"\"","v":""},{"$f":"\"\"","v":""},{"$f":"\"\"","v":""},{"$f":"\"\"","v":""},{"$f":"\"\"","v":""},{"$f":"\"\"","v":""},{"$f":"\"\"","v":""},{"$f":"\"\"","v":""},{"$f":"\"\"","v":""},{"$f":"\"\"","v":""},{"$f":"\"\"","v":""},{"$f":"\"\"","v":""},{"$f":"\"\"","v":""},{"$f":"\"\"","v":""},{"$f":"\"\"","v":""},{"$f":"\"\"","v":""},{"$f":"\"\"","v":""},{"$f":"\"\"","v":""},{"$f":"\"\"","v":""},{"$f":"\"\"","v":""},{"$f":"\"\"","v":""},{"$f":"\"\"","v":""},{"$f":"\"\"","v":""},{"$f":"\"\"","v":""},{"$f":"\"\"","v":""},{"$f":"\"\"","v":""},{"$f":"\"\"","v":""},{"$f":"\"\"","v":""},{"$f":"\"\"","v":""},{"$f":"\"\"","v":""},{"$f":"\"\"","v":""},{"$f":"\"\"","v":""},{"$f":"\"\"","v":""},{"$f":"\"\"","v":""},{"$f":"\"\"","v":""},{"$f":"\"\"","v":""},{"$f":"\"\"","v":""},{"$f":"\"\"","v":""},{"$f":"\"\"","v":""},{"$f":"\"\"","v":""},{"$f":"\"\"","v":""},{"$f":"\"\"","v":""},{"$f":"\"\"","v":""},{"$f":"\"\"","v":""},{"$f":"\"\"","v":""},{"$f":"\"\"","v":""},{"$f":"\"\"","v":""},{"$f":"\"\"","v":""},{"$f":"\"\"","v":""},{"$f":"\"\"","v":""},{"$f":"\"\"","v":""},{"$f":"\"\"","v":""},{"$f":"\"\"","v":""},{"$f":"\"\"","v":""},{"$f":"\"\"","v":""},{"$f":"\"\"","v":""},{"$f":"\"\"","v":""},{"$f":"\"\"","v":""},{"$f":"\"\"","v":""},{"$f":"\"\"","v":""},{"$f":"\"\"","v":""},{"$f":"\"\"","v":""},{"$f":"\"\"","v":""},{"$f":"\"\"","v":""},{"$f":"\"\"","v":""},{"$f":"\"\"","v":""},{"$f":"\"\"","v":""},{"$f":"\"\"","v":""},{"$f":"\"\"","v":""},{"$f":"\"\"","v":""},{"$f":"\"\"","v":""},{"$f":"\"\"","v":""},{"$f":"\"\"","v":""},{"$f":"\"\"","v":""},{"$f":"\"\"","v":""},{"$f":"\"\"","v":""},{"$f":"\"\"","v":""},{"$f":"\"\"","v":""},{"$f":"\"\"","v":""},{"$f":"\"\"","v":""},{"$f":"\"\"","v":""},{"$f":"\"\"","v":""},{"$f":"\"\"","v":""},{"$f":"\"\"","v":""},{"$f":"\"\"","v":""},{"$f":"\"\"","v":""},{"$f":"\"\"","v":""},{"$f":"\"\"","v":""},{"$f":"\"\"","v":""},{"$f":"\"\"","v":""},{"$f":"\"\"","v":""},{"$f":"\"\"","v":""},{"$f":"\"\"","v":""},{"$f":"\"\"","v":""},{"$f":"\"\"","v":""},{"$f":"\"\"","v":""},{"$f":"\"\"","v":""},{"$f":"\"\"","v":""},{"$f":"\"\"","v":""},{"$f":"\"\"","v":""},{"$f":"\"\"","v":""},{"$f":"\"\"","v":""},{"$f":"\"\"","v":""},{"$f":"\"\"","v":""},{"$f":"\"\"","v":""},{"$f":"\"\"","v":""},{"$f":"\"\"","v":""},{"$f":"\"\"","v":""},{"$f":"\"\"","v":""},{"$f":"\"\"","v":""},{"$f":"\"\"","v":""},{"$f":"\"\"","v":""},{"$f":"\"\"","v":""},{"$f":"\"\"","v":""},{"$f":"\"\"","v":""},{"$f":"\"\"","v":""},{"$f":"\"\"","v":""},{"$f":"\"\"","v":""},{"$f":"\"\"","v":""},{"$f":"\"\"","v":""},{"$f":"\"\"","v":""},{"$f":"\"\"","v":""},{"$f":"\"\"","v":""},{"$f":"\"\"","v":""},{"$f":"\"\"","v":""},{"$f":"\"\"","v":""},{"$f":"\"\"","v":""},{"$f":"\"\"","v":""},{"$f":"\"\"","v":""},{"$f":"\"\"","v":""},{"$f":"\"\"","v":""},{"$f":"\"\"","v":""},{"$f":"\"\"","v":""},{"$f":"\"\"","v":""},{"$f":"\"\"","v":""},{"$f":"\"\"","v":""},{"$f":"\"\"","v":""},{"$f":"\"\"","v":""},{"$f":"\"\"","v":""},{"$f":"\"\"","v":""},{"$f":"\"\"","v":""},{"$f":"\"\"","v":""},{"$f":"\"\"","v":""},{"$f":"\"\"","v":""},{"$f":"\"\"","v":""},{"$f":"\"\"","v":""},{"$f":"\"\"","v":""},{"$f":"\"\"","v":""},{"$f":"\"\"","v":""},{"$f":"\"\"","v":""},{"$f":"\"\"","v":""},{"$f":"\"\"","v":""},{"$f":"\"\"","v":""},{"$f":"\"\"","v":""},{"$f":"\"\"","v":""},{"$f":"\"\"","v":""},{"$f":"\"\"","v":""},{"$f":"\"\"","v":""},{"$f":"\"\"","v":""},{"$f":"\"\"","v":""},{"$f":"\"\"","v":""},{"$f":"\"\"","v":""},{"$f":"\"\"","v":""},{"$f":"\"\"","v":""},{"$f":"\"\"","v":""},{"$f":"\"\"","v":""},{"$f":"\"\"","v":""},{"$f":"\"\"","v":""},{"$f":"\"\"","v":""},{"$f":"\"\"","v":""},{"$f":"\"\"","v":""},{"$f":"\"\"","v":""},{"$f":"\"\"","v":""},{"$f":"\"\"","v":""},{"$f":"\"\"","v":""},{"$f":"\"\"","v":""},{"$f":"\"\"","v":""},{"$f":"\"\"","v":""},{"$f":"\"\"","v":""},{"$f":"\"\"","v":""},{"$f":"\"\"","v":""},{"$f":"\"\"","v":""},{"$f":"\"\"","v":""},{"$f":"\"\"","v":""},{"$f":"\"\"","v":""},{"$f":"\"\"","v":""},{"$f":"\"\"","v":""},{"$f":"\"\"","v":""},{"$f":"\"\"","v":""},{"$f":"\"\"","v":""},{"$f":"\"\"","v":""},{"$f":"\"\"","v":""},{"$f":"\"\"","v":""},{"$f":"\"\"","v":""},{"$f":"\"\"","v":""},{"$f":"\"\"","v":""},{"$f":"\"\"","v":""},{"$f":"\"\"","v":""},{"$f":"\"\"","v":""},{"$f":"\"\"","v":""},{"$f":"\"\"","v":""},{"$f":"\"\"","v":""},{"$f":"\"\"","v":""},{"$f":"\"\"","v":""},{"$f":"\"\"","v":""},{"$f":"\"\"","v":""},{"$f":"\"\"","v":""},{"$f":"\"\"","v":""},{"$f":"\"\"","v":""},{"$f":"\"\"","v":""},{"$f":"\"\"","v":""},{"$f":"\"\"","v":""},{"$f":"\"\"","v":""},{"$f":"\"\"","v":""},{"$f":"\"\"","v":""},{"$f":"\"\"","v":""},{"$f":"\"\"","v":""},{"$f":"\"\"","v":""},{"$f":"\"\"","v":""},{"$f":"\"\"","v":""},{"$f":"\"\"","v":""},{"$f":"\"\"","v":""},{"$f":"\"\"","v":""},{"$f":"\"\"","v":""},{"$f":"\"\"","v":""},{"$f":"\"\"","v":""},{"$f":"\"\"","v":""},{"$f":"\"\"","v":""},{"$f":"\"\"","v":""},{"$f":"\"\"","v":""},{"$f":"\"\"","v":""},{"$f":"\"\"","v":""},{"$f":"\"\"","v":""},{"$f":"\"\"","v":""},{"$f":"\"\"","v":""},{"$f":"\"\"","v":""},{"$f":"\"\"","v":""},{"$f":"\"\"","v":""},{"$f":"\"\"","v":""},{"$f":"\"\"","v":""},{"$f":"\"\"","v":""},{"$f":"\"\"","v":""},{"$f":"\"\"","v":""},{"$f":"\"\"","v":""},{"$f":"\"\"","v":""},{"$f":"\"\"","v":""},{"$f":"\"\"","v":""},{"$f":"\"\"","v":""},{"$f":"\"\"","v":""},{"$f":"\"\"","v":""},{"$f":"\"\"","v":""},{"$f":"\"\"","v":""},{"$f":"\"\"","v":""},{"$f":"\"\"","v":""},{"$f":"\"\"","v":""},{"$f":"\"\"","v":""},{"$f":"\"\"","v":""},{"$f":"\"\"","v":""},{"$f":"\"\"","v":""},{"$f":"\"\"","v":""},{"$f":"\"\"","v":""},{"$f":"\"\"","v":""},{"$f":"\"\"","v":""},{"$f":"\"\"","v":""},{"$f":"\"\"","v":""},{"$f":"\"\"","v":""},{"$f":"\"\"","v":""},{"$f":"\"\"","v":""},{"$f":"\"\"","v":""},{"$f":"\"\"","v":""},{"$f":"\"\"","v":""},{"$f":"\"\"","v":""},{"$f":"\"\"","v":""},{"$f":"\"\"","v":""},{"$f":"\"\"","v":""},{"$f":"\"\"","v":""},{"$f":"\"\"","v":""},{"$f":"\"\"","v":""},{"$f":"\"\"","v":""},{"$f":"\"\"","v":""},{"$f":"\"\"","v":""},{"$f":"\"\"","v":""},{"$f":"\"\"","v":""},{"$f":"\"\"","v":""},{"$f":"\"\"","v":""},{"$f":"\"\"","v":""},{"$f":"\"\"","v":""},{"$f":"\"\"","v":""},{"$f":"\"\"","v":""},{"$f":"\"\"","v":""},{"$f":"\"\"","v":""},{"$f":"\"\"","v":""},{"$f":"\"\"","v":""},{"$f":"\"\"","v":""},{"$f":"\"\"","v":""},{"$f":"\"\"","v":""},{"$f":"\"\"","v":""},{"$f":"\"\"","v":""},{"$f":"\"\"","v":""},{"$f":"\"\"","v":""},{"$f":"\"\"","v":""},{"$f":"\"\"","v":""},{"$f":"\"\"","v":""},{"$f":"\"\"","v":""},{"$f":"\"\"","v":""},{"$f":"\"\"","v":""},{"$f":"\"\"","v":""},{"$f":"\"\"","v":""},{"$f":"\"\"","v":""},{"$f":"\"\"","v":""},{"$f":"\"\"","v":""},{"$f":"\"\"","v":""},{"$f":"\"\"","v":""},{"$f":"\"\"","v":""},{"$f":"\"\"","v":""},{"$f":"\"\"","v":""},{"$f":"\"\"","v":""},{"$f":"\"\"","v":""},{"$f":"\"\"","v":""},{"$f":"\"\"","v":""},{"$f":"\"\"","v":""},{"$f":"\"\"","v":""},{"$f":"\"\"","v":""},{"$f":"\"\"","v":""},{"$f":"\"\"","v":""},{"$f":"\"\"","v":""},{"$f":"\"\"","v":""},{"$f":"\"\"","v":""},{"$f":"\"\"","v":""},{"$f":"\"\"","v":""},{"$f":"\"\"","v":""},{"$f":"\"\"","v":""},{"$f":"\"\"","v":""},{"$f":"\"\"","v":""},{"$f":"\"\"","v":""},{"$f":"\"\"","v":""},{"$f":"\"\"","v":""},{"$f":"\"\"","v":""},{"$f":"\"\"","v":""},{"$f":"\"\"","v":""},{"$f":"\"\"","v":""},{"$f":"\"\"","v":""},{"$f":"\"\"","v":""},{"$f":"\"\"","v":""},{"$f":"\"\"","v":""},{"$f":"\"\"","v":""},{"$f":"\"\"","v":""},{"$f":"\"\"","v":""},{"$f":"\"\"","v":""},{"$f":"\"\"","v":""},{"$f":"\"\"","v":""},{"$f":"\"\"","v":""},{"$f":"\"\"","v":""},{"$f":"\"\"","v":""},{"$f":"\"\"","v":""},{"$f":"\"\"","v":""},{"$f":"\"\"","v":""},{"$f":"\"\"","v":""},{"$f":"\"\"","v":""},{"$f":"\"\"","v":""},{"$f":"\"\"","v":""},{"$f":"\"\"","v":""},{"$f":"\"\"","v":""},{"$f":"\"\"","v":""},{"$f":"\"\"","v":""},{"$f":"\"\"","v":""},{"$f":"\"\"","v":""},{"$f":"\"\"","v":""},{"$f":"\"\"","v":""},{"$f":"\"\"","v":""},{"$f":"\"\"","v":""},{"$f":"\"\"","v":""},{"$f":"\"\"","v":""},{"$f":"\"\"","v":""},{"$f":"\"\"","v":""},{"$f":"\"\"","v":""},{"$f":"\"\"","v":""},{"$f":"\"\"","v":""},{"$f":"\"\"","v":""},{"$f":"\"\"","v":""},{"$f":"\"\"","v":""},{"$f":"\"\"","v":""},{"$f":"\"\"","v":""},{"$f":"\"\"","v":""},{"$f":"\"\"","v":""},{"$f":"\"\"","v":""},{"$f":"\"\"","v":""},{"$f":"\"\"","v":""},{"$f":"\"\"","v":""},{"$f":"\"\"","v":""},{"$f":"\"\"","v":""},{"$f":"\"\"","v":""},{"$f":"\"\"","v":""},{"$f":"\"\"","v":""},{"$f":"\"\"","v":""},{"$f":"\"\"","v":""},{"$f":"\"\"","v":""},{"$f":"\"\"","v":""},{"$f":"\"\"","v":""},{"$f":"\"\"","v":""},{"$f":"\"\"","v":""},{"$f":"\"\"","v":""},{"$f":"\"\"","v":""},{"$f":"\"\"","v":""},{"$f":"\"\"","v":""},{"$f":"\"\"","v":""},{"$f":"\"\"","v":""},{"$f":"\"\"","v":""},{"$f":"\"\"","v":""},{"$f":"\"\"","v":""},{"$f":"\"\"","v":""},{"$f":"\"\"","v":""},{"$f":"\"\"","v":""},{"$f":"\"\"","v":""},{"$f":"\"\"","v":""},{"$f":"\"\"","v":""},{"$f":"\"\"","v":""},{"$f":"\"\"","v":""},{"$f":"\"\"","v":""},{"$f":"\"\"","v":""},{"$f":"\"\"","v":""},{"$f":"\"\"","v":""},{"$f":"\"\"","v":""},{"$f":"\"\"","v":""},{"$f":"\"\"","v":""},{"$f":"\"\"","v":""},{"$f":"\"\"","v":""},{"$f":"\"\"","v":""},{"$f":"\"\"","v":""},{"$f":"\"\"","v":""},{"$f":"\"\"","v":""},{"$f":"\"\"","v":""},{"$f":"\"\"","v":""},{"$f":"\"\"","v":""},{"$f":"\"\"","v":""},{"$f":"\"\"","v":""},{"$f":"\"\"","v":""},{"$f":"\"\"","v":""},{"$f":"\"\"","v":""},{"$f":"\"\"","v":""},{"$f":"\"\"","v":""},{"$f":"\"\"","v":""},{"$f":"\"\"","v":""},{"$f":"\"\"","v":""},{"$f":"\"\"","v":""},{"$f":"\"\"","v":""},{"$f":"\"\"","v":""},{"$f":"\"\"","v":""},{"$f":"\"\"","v":""},{"$f":"\"\"","v":""},{"$f":"\"\"","v":""},{"$f":"\"\"","v":""},{"$f":"\"\"","v":""},{"$f":"\"\"","v":""},{"$f":"\"\"","v":""},{"$f":"\"\"","v":""},{"$f":"\"\"","v":""},{"$f":"\"\"","v":""},{"$f":"\"\"","v":""},{"$f":"\"\"","v":""},{"$f":"\"\"","v":""},{"$f":"\"\"","v":""},{"$f":"\"\"","v":""},{"$f":"\"\"","v":""},{"$f":"\"\"","v":""},{"$f":"\"\"","v":""},{"$f":"\"\"","v":""},{"$f":"\"\"","v":""},{"$f":"\"\"","v":""},{"$f":"\"\"","v":""},{"$f":"\"\"","v":""},{"$f":"\"\"","v":""},{"$f":"\"\"","v":""},{"$f":"\"\"","v":""},{"$f":"\"\"","v":""},{"$f":"\"\"","v":""},{"$f":"\"\"","v":""},{"$f":"\"\"","v":""},{"$f":"\"\"","v":""},{"$f":"\"\"","v":""},{"$f":"\"\"","v":""},{"$f":"\"\"","v":""},{"$f":"\"\"","v":""},{"$f":"\"\"","v":""},{"$f":"\"\"","v":""},{"$f":"\"\"","v":""},{"$f":"\"\"","v":""},{"$f":"\"\"","v":""},{"$f":"\"\"","v":""},{"$f":"\"\"","v":""},{"$f":"\"\"","v":""},{"$f":"\"\"","v":""},{"$f":"\"\"","v":""},{"$f":"\"\"","v":""},{"$f":"\"\"","v":""},{"$f":"\"\"","v":""},{"$f":"\"\"","v":""},{"$f":"\"\"","v":""},{"$f":"\"\"","v":""},{"$f":"\"\"","v":""},{"$f":"\"\"","v":""},{"$f":"\"\"","v":""},{"$f":"\"\"","v":""},{"$f":"\"\"","v":""},{"$f":"\"\"","v":""},{"$f":"\"\"","v":""},{"$f":"\"\"","v":""},{"$f":"\"\"","v":""},{"$f":"\"\"","v":""},{"$f":"\"\"","v":""},{"$f":"\"\"","v":""},{"$f":"\"\"","v":""},{"$f":"\"\"","v":""},{"$f":"\"\"","v":""},{"$f":"\"\"","v":""},{"$f":"\"\"","v":""},{"$f":"\"\"","v":""},{"$f":"\"\"","v":""},{"$f":"\"\"","v":""},{"$f":"\"\"","v":""},{"$f":"\"\"","v":""},{"$f":"\"\"","v":""},{"$f":"\"\"","v":""},{"$f":"\"\"","v":""},{"$f":"\"\"","v":""},{"$f":"\"\"","v":""},{"$f":"\"\"","v":""},{"$f":"\"\"","v":""},{"$f":"\"\"","v":""},{"$f":"\"\"","v":""},{"$f":"\"\"","v":""},{"$f":"\"\"","v":""},{"$f":"\"\"","v":""},{"$f":"\"\"","v":""},{"$f":"\"\"","v":""},{"$f":"\"\"","v":""},{"$f":"\"\"","v":""},{"$f":"\"\"","v":""},{"$f":"\"\"","v":""},{"$f":"\"\"","v":""},{"$f":"\"\"","v":""},{"$f":"\"\"","v":""},{"$f":"\"\"","v":""},{"$f":"\"\"","v":""},{"$f":"\"\"","v":""},{"$f":"\"\"","v":""},{"$f":"\"\"","v":""},{"$f":"\"\"","v":""},{"$f":"\"\"","v":""},{"$f":"\"\"","v":""},{"$f":"\"\"","v":""},{"$f":"\"\"","v":""},{"$f":"\"\"","v":""},{"$f":"\"\"","v":""},{"$f":"\"\"","v":""},{"$f":"\"\"","v":""},{"$f":"\"\"","v":""},{"$f":"\"\"","v":""},{"$f":"\"\"","v":""},{"$f":"\"\"","v":""},{"$f":"\"\"","v":""},{"$f":"\"\"","v":""},{"$f":"\"\"","v":""},{"$f":"\"\"","v":""},{"$f":"\"\"","v":""},{"$f":"\"\"","v":""},{"$f":"\"\"","v":""},{"$f":"\"\"","v":""},{"$f":"\"\"","v":""},{"$f":"\"\"","v":""},{"$f":"\"\"","v":""},{"$f":"\"\"","v":""},{"$f":"\"\"","v":""},{"$f":"\"\"","v":""},{"$f":"\"\"","v":""},{"$f":"\"\"","v":""},{"$f":"\"\"","v":""},{"$f":"\"\"","v":""},{"$f":"\"\"","v":""},{"$f":"\"\"","v":""},{"$f":"\"\"","v":""},{"$f":"\"\"","v":""},{"$f":"\"\"","v":""},{"$f":"\"\"","v":""},{"$f":"\"\"","v":""},{"$f":"\"\"","v":""},{"$f":"\"\"","v":""},{"$f":"\"\"","v":""},{"$f":"\"\"","v":""},{"$f":"\"\"","v":""},{"$f":"\"\"","v":""},{"$f":"\"\"","v":""},{"$f":"\"\"","v":""},{"$f":"\"\"","v":""},{"$f":"\"\"","v":""},{"$f":"\"\"","v":""},{"$f":"\"\"","v":""},{"$f":"\"\"","v":""},{"$f":"\"\"","v":""},{"$f":"\"\"","v":""},{"$f":"\"\"","v":""},{"$f":"\"\"","v":""},{"$f":"\"\"","v":""},{"$f":"\"\"","v":""},{"$f":"\"\"","v":""},{"$f":"\"\"","v":""},{"$f":"\"\"","v":""},{"$f":"\"\"","v":""},{"$f":"\"\"","v":""},{"$f":"\"\"","v":""},{"$f":"\"\"","v":""},{"$f":"\"\"","v":""},{"$f":"\"\"","v":""},{"$f":"\"\"","v":""},{"$f":"\"\"","v":""},{"$f":"\"\"","v":""},{"$f":"\"\"","v":""},{"$f":"\"\"","v":""},{"$f":"\"\"","v":""},{"$f":"\"\"","v":""},{"$f":"\"\"","v":""},{"$f":"\"\"","v":""},{"$f":"\"\"","v":""},{"$f":"\"\"","v":""},{"$f":"\"\"","v":""},{"$f":"\"\"","v":""},{"$f":"\"\"","v":""},{"$f":"\"\"","v":""},{"$f":"\"\"","v":""},{"$f":"\"\"","v":""},{"$f":"\"\"","v":""},{"$f":"\"\"","v":""},{"$f":"\"\"","v":""},{"$f":"\"\"","v":""},{"$f":"\"\"","v":""},{"$f":"\"\"","v":""},{"$f":"\"\"","v":""},{"$f":"\"\"","v":""},{"$f":"\"\"","v":""},{"$f":"\"\"","v":""},{"$f":"\"\"","v":""},{"$f":"\"\"","v":""},{"$f":"\"\"","v":""},{"$f":"\"\"","v":""},{"$f":"\"\"","v":""},{"$f":"\"\"","v":""},{"$f":"\"\"","v":""},{"$f":"\"\"","v":""},{"$f":"\"\"","v":""},{"$f":"\"\"","v":""},{"$f":"\"\"","v":""},{"$f":"\"\"","v":""},{"$f":"\"\"","v":""},{"$f":"\"\"","v":""},{"$f":"\"\"","v":""},{"$f":"\"\"","v":""},{"$f":"\"\"","v":""},{"$f":"\"\"","v":""},{"$f":"\"\"","v":""},{"$f":"\"\"","v":""},{"$f":"\"\"","v":""},{"$f":"\"\"","v":""},{"$f":"\"\"","v":""},{"$f":"\"\"","v":""},{"$f":"\"\"","v":""},{"$f":"\"\"","v":""},{"$f":"\"\"","v":""},{"$f":"\"\"","v":""},{"$f":"\"\"","v":""},{"$f":"\"\"","v":""},{"$f":"\"\"","v":""}]
["  1.1  Appropriate Learning Experiences",null,{"$f":"IF(COUNT(E5:IV5)<>0,AVERAGE(E5:IV5),\"\")","v":""},{"$f":"IF(COUNT(C5)<>0,ROUND(AVERAGE(C5),0),\"\")","v":""},{"$f":"IF('Cycle 1'!$F19= \"NS\",\"NS\",IF('Cycle 1'!$F19=\"\",\"\",IF('Cycle 1'!$F19<>0,VALUE('Cycle 1'!$F19), VALUE(\"0\"))))","v":""},{"$f":"IF('Cycle 2'!$F19= \"NS\",\"NS\",IF('Cycle 2'!$F19=\"\",\"\",IF('Cycle 2'!$F19<>0,VALUE('Cycle 2'!$F19), VALUE(\"0\"))))","v":""},{"$f":"IF('Cycle 3'!$F19= \"NS\",\"NS\",IF('Cycle 3'!$F19=\"\",\"\",IF('Cycle 3'!$F19<>0,VALUE('Cycle 3'!$F19), VALUE(\"0\"))))","v":""},{"$f":"IF('Cycle 4'!$F19= \"NS\",\"NS\",IF('Cycle 4'!$F19=\"\",\"\",IF('Cycle 4'!$F19<>0,VALUE('Cycle 4'!$F19), VALUE(\"0\"))))","v":""}]
["  1.2  Collaborates with Others",null,{"$f":"IF(COUNT(E6:IV6)<>0,AVERAGE(E6:IV6),\"\")","v":""},{"$f":"IF(COUNT(C6)<>0,ROUND(AVERAGE(C6),0),\"\")","v":""},{"$f":"IF('Cycle 1'!$F24= \"NS\",\"NS\",IF('Cycle 1'!$F24=\"\",\"\",IF('Cycle 1'!$F24<>0,VALUE('Cycle 1'!$F24), VALUE(\"0\"))))","v":""},{"$f":"IF('Cycle 2'!$F24= \"NS\",\"NS\",IF('Cycle 2'!$F24=\"\",\"\",IF('Cycle 2'!$F24<>0,VALUE('Cycle 2'!$F24), VALUE(\"0\"))))","v":""},{"$f":"IF('Cycle 3'!$F24= \"NS\",\"NS\",IF('Cycle 3'!$F24=\"\",\"\",IF('Cycle 3'!$F24<>0,VALUE('Cycle 3'!$F24), VALUE(\"0\"))))","v":""},{"$f":"IF('Cycle 4'!$F24= \"NS\",\"NS\",IF('Cycle 4'!$F24=\"\",\"\",IF('Cycle 4'!$F24<>0,VALUE('Cycle 4'!$F24), VALUE(\"0\"))))","v":""}]
["STANDARD 2:  Learning Differences",null,{"$f":"\"\"","v":""},{"$f":"\"\"","v":""},{"$f":"\"\"","v":""},{"$f":"\"\"","v":""},{"$f":"\"\"","v":""},{"$f":"\"\"","v":""},{"$f":"\"\"","v":""},{"$f":"\"\"","v":""},{"$f":"\"\"","v":""},{"$f":"\"\"","v":""},{"$f":"\"\"","v":""},{"$f":"\"\"","v":""},{"$f":"\"\"","v":""},{"$f":"\"\"","v":""},{"$f":"\"\"","v":""},{"$f":"\"\"","v":""},{"$f":"\"\"","v":""},{"$f":"\"\"","v":""},{"$f":"\"\"","v":""},{"$f":"\"\"","v":""},{"$f":"\"\"","v":""},{"$f":"\"\"","v":""},{"$f":"\"\"","v":""},{"$f":"\"\"","v":""},{"$f":"\"\"","v":""},{"$f":"\"\"","v":""},{"$f":"\"\"","v":""},{"$f":"\"\"","v":""},{"$f":"\"\"","v":""},{"$f":"\"\"","v":""},{"$f":"\"\"","v":""},{"$f":"\"\"","v":""},{"$f":"\"\"","v":""},{"$f":"\"\"","v":""},{"$f":"\"\"","v":""},{"$f":"\"\"","v":""},{"$f":"\"\"","v":""},{"$f":"\"\"","v":""},{"$f":"\"\"","v":""},{"$f":"\"\"","v":""},{"$f":"\"\"","v":""},{"$f":"\"\"","v":""},{"$f":"\"\"","v":""},{"$f":"\"\"","v":""},{"$f":"\"\"","v":""},{"$f":"\"\"","v":""},{"$f":"\"\"","v":""},{"$f":"\"\"","v":""},{"$f":"\"\"","v":""},{"$f":"\"\"","v":""},{"$f":"\"\"","v":""},{"$f":"\"\"","v":""},{"$f":"\"\"","v":""},{"$f":"\"\"","v":""},{"$f":"\"\"","v":""},{"$f":"\"\"","v":""},{"$f":"\"\"","v":""},{"$f":"\"\"","v":""},{"$f":"\"\"","v":""},{"$f":"\"\"","v":""},{"$f":"\"\"","v":""},{"$f":"\"\"","v":""},{"$f":"\"\"","v":""},{"$f":"\"\"","v":""},{"$f":"\"\"","v":""},{"$f":"\"\"","v":""},{"$f":"\"\"","v":""},{"$f":"\"\"","v":""},{"$f":"\"\"","v":""},{"$f":"\"\"","v":""},{"$f":"\"\"","v":""},{"$f":"\"\"","v":""},{"$f":"\"\"","v":""},{"$f":"\"\"","v":""},{"$f":"\"\"","v":""},{"$f":"\"\"","v":""},{"$f":"\"\"","v":""},{"$f":"\"\"","v":""},{"$f":"\"\"","v":""},{"$f":"\"\"","v":""},{"$f":"\"\"","v":""},{"$f":"\"\"","v":""},{"$f":"\"\"","v":""},{"$f":"\"\"","v":""},{"$f":"\"\"","v":""},{"$f":"\"\"","v":""},{"$f":"\"\"","v":""},{"$f":"\"\"","v":""},{"$f":"\"\"","v":""},{"$f":"\"\"","v":""},{"$f":"\"\"","v":""},{"$f":"\"\"","v":""},{"$f":"\"\"","v":""},{"$f":"\"\"","v":""},{"$f":"\"\"","v":""},{"$f":"\"\"","v":""},{"$f":"\"\"","v":""},{"$f":"\"\"","v":""},{"$f":"\"\"","v":""},{"$f":"\"\"","v":""},{"$f":"\"\"","v":""},{"$f":"\"\"","v":""},{"$f":"\"\"","v":""},{"$f":"\"\"","v":""},{"$f":"\"\"","v":""},{"$f":"\"\"","v":""},{"$f":"\"\"","v":""},{"$f":"\"\"","v":""},{"$f":"\"\"","v":""},{"$f":"\"\"","v":""},{"$f":"\"\"","v":""},{"$f":"\"\"","v":""},{"$f":"\"\"","v":""},{"$f":"\"\"","v":""},{"$f":"\"\"","v":""},{"$f":"\"\"","v":""},{"$f":"\"\"","v":""},{"$f":"\"\"","v":""},{"$f":"\"\"","v":""},{"$f":"\"\"","v":""},{"$f":"\"\"","v":""},{"$f":"\"\"","v":""},{"$f":"\"\"","v":""},{"$f":"\"\"","v":""},{"$f":"\"\"","v":""},{"$f":"\"\"","v":""},{"$f":"\"\"","v":""},{"$f":"\"\"","v":""},{"$f":"\"\"","v":""},{"$f":"\"\"","v":""},{"$f":"\"\"","v":""},{"$f":"\"\"","v":""},{"$f":"\"\"","v":""},{"$f":"\"\"","v":""},{"$f":"\"\"","v":""},{"$f":"\"\"","v":""},{"$f":"\"\"","v":""},{"$f":"\"\"","v":""},{"$f":"\"\"","v":""},{"$f":"\"\"","v":""},{"$f":"\"\"","v":""},{"$f":"\"\"","v":""},{"$f":"\"\"","v":""},{"$f":"\"\"","v":""},{"$f":"\"\"","v":""},{"$f":"\"\"","v":""},{"$f":"\"\"","v":""},{"$f":"\"\"","v":""},{"$f":"\"\"","v":""},{"$f":"\"\"","v":""},{"$f":"\"\"","v":""},{"$f":"\"\"","v":""},{"$f":"\"\"","v":""},{"$f":"\"\"","v":""},{"$f":"\"\"","v":""},{"$f":"\"\"","v":""},{"$f":"\"\"","v":""},{"$f":"\"\"","v":""},{"$f":"\"\"","v":""},{"$f":"\"\"","v":""},{"$f":"\"\"","v":""},{"$f":"\"\"","v":""},{"$f":"\"\"","v":""},{"$f":"\"\"","v":""},{"$f":"\"\"","v":""},{"$f":"\"\"","v":""},{"$f":"\"\"","v":""},{"$f":"\"\"","v":""},{"$f":"\"\"","v":""},{"$f":"\"\"","v":""},{"$f":"\"\"","v":""},{"$f":"\"\"","v":""},{"$f":"\"\"","v":""},{"$f":"\"\"","v":""},{"$f":"\"\"","v":""},{"$f":"\"\"","v":""},{"$f":"\"\"","v":""},{"$f":"\"\"","v":""},{"$f":"\"\"","v":""},{"$f":"\"\"","v":""},{"$f":"\"\"","v":""},{"$f":"\"\"","v":""},{"$f":"\"\"","v":""},{"$f":"\"\"","v":""},{"$f":"\"\"","v":""},{"$f":"\"\"","v":""},{"$f":"\"\"","v":""},{"$f":"\"\"","v":""},{"$f":"\"\"","v":""},{"$f":"\"\"","v":""},{"$f":"\"\"","v":""},{"$f":"\"\"","v":""},{"$f":"\"\"","v":""},{"$f":"\"\"","v":""},{"$f":"\"\"","v":""},{"$f":"\"\"","v":""},{"$f":"\"\"","v":""},{"$f":"\"\"","v":""},{"$f":"\"\"","v":""},{"$f":"\"\"","v":""},{"$f":"\"\"","v":""},{"$f":"\"\"","v":""},{"$f":"\"\"","v":""},{"$f":"\"\"","v":""},{"$f":"\"\"","v":""},{"$f":"\"\"","v":""},{"$f":"\"\"","v":""},{"$f":"\"\"","v":""},{"$f":"\"\"","v":""},{"$f":"\"\"","v":""},{"$f":"\"\"","v":""},{"$f":"\"\"","v":""},{"$f":"\"\"","v":""},{"$f":"\"\"","v":""},{"$f":"\"\"","v":""},{"$f":"\"\"","v":""},{"$f":"\"\"","v":""},{"$f":"\"\"","v":""},{"$f":"\"\"","v":""},{"$f":"\"\"","v":""},{"$f":"\"\"","v":""},{"$f":"\"\"","v":""},{"$f":"\"\"","v":""},{"$f":"\"\"","v":""},{"$f":"\"\"","v":""},{"$f":"\"\"","v":""},{"$f":"\"\"","v":""},{"$f":"\"\"","v":""},{"$f":"\"\"","v":""},{"$f":"\"\"","v":""},{"$f":"\"\"","v":""},{"$f":"\"\"","v":""},{"$f":"\"\"","v":""},{"$f":"\"\"","v":""},{"$f":"\"\"","v":""},{"$f":"\"\"","v":""},{"$f":"\"\"","v":""},{"$f":"\"\"","v":""},{"$f":"\"\"","v":""},{"$f":"\"\"","v":""},{"$f":"\"\"","v":""},{"$f":"\"\"","v":""},{"$f":"\"\"","v":""},{"$f":"\"\"","v":""},{"$f":"\"\"","v":""},{"$f":"\"\"","v":""},{"$f":"\"\"","v":""},{"$f":"\"\"","v":""},{"$f":"\"\"","v":""},{"$f":"\"\"","v":""},{"$f":"\"\"","v":""},{"$f":"\"\"","v":""},{"$f":"\"\"","v":""},{"$f":"\"\"","v":""},{"$f":"\"\"","v":""},{"$f":"\"\"","v":""},{"$f":"\"\"","v":""},{"$f":"\"\"","v":""},{"$f":"\"\"","v":""},{"$f":"\"\"","v":""},{"$f":"\"\"","v":""},{"$f":"\"\"","v":""},{"$f":"\"\"","v":""},{"$f":"\"\"","v":""},{"$f":"\"\"","v":""},{"$f":"\"\"","v":""},{"$f":"\"\"","v":""},{"$f":"\"\"","v":""},{"$f":"\"\"","v":""},{"$f":"\"\"","v":""},{"$f":"\"\"","v":""},{"$f":"\"\"","v":""},{"$f":"\"\"","v":""},{"$f":"\"\"","v":""},{"$f":"\"\"","v":""},{"$f":"\"\"","v":""},{"$f":"\"\"","v":""},{"$f":"\"\"","v":""},{"$f":"\"\"","v":""},{"$f":"\"\"","v":""},{"$f":"\"\"","v":""},{"$f":"\"\"","v":""},{"$f":"\"\"","v":""},{"$f":"\"\"","v":""},{"$f":"\"\"","v":""},{"$f":"\"\"","v":""},{"$f":"\"\"","v":""},{"$f":"\"\"","v":""},{"$f":"\"\"","v":""},{"$f":"\"\"","v":""},{"$f":"\"\"","v":""},{"$f":"\"\"","v":""},{"$f":"\"\"","v":""},{"$f":"\"\"","v":""},{"$f":"\"\"","v":""},{"$f":"\"\"","v":""},{"$f":"\"\"","v":""},{"$f":"\"\"","v":""},{"$f":"\"\"","v":""},{"$f":"\"\"","v":""},{"$f":"\"\"","v":""},{"$f":"\"\"","v":""},{"$f":"\"\"","v":""},{"$f":"\"\"","v":""},{"$f":"\"\"","v":""},{"$f":"\"\"","v":""},{"$f":"\"\"","v":""},{"$f":"\"\"","v":""},{"$f":"\"\"","v":""},{"$f":"\"\"","v":""},{"$f":"\"\"","v":""},{"$f":"\"\"","v":""},{"$f":"\"\"","v":""},{"$f":"\"\"","v":""},{"$f":"\"\"","v":""},{"$f":"\"\"","v":""},{"$f":"\"\"","v":""},{"$f":"\"\"","v":""},{"$f":"\"\"","v":""},{"$f":"\"\"","v":""},{"$f":"\"\"","v":""},{"$f":"\"\"","v":""},{"$f":"\"\"","v":""},{"$f":"\"\"","v":""},{"$f":"\"\"","v":""},{"$f":"\"\"","v":""},{"$f":"\"\"","v":""},{"$f":"\"\"","v":""},{"$f":"\"\"","v":""},{"$f":"\"\"","v":""},{"$f":"\"\"","v":""},{"$f":"\"\"","v":""},{"$f":"\"\"","v":""},{"$f":"\"\"","v":""},{"$f":"\"\"","v":""},{"$f":"\"\"","v":""},{"$f":"\"\"","v":""},{"$f":"\"\"","v":""},{"$f":"\"\"","v":""},{"$f":"\"\"","v":""},{"$f":"\"\"","v":""},{"$f":"\"\"","v":""},{"$f":"\"\"","v":""},{"$f":"\"\"","v":""},{"$f":"\"\"","v":""},{"$f":"\"\"","v":""},{"$f":"\"\"","v":""},{"$f":"\"\"","v":""},{"$f":"\"\"","v":""},{"$f":"\"\"","v":""},{"$f":"\"\"","v":""},{"$f":"\"\"","v":""},{"$f":"\"\"","v":""},{"$f":"\"\"","v":""},{"$f":"\"\"","v":""},{"$f":"\"\"","v":""},{"$f":"\"\"","v":""},{"$f":"\"\"","v":""},{"$f":"\"\"","v":""},{"$f":"\"\"","v":""},{"$f":"\"\"","v":""},{"$f":"\"\"","v":""},{"$f":"\"\"","v":""},{"$f":"\"\"","v":""},{"$f":"\"\"","v":""},{"$f":"\"\"","v":""},{"$f":"\"\"","v":""},{"$f":"\"\"","v":""},{"$f":"\"\"","v":""},{"$f":"\"\"","v":""},{"$f":"\"\"","v":""},{"$f":"\"\"","v":""},{"$f":"\"\"","v":""},{"$f":"\"\"","v":""},{"$f":"\"\"","v":""},{"$f":"\"\"","v":""},{"$f":"\"\"","v":""},{"$f":"\"\"","v":""},{"$f":"\"\"","v":""},{"$f":"\"\"","v":""},{"$f":"\"\"","v":""},{"$f":"\"\"","v":""},{"$f":"\"\"","v":""},{"$f":"\"\"","v":""},{"$f":"\"\"","v":""},{"$f":"\"\"","v":""},{"$f":"\"\"","v":""},{"$f":"\"\"","v":""},{"$f":"\"\"","v":""},{"$f":"\"\"","v":""},{"$f":"\"\"","v":""},{"$f":"\"\"","v":""},{"$f":"\"\"","v":""},{"$f":"\"\"","v":""},{"$f":"\"\"","v":""},{"$f":"\"\"","v":""},{"$f":"\"\"","v":""},{"$f":"\"\"","v":""},{"$f":"\"\"","v":""},{"$f":"\"\"","v":""},{"$f":"\"\"","v":""},{"$f":"\"\"","v":""},{"$f":"\"\"","v":""},{"$f":"\"\"","v":""},{"$f":"\"\"","v":""},{"$f":"\"\"","v":""},{"$f":"\"\"","v":""},{"$f":"\"\"","v":""},{"$f":"\"\"","v":""},{"$f":"\"\"","v":""},{"$f":"\"\"","v":""},{"$f":"\"\"","v":""},{"$f":"\"\"","v":""},{"$f":"\"\"","v":""},{"$f":"\"\"","v":""},{"$f":"\"\"","v":""},{"$f":"\"\"","v":""},{"$f":"\"\"","v":""},{"$f":"\"\"","v":""},{"$f":"\"\"","v":""},{"$f":"\"\"","v":""},{"$f":"\"\"","v":""},{"$f":"\"\"","v":""},{"$f":"\"\"","v":""},{"$f":"\"\"","v":""},{"$f":"\"\"","v":""},{"$f":"\"\"","v":""},{"$f":"\"\"","v":""},{"$f":"\"\"","v":""},{"$f":"\"\"","v":""},{"$f":"\"\"","v":""},{"$f":"\"\"","v":""},{"$f":"\"\"","v":""},{"$f":"\"\"","v":""},{"$f":"\"\"","v":""},{"$f":"\"\"","v":""},{"$f":"\"\"","v":""},{"$f":"\"\"","v":""},{"$f":"\"\"","v":""},{"$f":"\"\"","v":""},{"$f":"\"\"","v":""},{"$f":"\"\"","v":""},{"$f":"\"\"","v":""},{"$f":"\"\"","v":""},{"$f":"\"\"","v":""},{"$f":"\"\"","v":""},{"$f":"\"\"","v":""},{"$f":"\"\"","v":""},{"$f":"\"\"","v":""},{"$f":"\"\"","v":""},{"$f":"\"\"","v":""},{"$f":"\"\"","v":""},{"$f":"\"\"","v":""},{"$f":"\"\"","v":""},{"$f":"\"\"","v":""},{"$f":"\"\"","v":""},{"$f":"\"\"","v":""},{"$f":"\"\"","v":""},{"$f":"\"\"","v":""},{"$f":"\"\"","v":""},{"$f":"\"\"","v":""},{"$f":"\"\"","v":""},{"$f":"\"\"","v":""},{"$f":"\"\"","v":""},{"$f":"\"\"","v":""},{"$f":"\"\"","v":""},{"$f":"\"\"","v":""},{"$f":"\"\"","v":""},{"$f":"\"\"","v":""},{"$f":"\"\"","v":""},{"$f":"\"\"","v":""},{"$f":"\"\"","v":""},{"$f":"\"\"","v":""},{"$f":"\"\"","v":""},{"$f":"\"\"","v":""},{"$f":"\"\"","v":""},{"$f":"\"\"","v":""},{"$f":"\"\"","v":""},{"$f":"\"\"","v":""},{"$f":"\"\"","v":""},{"$f":"\"\"","v":""},{"$f":"\"\"","v":""},{"$f":"\"\"","v":""},{"$f":"\"\"","v":""},{"$f":"\"\"","v":""},{"$f":"\"\"","v":""},{"$f":"\"\"","v":""},{"$f":"\"\"","v":""},{"$f":"\"\"","v":""},{"$f":"\"\"","v":""},{"$f":"\"\"","v":""},{"$f":"\"\"","v":""},{"$f":"\"\"","v":""},{"$f":"\"\"","v":""},{"$f":"\"\"","v":""},{"$f":"\"\"","v":""},{"$f":"\"\"","v":""},{"$f":"\"\"","v":""},{"$f":"\"\"","v":""},{"$f":"\"\"","v":""},{"$f":"\"\"","v":""},{"$f":"\"\"","v":""},{"$f":"\"\"","v":""},{"$f":"\"\"","v":""},{"$f":"\"\"","v":""},{"$f":"\"\"","v":""},{"$f":"\"\"","v":""},{"$f":"\"\"","v":""},{"$f":"\"\"","v":""},{"$f":"\"\"","v":""},{"$f":"\"\"","v":""},{"$f":"\"\"","v":""},{"$f":"\"\"","v":""},{"$f":"\"\"","v":""},{"$f":"\"\"","v":""},{"$f":"\"\"","v":""},{"$f":"\"\"","v":""},{"$f":"\"\"","v":""},{"$f":"\"\"","v":""},{"$f":"\"\"","v":""},{"$f":"\"\"","v":""},{"$f":"\"\"","v":""},{"$f":"\"\"","v":""},{"$f":"\"\"","v":""},{"$f":"\"\"","v":""},{"$f":"\"\"","v":""},{"$f":"\"\"","v":""},{"$f":"\"\"","v":""},{"$f":"\"\"","v":""},{"$f":"\"\"","v":""},{"$f":"\"\"","v":""},{"$f":"\"\"","v":""},{"$f":"\"\"","v":""},{"$f":"\"\"","v":""},{"$f":"\"\"","v":""},{"$f":"\"\"","v":""},{"$f":"\"\"","v":""},{"$f":"\"\"","v":""},{"$f":"\"\"","v":""},{"$f":"\"\"","v":""},{"$f":"\"\"","v":""},{"$f":"\"\"","v":""},{"$f":"\"\"","v":""},{"$f":"\"\"","v":""},{"$f":"\"\"","v":""},{"$f":"\"\"","v":""},{"$f":"\"\"","v":""},{"$f":"\"\"","v":""},{"$f":"\"\"","v":""},{"$f":"\"\"","v":""},{"$f":"\"\"","v":""},{"$f":"\"\"","v":""},{"$f":"\"\"","v":""},{"$f":"\"\"","v":""}]
["  2.1  Diverse Experiences",null,{"$f":"IF(COUNT(E8:IV8)<>0,AVERAGE(E8:IV8),\"\")","v":""},{"$f":"IF(COUNT(C8)<>0,ROUND(AVERAGE(C8),0),\"\")","v":""},{"$f":"IF('Cycle 1'!$F30= \"NS\",\"NS\",IF('Cycle 1'!$F30=\"\",\"\",IF('Cycle 1'!$F30<>0,VALUE('Cycle 1'!$F30), VALUE(\"0\"))))","v":""},{"$f":"IF('Cycle 2'!$F30= \"NS\",\"NS\",IF('Cycle 2'!$F30=\"\",\"\",IF('Cycle 2'!$F30<>0,VALUE('Cycle 2'!$F30), VALUE(\"0\"))))","v":""},{"$f":"IF('Cycle 3'!$F30= \"NS\",\"NS\",IF('Cycle 3'!$F30=\"\",\"\",IF('Cycle 3'!$F30<>0,VALUE('Cycle 3'!$F30), VALUE(\"0\"))))","v":""},{"$f":"IF('Cycle 4'!$F30= \"NS\",\"NS\",IF('Cycle 4'!$F30=\"\",\"\",IF('Cycle 4'!$F30<>0,VALUE('Cycle 4'!$F30), VALUE(\"0\"))))","v":""}]
["STANDARD 3:  Learning Environment",null,{"$f":"\"\"","v":""},{"$f":"\"\"","v":""},{"$f":"\"\"","v":""},{"$f":"\"\"","v":""},{"$f":"\"\"","v":""},{"$f":"\"\"","v":""},{"$f":"\"\"","v":""},{"$f":"\"\"","v":""},{"$f":"\"\"","v":""},{"$f":"\"\"","v":""},{"$f":"\"\"","v":""},{"$f":"\"\"","v":""},{"$f":"\"\"","v":""},{"$f":"\"\"","v":""},{"$f":"\"\"","v":""},{"$f":"\"\"","v":""},{"$f":"\"\"","v":""},{"$f":"\"\"","v":""},{"$f":"\"\"","v":""},{"$f":"\"\"","v":""},{"$f":"\"\"","v":""},{"$f":"\"\"","v":""},{"$f":"\"\"","v":""},{"$f":"\"\"","v":""},{"$f":"\"\"","v":""},{"$f":"\"\"","v":""},{"$f":"\"\"","v":""},{"$f":"\"\"","v":""},{"$f":"\"\"","v":""},{"$f":"\"\"","v":""},{"$f":"\"\"","v":""},{"$f":"\"\"","v":""},{"$f":"\"\"","v":""},{"$f":"\"\"","v":""},{"$f":"\"\"","v":""},{"$f":"\"\"","v":""},{"$f":"\"\"","v":""},{"$f":"\"\"","v":""},{"$f":"\"\"","v":""},{"$f":"\"\"","v":""},{"$f":"\"\"","v":""},{"$f":"\"\"","v":""},{"$f":"\"\"","v":""},{"$f":"\"\"","v":""},{"$f":"\"\"","v":""},{"$f":"\"\"","v":""},{"$f":"\"\"","v":""},{"$f":"\"\"","v":""},{"$f":"\"\"","v":""},{"$f":"\"\"","v":""},{"$f":"\"\"","v":""},{"$f":"\"\"","v":""},{"$f":"\"\"","v":""},{"$f":"\"\"","v":""},{"$f":"\"\"","v":""},{"$f":"\"\"","v":""},{"$f":"\"\"","v":""},{"$f":"\"\"","v":""},{"$f":"\"\"","v":""},{"$f":"\"\"","v":""},{"$f":"\"\"","v":""},{"$f":"\"\"","v":""},{"$f":"\"\"","v":""},{"$f":"\"\"","v":""},{"$f":"\"\"","v":""},{"$f":"\"\"","v":""},{"$f":"\"\"","v":""},{"$f":"\"\"","v":""},{"$f":"\"\"","v":""},{"$f":"\"\"","v":""},{"$f":"\"\"","v":""},{"$f":"\"\"","v":""},{"$f":"\"\"","v":""},{"$f":"\"\"","v":""},{"$f":"\"\"","v":""},{"$f":"\"\"","v":""},{"$f":"\"\"","v":""},{"$f":"\"\"","v":""},{"$f":"\"\"","v":""},{"$f":"\"\"","v":""},{"$f":"\"\"","v":""},{"$f":"\"\"","v":""},{"$f":"\"\"","v":""},{"$f":"\"\"","v":""},{"$f":"\"\"","v":""},{"$f":"\"\"","v":""},{"$f":"\"\"","v":""},{"$f":"\"\"","v":""},{"$f":"\"\"","v":""},{"$f":"\"\"","v":""},{"$f":"\"\"","v":""},{"$f":"\"\"","v":""},{"$f":"\"\"","v":""},{"$f":"\"\"","v":""},{"$f":"\"\"","v":""},{"$f":"\"\"","v":""},{"$f":"\"\"","v":""},{"$f":"\"\"","v":""},{"$f":"\"\"","v":""},{"$f":"\"\"","v":""},{"$f":"\"\"","v":""},{"$f":"\"\"","v":""},{"$f":"\"\"","v":""},{"$f":"\"\"","v":""},{"$f":"\"\"","v":""},{"$f":"\"\"","v":""},{"$f":"\"\"","v":""},{"$f":"\"\"","v":""},{"$f":"\"\"","v":""},{"$f":"\"\"","v":""},{"$f":"\"\"","v":""},{"$f":"\"\"","v":""},{"$f":"\"\"","v":""},{"$f":"\"\"","v":""},{"$f":"\"\"","v":""},{"$f":"\"\"","v":""},{"$f":"\"\"","v":""},{"$f":"\"\"","v":""},{"$f":"\"\"","v":""},{"$f":"\"\"","v":""},{"$f":"\"\"","v":""},{"$f":"\"\"","v":""},{"$f":"\"\"","v":""},{"$f":"\"\"","v":""},{"$f":"\"\"","v":""},{"$f":"\"\"","v":""},{"$f":"\"\"","v":""},{"$f":"\"\"","v":""},{"$f":"\"\"","v":""},{"$f":"\"\"","v":""},{"$f":"\"\"","v":""},{"$f":"\"\"","v":""},{"$f":"\"\"","v":""},{"$f":"\"\"","v":""},{"$f":"\"\"","v":""},{"$f":"\"\"","v":""},{"$f":"\"\"","v":""},{"$f":"\"\"","v":""},{"$f":"\"\"","v":""},{"$f":"\"\"","v":""},{"$f":"\"\"","v":""},{"$f":"\"\"","v":""},{"$f":"\"\"","v":""},{"$f":"\"\"","v":""},{"$f":"\"\"","v":""},{"$f":"\"\"","v":""},{"$f":"\"\"","v":""},{"$f":"\"\"","v":""},{"$f":"\"\"","v":""},{"$f":"\"\"","v":""},{"$f":"\"\"","v":""},{"$f":"\"\"","v":""},{"$f":"\"\"","v":""},{"$f":"\"\"","v":""},{"$f":"\"\"","v":""},{"$f":"\"\"","v":""},{"$f":"\"\"","v":""},{"$f":"\"\"","v":""},{"$f":"\"\"","v":""},{"$f":"\"\"","v":""},{"$f":"\"\"","v":""},{"$f":"\"\"","v":""},{"$f":"\"\"","v":""},{"$f":"\"\"","v":""},{"$f":"\"\"","v":""},{"$f":"\"\"","v":""},{"$f":"\"\"","v":""},{"$f":"\"\"","v":""},{"$f":"\"\"","v":""},{"$f":"\"\"","v":""},{"$f":"\"\"","v":""},{"$f":"\"\"","v":""},{"$f":"\"\"","v":""},{"$f":"\"\"","v":""},{"$f":"\"\"","v":""},{"$f":"\"\"","v":""},{"$f":"\"\"","v":""},{"$f":"\"\"","v":""},{"$f":"\"\"","v":""},{"$f":"\"\"","v":""},{"$f":"\"\"","v":""},{"$f":"\"\"","v":""},{"$f":"\"\"","v":""},{"$f":"\"\"","v":""},{"$f":"\"\"","v":""},{"$f":"\"\"","v":""},{"$f":"\"\"","v":""},{"$f":"\"\"","v":""},{"$f":"\"\"","v":""},{"$f":"\"\"","v":""},{"$f":"\"\"","v":""},{"$f":"\"\"","v":""},{"$f":"\"\"","v":""},{"$f":"\"\"","v":""},{"$f":"\"\"","v":""},{"$f":"\"\"","v":""},{"$f":"\"\"","v":""},{"$f":"\"\"","v":""},{"$f":"\"\"","v":""},{"$f":"\"\"","v":""},{"$f":"\"\"","v":""},{"$f":"\"\"","v":""},{"$f":"\"\"","v":""},{"$f":"\"\"","v":""},{"$f":"\"\"","v":""},{"$f":"\"\"","v":""},{"$f":"\"\"","v":""},{"$f":"\"\"","v":""},{"$f":"\"\"","v":""},{"$f":"\"\"","v":""},{"$f":"\"\"","v":""},{"$f":"\"\"","v":""},{"$f":"\"\"","v":""},{"$f":"\"\"","v":""},{"$f":"\"\"","v":""},{"$f":"\"\"","v":""},{"$f":"\"\"","v":""},{"$f":"\"\"","v":""},{"$f":"\"\"","v":""},{"$f":"\"\"","v":""},{"$f":"\"\"","v":""},{"$f":"\"\"","v":""},{"$f":"\"\"","v":""},{"$f":"\"\"","v":""},{"$f":"\"\"","v":""},{"$f":"\"\"","v":""},{"$f":"\"\"","v":""},{"$f":"\"\"","v":""},{"$f":"\"\"","v":""},{"$f":"\"\"","v":""},{"$f":"\"\"","v":""},{"$f":"\"\"","v":""},{"$f":"\"\"","v":""},{"$f":"\"\"","v":""},{"$f":"\"\"","v":""},{"$f":"\"\"","v":""},{"$f":"\"\"","v":""},{"$f":"\"\"","v":""},{"$f":"\"\"","v":""},{"$f":"\"\"","v":""},{"$f":"\"\"","v":""},{"$f":"\"\"","v":""},{"$f":"\"\"","v":""},{"$f":"\"\"","v":""},{"$f":"\"\"","v":""},{"$f":"\"\"","v":""},{"$f":"\"\"","v":""},{"$f":"\"\"","v":""},{"$f":"\"\"","v":""},{"$f":"\"\"","v":""},{"$f":"\"\"","v":""},{"$f":"\"\"","v":""},{"$f":"\"\"","v":""},{"$f":"\"\"","v":""},{"$f":"\"\"","v":""},{"$f":"\"\"","v":""},{"$f":"\"\"","v":""},{"$f":"\"\"","v":""},{"$f":"\"\"","v":""},{"$f":"\"\"","v":""},{"$f":"\"\"","v":""},{"$f":"\"\"","v":""},{"$f":"\"\"","v":""},{"$f":"\"\"","v":""},{"$f":"\"\"","v":""},{"$f":"\"\"","v":""},{"$f":"\"\"","v":""},{"$f":"\"\"","v":""},{"$f":"\"\"","v":""},{"$f":"\"\"","v":""},{"$f":"\"\"","v":""},{"$f":"\"\"","v":""},{"$f":"\"\"","v":""},{"$f":"\"\"","v":""},{"$f":"\"\"","v":""},{"$f":"\"\"","v":""},{"$f":"\"\"","v":""},{"$f":"\"\"","v":""},{"$f":"\"\"","v":""},{"$f":"\"\"","v":""},{"$f":"\"\"","v":""},{"$f":"\"\"","v":""},{"$f":"\"\"","v":""},{"$f":"\"\"","v":""},{"$f":"\"\"","v":""},{"$f":"\"\"","v":""},{"$f":"\"\"","v":""},{"$f":"\"\"","v":""},{"$f":"\"\"","v":""},{"$f":"\"\"","v":""},{"$f":"\"\"","v":""},{"$f":"\"\"","v":""},{"$f":"\"\"","v":""},{"$f":"\"\"","v":""},{"$f":"\"\"","v":""},{"$f":"\"\"","v":""},{"$f":"\"\"","v":""},{"$f":"\"\"","v":""},{"$f":"\"\"","v":""},{"$f":"\"\"","v":""},{"$f":"\"\"","v":""},{"$f":"\"\"","v":""},{"$f":"\"\"","v":""},{"$f":"\"\"","v":""},{"$f":"\"\"","v":""},{"$f":"\"\"","v":""},{"$f":"\"\"","v":""},{"$f":"\"\"","v":""},{"$f":"\"\"","v":""},{"$f":"\"\"","v":""},{"$f":"\"\"","v":""},{"$f":"\"\"","v":""},{"$f":"\"\"","v":""},{"$f":"\"\"","v":""},{"$f":"\"\"","v":""},{"$f":"\"\"","v":""},{"$f":"\"\"","v":""},{"$f":"\"\"","v":""},{"$f":"\"\"","v":""},{"$f":"\"\"","v":""},{"$f":"\"\"","v":""},{"$f":"\"\"","v":""},{"$f":"\"\"","v":""},{"$f":"\"\"","v":""},{"$f":"\"\"","v":""},{"$f":"\"\"","v":""},{"$f":"\"\"","v":""},{"$f":"\"\"","v":""},{"$f":"\"\"","v":""},{"$f":"\"\"","v":""},{"$f":"\"\"","v":""},{"$f":"\"\"","v":""},{"$f":"\"\"","v":""},{"$f":"\"\"","v":""},{"$f":"\"\"","v":""},{"$f":"\"\"","v":""},{"$f":"\"\"","v":""},{"$f":"\"\"","v":""},{"$f":"\"\"","v":""},{"$f":"\"\"","v":""},{"$f":"\"\"","v":""},{"$f":"\"\"","v":""},{"$f":"\"\"","v":""},{"$f":"\"\"","v":""},{"$f":"\"\"","v":""},{"$f":"\"\"","v":""},{"$f":"\"\"","v":""},{"$f":"\"\"","v":""},{"$f":"\"\"","v":""},{"$f":"\"\"","v":""},{"$f":"\"\"","v":""},{"$f":"\"\"","v":""},{"$f":"\"\"","v":""},{"$f":"\"\"","v":""},{"$f":"\"\"","v":""},{"$f":"\"\"","v":""},{"$f":"\"\"","v":""},{"$f":"\"\"","v":""},{"$f":"\"\"","v":""},{"$f":"\"\"","v":""},{"$f":"\"\"","v":""},{"$f":"\"\"","v":""},{"$f":"\"\"","v":""},{"$f":"\"\"","v":""},{"$f":"\"\"","v":""},{"$f":"\"\"","v":""},{"$f":"\"\"","v":""},{"$f":"\"\"","v":""},{"$f":"\"\"","v":""},{"$f":"\"\"","v":""},{"$f":"\"\"","v":""},{"$f":"\"\"","v":""},{"$f":"\"\"","v":""},{"$f":"\"\"","v":""},{"$f":"\"\"","v":""},{"$f":"\"\"","v":""},{"$f":"\"\"","v":""},{"$f":"\"\"","v":""},{"$f":"\"\"","v":""},{"$f":"\"\"","v":""},{"$f":"\"\"","v":""},{"$f":"\"\"","v":""},{"$f":"\"\"","v":""},{"$f":"\"\"","v":""},{"$f":"\"\"","v":""},{"$f":"\"\"","v":""},{"$f":"\"\"","v":""},{"$f":"\"\"","v":""},{"$f":"\"\"","v":""},{"$f":"\"\"","v":""},{"$f":"\"\"","v":""},{"$f":"\"\"","v":""},{"$f":"\"\"","v":""},{"$f":"\"\"","v":""},{"$f":"\"\"","v":""},{"$f":"\"\"","v":""},{"$f":"\"\"","v":""},{"$f":"\"\"","v":""},{"$f":"\"\"","v":""},{"$f":"\"\"","v":""},{"$f":"\"\"","v":""},{"$f":"\"\"","v":""},{"$f":"\"\"","v":""},{"$f":"\"\"","v":""},{"$f":"\"\"","v":""},{"$f":"\"\"","v":""},{"$f":"\"\"","v":""},{"$f":"\"\"","v":""},{"$f":"\"\"","v":""},{"$f":"\"\"","v":""},{"$f":"\"\"","v":""},{"$f":"\"\"","v":""},{"$f":"\"\"","v":""},{"$f":"\"\"","v":""},{"$f":"\"\"","v":""},{"$f":"\"\"","v":""},{"$f":"\"\"","v":""},{"$f":"\"\"","v":""},{"$f":"\"\"","v":""},{"$f":"\"\"","v":""},{"$f":"\"\"","v":""},{"$f":"\"\"","v":""},{"$f":"\"\"","v":""},{"$f":"\"\"","v":""},{"$f":"\"\"","v":""},{"$f":"\"\"","v":""},{"$f":"\"\"","v":""},{"$f":"\"\"","v":""},{"$f":"\"\"","v":""},{"$f":"\"\"","v":""},{"$f":"\"\"","v":""},{"$f":"\"\"","v":""},{"$f":"\"\"","v":""},{"$f":"\"\"","v":""},{"$f":"\"\"","v":""},{"$f":"\"\"","v":""},{"$f":"\"\"","v":""},{"$f":"\"\"","v":""},{"$f":"\"\"","v":""},{"$f":"\"\"","v":""},{"$f":"\"\"","v":""},{"$f":"\"\"","v":""},{"$f":"\"\"","v":""},{"$f":"\"\"","v":""},{"$f":"\"\"","v":""},{"$f":"\"\"","v":""},{"$f":"\"\"","v":""},{"$f":"\"\"","v":""},{"$f":"\"\"","v":""},{"$f":"\"\"","v":""},{"$f":"\"\"","v":""},{"$f":"\"\"","v":""},{"$f":"\"\"","v":""},{"$f":"\"\"","v":""},{"$f":"\"\"","v":""},{"$f":"\"\"","v":""},{"$f":"\"\"","v":""},{"$f":"\"\"","v":""},{"$f":"\"\"","v":""},{"$f":"\"\"","v":""},{"$f":"\"\"","v":""},{"$f":"\"\"","v":""},{"$f":"\"\"","v":""},{"$f":"\"\"","v":""},{"$f":"\"\"","v":""},{"$f":"\"\"","v":""},{"$f":"\"\"","v":""},{"$f":"\"\"","v":""},{"$f":"\"\"","v":""},{"$f":"\"\"","v":""},{"$f":"\"\"","v":""},{"$f":"\"\"","v":""},{"$f":"\"\"","v":""},{"$f":"\"\"","v":""},{"$f":"\"\"","v":""},{"$f":"\"\"","v":""},{"$f":"\"\"","v":""},{"$f":"\"\"","v":""},{"$f":"\"\"","v":""},{"$f":"\"\"","v":""},{"$f":"\"\"","v":""},{"$f":"\"\"","v":""},{"$f":"\"\"","v":""},{"$f":"\"\"","v":""},{"$f":"\"\"","v":""},{"$f":"\"\"","v":""},{"$f":"\"\"","v":""},{"$f":"\"\"","v":""},{"$f":"\"\"","v":""},{"$f":"\"\"","v":""},{"$f":"\"\"","v":""},{"$f":"\"\"","v":""},{"$f":"\"\"","v":""},{"$f":"\"\"","v":""},{"$f":"\"\"","v":""},{"$f":"\"\"","v":""},{"$f":"\"\"","v":""},{"$f":"\"\"","v":""},{"$f":"\"\"","v":""},{"$f":"\"\"","v":""},{"$f":"\"\"","v":""},{"$f":"\"\"","v":""},{"$f":"\"\"","v":""},{"$f":"\"\"","v":""},{"$f":"\"\"","v":""},{"$f":"\"\"","v":""},{"$f":"\"\"","v":""},{"$f":"\"\"","v":""},{"$f":"\"\"","v":""},{"$f":"\"\"","v":""},{"$f":"\"\"","v":""},{"$f":"\"\"","v":""},{"$f":"\"\"","v":""},{"$f":"\"\"","v":""},{"$f":"\"\"","v":""},{"$f":"\"\"","v":""},{"$f":"\"\"","v":""},{"$f":"\"\"","v":""},{"$f":"\"\"","v":""},{"$f":"\"\"","v":""},{"$f":"\"\"","v":""},{"$f":"\"\"","v":""},{"$f":"\"\"","v":""},{"$f":"\"\"","v":""},{"$f":"\"\"","v":""},{"$f":"\"\"","v":""},{"$f":"\"\"","v":""},{"$f":"\"\"","v":""},{"$f":"\"\"","v":""},{"$f":"\"\"","v":""},{"$f":"\"\"","v":""},{"$f":"\"\"","v":""},{"$f":"\"\"","v":""},{"$f":"\"\"","v":""},{"$f":"\"\"","v":""},{"$f":"\"\"","v":""},{"$f":"\"\"","v":""},{"$f":"\"\"","v":""},{"$f":"\"\"","v":""},{"$f":"\"\"","v":""},{"$f":"\"\"","v":""},{"$f":"\"\"","v":""},{"$f":"\"\"","v":""},{"$f":"\"\"","v":""},{"$f":"\"\"","v":""},{"$f":"\"\"","v":""},{"$f":"\"\"","v":""},{"$f":"\"\"","v":""},{"$f":"\"\"","v":""},{"$f":"\"\"","v":""},{"$f":"\"\"","v":""},{"$f":"\"\"","v":""},{"$f":"\"\"","v":""},{"$f":"\"\"","v":""},{"$f":"\"\"","v":""},{"$f":"\"\"","v":""},{"$f":"\"\"","v":""},{"$f":"\"\"","v":""},{"$f":"\"\"","v":""},{"$f":"\"\"","v":""},{"$f":"\"\"","v":""},{"$f":"\"\"","v":""},{"$f":"\"\"","v":""},{"$f":"\"\"","v":""},{"$f":"\"\"","v":""},{"$f":"\"\"","v":""},{"$f":"\"\"","v":""},{"$f":"\"\"","v":""},{"$f":"\"\"","v":""},{"$f":"\"\"","v":""},{"$f":"\"\"","v":""},{"$f":"\"\"","v":""},{"$f":"\"\"","v":""},{"$f":"\"\"","v":""},{"$f":"\"\"","v":""},{"$f":"\"\"","v":""},{"$f":"\"\"","v":""},{"$f":"\"\"","v":""},{"$f":"\"\"","v":""},{"$f":"\"\"","v":""},{"$f":"\"\"","v":""},{"$f":"\"\"","v":""},{"$f":"\"\"","v":""},{"$f":"\"\"","v":""},{"$f":"\"\"","v":""},{"$f":"\"\"","v":""},{"$f":"\"\"","v":""},{"$f":"\"\"","v":""},{"$f":"\"\"","v":""},{"$f":"\"\"","v":""},{"$f":"\"\"","v":""},{"$f":"\"\"","v":""},{"$f":"\"\"","v":""},{"$f":"\"\"","v":""},{"$f":"\"\"","v":""},{"$f":"\"\"","v":""},{"$f":"\"\"","v":""},{"$f":"\"\"","v":""},{"$f":"\"\"","v":""},{"$f":"\"\"","v":""},{"$f":"\"\"","v":""},{"$f":"\"\"","v":""},{"$f":"\"\"","v":""},{"$f":"\"\"","v":""},{"$f":"\"\"","v":""},{"$f":"\"\"","v":""},{"$f":"\"\"","v":""},{"$f":"\"\"","v":""},{"$f":"\"\"","v":""},{"$f":"\"\"","v":""},{"$f":"\"\"","v":""},{"$f":"\"\"","v":""},{"$f":"\"\"","v":""},{"$f":"\"\"","v":""},{"$f":"\"\"","v":""},{"$f":"\"\"","v":""},{"$f":"\"\"","v":""},{"$f":"\"\"","v":""},{"$f":"\"\"","v":""},{"$f":"\"\"","v":""},{"$f":"\"\"","v":""},{"$f":"\"\"","v":""},{"$f":"\"\"","v":""},{"$f":"\"\"","v":""},{"$f":"\"\"","v":""},{"$f":"\"\"","v":""},{"$f":"\"\"","v":""},{"$f":"\"\"","v":""},{"$f":"\"\"","v":""},{"$f":"\"\"","v":""},{"$f":"\"\"","v":""},{"$f":"\"\"","v":""},{"$f":"\"\"","v":""},{"$f":"\"\"","v":""},{"$f":"\"\"","v":""},{"$f":"\"\"","v":""},{"$f":"\"\"","v":""},{"$f":"\"\"","v":""},{"$f":"\"\"","v":""},{"$f":"\"\"","v":""},{"$f":"\"\"","v":""},{"$f":"\"\"","v":""},{"$f":"\"\"","v":""},{"$f":"\"\"","v":""},{"$f":"\"\"","v":""},{"$f":"\"\"","v":""},{"$f":"\"\"","v":""},{"$f":"\"\"","v":""},{"$f":"\"\"","v":""},{"$f":"\"\"","v":""},{"$f":"\"\"","v":""},{"$f":"\"\"","v":""},{"$f":"\"\"","v":""},{"$f":"\"\"","v":""},{"$f":"\"\"","v":""},{"$f":"\"\"","v":""},{"$f":"\"\"","v":""},{"$f":"\"\"","v":""},{"$f":"\"\"","v":""},{"$f":"\"\"","v":""},{"$f":"\"\"","v":""},{"$f":"\"\"","v":""},{"$f":"\"\"","v":""},{"$f":"\"\"","v":""},{"$f":"\"\"","v":""},{"$f":"\"\"","v":""},{"$f":"\"\"","v":""},{"$f":"\"\"","v":""},{"$f":"\"\"","v":""},{"$f":"\"\"","v":""},{"$f":"\"\"","v":""},{"$f":"\"\"","v":""},{"$f":"\"\"","v":""},{"$f":"\"\"","v":""},{"$f":"\"\"","v":""},{"$f":"\"\"","v":""},{"$f":"\"\"","v":""},{"$f":"\"\"","v":""},{"$f":"\"\"","v":""},{"$f":"\"\"","v":""},{"$f":"\"\"","v":""},{"$f":"\"\"","v":""},{"$f":"\"\"","v":""},{"$f":"\"\"","v":""},{"$f":"\"\"","v":""},{"$f":"\"\"","v":""},{"$f":"\"\"","v":""},{"$f":"\"\"","v":""},{"$f":"\"\"","v":""},{"$f":"\"\"","v":""},{"$f":"\"\"","v":""},{"$f":"\"\"","v":""},{"$f":"\"\"","v":""},{"$f":"\"\"","v":""},{"$f":"\"\"","v":""},{"$f":"\"\"","v":""},{"$f":"\"\"","v":""},{"$f":"\"\"","v":""},{"$f":"\"\"","v":""},{"$f":"\"\"","v":""},{"$f":"\"\"","v":""},{"$f":"\"\"","v":""},{"$f":"\"\"","v":""},{"$f":"\"\"","v":""},{"$f":"\"\"","v":""},{"$f":"\"\"","v":""},{"$f":"\"\"","v":""},{"$f":"\"\"","v":""},{"$f":"\"\"","v":""},{"$f":"\"\"","v":""},{"$f":"\"\"","v":""},{"$f":"\"\"","v":""}]
["  3.1  Engage and Support Students",null,{"$f":"IF(COUNT(E10:IV10)<>0,AVERAGE(E10:IV10),\"\")","v":""},{"$f":"IF(COUNT(C10)<>0,ROUND(AVERAGE(C10),0),\"\")","v":""},{"$f":"IF('Cycle 1'!$F36= \"NS\",\"NS\",IF('Cycle 1'!$F36=\"\",\"\",IF('Cycle 1'!$F36<>0,VALUE('Cycle 1'!$F36), VALUE(\"0\"))))","v":""},{"$f":"IF('Cycle 2'!$F36= \"NS\",\"NS\",IF('Cycle 2'!$F36=\"\",\"\",IF('Cycle 2'!$F36<>0,VALUE('Cycle 2'!$F36), VALUE(\"0\"))))","v":""},{"$f":"IF('Cycle 3'!$F36= \"NS\",\"NS\",IF('Cycle 3'!$F36=\"\",\"\",IF('Cycle 3'!$F36<>0,VALUE('Cycle 3'!$F36), VALUE(\"0\"))))","v":""},{"$f":"IF('Cycle 4'!$F36= \"NS\",\"NS\",IF('Cycle 4'!$F36=\"\",\"\",IF('Cycle 4'!$F36<>0,VALUE('Cycle 4'!$F36), VALUE(\"0\"))))","v":""}]
["  3.2  Collaborates with Students",null,{"$f":"IF(COUNT(E11:IV11)<>0,AVERAGE(E11:IV11),\"\")","v":""},{"$f":"IF(COUNT(C11)<>0,ROUND(AVERAGE(C11),0),\"\")","v":""},{"$f":"IF('Cycle 1'!$F41= \"NS\",\"NS\",IF('Cycle 1'!$F41=\"\",\"\",IF('Cycle 1'!$F41<>0,VALUE('Cycle 1'!$F41), VALUE(\"0\"))))","v":""},{"$f":"IF('Cycle 2'!$F41= \"NS\",\"NS\",IF('Cycle 2'!$F41=\"\",\"\",IF('Cycle 2'!$F41<>0,VALUE('Cycle 2'!$F41), VALUE(\"0\"))))","v":""},{"$f":"IF('Cycle 3'!$F41= \"NS\",\"NS\",IF('Cycle 3'!$F41=\"\",\"\",IF('Cycle 3'!$F41<>0,VALUE('Cycle 3'!$F41), VALUE(\"0\"))))","v":""},{"$f":"IF('Cycle 4'!$F41= \"NS\",\"NS\",IF('Cycle 4'!$F41=\"\",\"\",IF('Cycle 4'!$F41<>0,VALUE('Cycle 4'!$F41), VALUE(\"0\"))))","v":""}]
["  3.3  Classroom Management Strategies",null,{"$f":"IF(COUNT(E12:IV12)<>0,AVERAGE(E12:IV12),\"\")","v":""},{"$f":"IF(COUNT(C12)<>0,ROUND(AVERAGE(C12),0),\"\")","v":""},{"$f":"IF('Cycle 1'!$F46= \"NS\",\"NS\",IF('Cycle 1'!$F46=\"\",\"\",IF('Cycle 1'!$F46<>0,VALUE('Cycle 1'!$F46), VALUE(\"0\"))))","v":""},{"$f":"IF('Cycle 2'!$F46= \"NS\",\"NS\",IF('Cycle 2'!$F46=\"\",\"\",IF('Cycle 2'!$F46<>0,VALUE('Cycle 2'!$F46), VALUE(\"0\"))))","v":""},{"$f":"IF('Cycle 3'!$F46= \"NS\",\"NS\",IF('Cycle 3'!$F46=\"\",\"\",IF('Cycle 3'!$F46<>0,VALUE('Cycle 3'!$F46), VALUE(\"0\"))))","v":""},{"$f":"IF('Cycle 4'!$F46= \"NS\",\"NS\",IF('Cycle 4'!$F46=\"\",\"\",IF('Cycle 4'!$F46<>0,VALUE('Cycle 4'!$F46), VALUE(\"0\"))))","v":""}]
["Instructional Practice",null,{"$f":"\"\"","v":""},{"$f":"\"\"","v":""},{"$f":"IF(OR(E15=\"\",E17=\"\",E18=\"\",E19=\"\",E21=\"\",E22=\"\",E24=\"\",E25=\"\",E26=\"\",E27=\"\",E28=\"\"),\"\",(SUM(E15,E17:E19,E21:E22,E24:E28)&\"/\"&3*COUNTIFS(E15:E28,\">=0\",E15:E28,\"<>\"\"\")))","v":""},{"$f":"IF(OR(F15=\"\",F17=\"\",F18=\"\",F19=\"\",F21=\"\",F22=\"\",F24=\"\",F25=\"\",F26=\"\",F27=\"\",F28=\"\"),\"\",(SUM(F15,F17:F19,F21:F22,F24:F28)&\"/\"&3*COUNTIFS(F15:F28,\">=0\",F15:F28,\"<>\"\"\")))","v":""},{"$f":"IF(OR(G15=\"\",G17=\"\",G18=\"\",G19=\"\",G21=\"\",G22=\"\",G24=\"\",G25=\"\",G26=\"\",G27=\"\",G28=\"\"),\"\",(SUM(G15,G17:G19,G21:G22,G24:G28)&\"/\"&3*COUNTIFS(G15:G28,\">=0\",G15:G28,\"<>\"\"\")))","v":""},{"$f":"IF(OR(H15=\"\",H17=\"\",H18=\"\",H19=\"\",H21=\"\",H22=\"\",H24=\"\",H25=\"\",H26=\"\",H27=\"\",H28=\"\"),\"\",(SUM(H15,H17:H19,H21:H22,H24:H28)&\"/\"&3*COUNTIFS(H15:H28,\">=0\",H15:H28,\"<>\"\"\")))","v":""},"","","","","","","","","","","","","","","","","","","","","","","","","","","","","","","","","","","","","","","","","","","","","","","","","","","","","","","","","","","","","",{"$f":"IF(OR(BR15=\"\",BR17=\"\",BR18=\"\",BR19=\"\",BR21=\"\",BR22=\"\",BR24=\"\",BR25=\"\",BR26=\"\",BR27=\"\",BR28=\"\"),\"\",(SUM(BR15,BR17:BR19,BR21:BR22,BR24:BR28)&\"/\"&3*COUNTIFS(BR15:BR28,\">=0\",BR15:BR28,\"<>\"\"\")))","v":""},"","","","","","","","","","","","","","","","","","","","","","","","","","","","","","","","","","",{"$f":"IFERROR(AVERAGE(DA15:DA15,DA17:DA19,DA21:DA22,DA24:DA28),\"\")","v":""},"","","","","","","","","","","","","","","","","","","","","","","","","","","",{"$f":"IFERROR(AVERAGE(EC15:EC15,EC17:EC19,EC21:EC22,EC24:EC28),\"\")","v":""},"","","","","","","","","","","","","","","","","","","","","","","","","","","","","","","","","","","","","","","","","","","","","","","","","","","","","","","","","","","","","","","",{"$f":"IFERROR(AVERAGE(GO15:GO15,GO17:GO19,GO21:GO22,GO24:GO28),\"\")","v":""},"","","","","","","","","","","","","","","","","","","","","","","","","","","","","","","","","","","","","","","","","","","","","","","","","","","","","","","","","","","","","","","",{"$f":"IFERROR(AVERAGE(JA15:JA15,JA17:JA19,JA21:JA22,JA24:JA28),\"\")","v":""},"","","","","","","","","","","","","","","","","","","","","","","","","","","","","","","","","","","","","","","","","","","","","","","","","","","","","","","","","","","","","","","",{"$f":"IFERROR(AVERAGE(LM15:LM15,LM17:LM19,LM21:LM22,LM24:LM28),\"\")","v":""},"","","","","","","","","","","","","","","","","","","","","","","","","","","","","","","","","","","","","","","","","","","","","","","","","","","","","","","","","","","","","","","",{"$f":"IFERROR(AVERAGE(NY15:NY15,NY17:NY19,NY21:NY22,NY24:NY28),\"\")","v":""},"","","","","","","","","","","","","","","","","","","","","","","","","","","","","","","","","","","","","","","","","","","","","","","","","","","","","","","","","","","","","","","",{"$f":"IFERROR(AVERAGE(QK15:QK15,QK17:QK19,QK21:QK22,QK24:QK28),\"\")","v":""},"","","","","","","","","","","","","","","","","","","","","","","","","","","","","","","","","","","","","","","","","","","","","","","","","","","","","","","","","","","","","","","",{"$f":"IFERROR(AVERAGE(SW15:SW15,SW17:SW19,SW21:SW22,SW24:SW28),\"\")","v":""},"","","","","","","","","","","","","","","","","","","","","","","","","","","","","","","","","","","","","","","","","","","","","","","","","","","","","","","","","","","","","","","",{"$f":"IFERROR(AVERAGE(VI15:VI15,VI17:VI19,VI21:VI22,VI24:VI28),\"\")","v":""},"","","","","","","","","","","","","","","","","","","","","","","","","","","","","","","","","","","","","","","","","","","","","","","","","","","","","","","","","","","","","","","",{"$f":"IFERROR(AVERAGE(XU15:XU15,XU17:XU19,XU21:XU22,XU24:XU28),\"\")","v":""},"","","","","","","","","","","","","","","","","","","","","","","","","","","","","","","","","","","","","","","","","","","","","","","","","","","","","","","","","","","","","","","",{"$f":"IFERROR(AVERAGE(AAG15:AAG15,AAG17:AAG19,AAG21:AAG22,AAG24:AAG28),\"\")","v":""},"","","","","","",""]
["STANDARD 4:  Content Knowledge",null,{"$f":"\"\"","v":""},{"$f":"\"\"","v":""},{"$f":"\"\"","v":""},{"$f":"\"\"","v":""},{"$f":"\"\"","v":""},{"$f":"\"\"","v":""},{"$f":"\"\"","v":""},{"$f":"\"\"","v":""},{"$f":"\"\"","v":""},{"$f":"\"\"","v":""},{"$f":"\"\"","v":""},{"$f":"\"\"","v":""},{"$f":"\"\"","v":""},{"$f":"\"\"","v":""},{"$f":"\"\"","v":""},{"$f":"\"\"","v":""},{"$f":"\"\"","v":""},{"$f":"\"\"","v":""},{"$f":"\"\"","v":""},{"$f":"\"\"","v":""},{"$f":"\"\"","v":""},{"$f":"\"\"","v":""},{"$f":"\"\"","v":""},{"$f":"\"\"","v":""},{"$f":"\"\"","v":""},{"$f":"\"\"","v":""},{"$f":"\"\"","v":""},{"$f":"\"\"","v":""},{"$f":"\"\"","v":""},{"$f":"\"\"","v":""},{"$f":"\"\"","v":""},{"$f":"\"\"","v":""},{"$f":"\"\"","v":""},{"$f":"\"\"","v":""},{"$f":"\"\"","v":""},{"$f":"\"\"","v":""},{"$f":"\"\"","v":""},{"$f":"\"\"","v":""},{"$f":"\"\"","v":""},{"$f":"\"\"","v":""},{"$f":"\"\"","v":""},{"$f":"\"\"","v":""},{"$f":"\"\"","v":""},{"$f":"\"\"","v":""},{"$f":"\"\"","v":""},{"$f":"\"\"","v":""},{"$f":"\"\"","v":""},{"$f":"\"\"","v":""},{"$f":"\"\"","v":""},{"$f":"\"\"","v":""},{"$f":"\"\"","v":""},{"$f":"\"\"","v":""},{"$f":"\"\"","v":""},{"$f":"\"\"","v":""},{"$f":"\"\"","v":""},{"$f":"\"\"","v":""},{"$f":"\"\"","v":""},{"$f":"\"\"","v":""},{"$f":"\"\"","v":""},{"$f":"\"\"","v":""},{"$f":"\"\"","v":""},{"$f":"\"\"","v":""},{"$f":"\"\"","v":""},{"$f":"\"\"","v":""},{"$f":"\"\"","v":""},{"$f":"\"\"","v":""},{"$f":"\"\"","v":""},{"$f":"\"\"","v":""},{"$f":"\"\"","v":""},{"$f":"\"\"","v":""},{"$f":"\"\"","v":""},{"$f":"\"\"","v":""},{"$f":"\"\"","v":""},{"$f":"\"\"","v":""},{"$f":"\"\"","v":""},{"$f":"\"\"","v":""},{"$f":"\"\"","v":""},{"$f":"\"\"","v":""},{"$f":"\"\"","v":""},{"$f":"\"\"","v":""},{"$f":"\"\"","v":""},{"$f":"\"\"","v":""},{"$f":"\"\"","v":""},{"$f":"\"\"","v":""},{"$f":"\"\"","v":""},{"$f":"\"\"","v":""},{"$f":"\"\"","v":""},{"$f":"\"\"","v":""},{"$f":"\"\"","v":""},{"$f":"\"\"","v":""},{"$f":"\"\"","v":""},{"$f":"\"\"","v":""},{"$f":"\"\"","v":""},{"$f":"\"\"","v":""},{"$f":"\"\"","v":""},{"$f":"\"\"","v":""},{"$f":"\"\"","v":""},{"$f":"\"\"","v":""},{"$f":"\"\"","v":""},{"$f":"\"\"","v":""},{"$f":"\"\"","v":""},{"$f":"\"\"","v":""},{"$f":"\"\"","v":""},{"$f":"\"\"","v":""},{"$f":"\"\"","v":""},{"$f":"\"\"","v":""},{"$f":"\"\"","v":""},{"$f":"\"\"","v":""},{"$f":"\"\"","v":""},{"$f":"\"\"","v":""},{"$f":"\"\"","v":""},{"$f":"\"\"","v":""},{"$f":"\"\"","v":""},{"$f":"\"\"","v":""},{"$f":"\"\"","v":""},{"$f":"\"\"","v":""},{"$f":"\"\"","v":""},{"$f":"\"\"","v":""},{"$f":"\"\"","v":""},{"$f":"\"\"","v":""},{"$f":"\"\"","v":""},{"$f":"\"\"","v":""},{"$f":"\"\"","v":""},{"$f":"\"\"","v":""},{"$f":"\"\"","v":""},{"$f":"\"\"","v":""},{"$f":"\"\"","v":""},{"$f":"\"\"","v":""},{"$f":"\"\"","v":""},{"$f":"\"\"","v":""},{"$f":"\"\"","v":""},{"$f":"\"\"","v":""},{"$f":"\"\"","v":""},{"$f":"\"\"","v":""},{"$f":"\"\"","v":""},{"$f":"\"\"","v":""},{"$f":"\"\"","v":""},{"$f":"\"\"","v":""},{"$f":"\"\"","v":""},{"$f":"\"\"","v":""},{"$f":"\"\"","v":""},{"$f":"\"\"","v":""},{"$f":"\"\"","v":""},{"$f":"\"\"","v":""},{"$f":"\"\"","v":""},{"$f":"\"\"","v":""},{"$f":"\"\"","v":""},{"$f":"\"\"","v":""},{"$f":"\"\"","v":""},{"$f":"\"\"","v":""},{"$f":"\"\"","v":""},{"$f":"\"\"","v":""},{"$f":"\"\"","v":""},{"$f":"\"\"","v":""},{"$f":"\"\"","v":""},{"$f":"\"\"","v":""},{"$f":"\"\"","v":""},{"$f":"\"\"","v":""},{"$f":"\"\"","v":""},{"$f":"\"\"","v":""},{"$f":"\"\"","v":""},{"$f":"\"\"","v":""},{"$f":"\"\"","v":""},{"$f":"\"\"","v":""},{"$f":"\"\"","v":""},{"$f":"\"\"","v":""},{"$f":"\"\"","v":""},{"$f":"\"\"","v":""},{"$f":"\"\"","v":""},{"$f":"\"\"","v":""},{"$f":"\"\"","v":""},{"$f":"\"\"","v":""},{"$f":"\"\"","v":""},{"$f":"\"\"","v":""},{"$f":"\"\"","v":""},{"$f":"\"\"","v":""},{"$f":"\"\"","v":""},{"$f":"\"\"","v":""},{"$f":"\"\"","v":""},{"$f":"\"\"","v":""},{"$f":"\"\"","v":""},{"$f":"\"\"","v":""},{"$f":"\"\"","v":""},{"$f":"\"\"","v":""},{"$f":"\"\"","v":""},{"$f":"\"\"","v":""},{"$f":"\"\"","v":""},{"$f":"\"\"","v":""},{"$f":"\"\"","v":""},{"$f":"\"\"","v":""},{"$f":"\"\"","v":""},{"$f":"\"\"","v":""},{"$f":"\"\"","v":""},{"$f":"\"\"","v":""},{"$f":"\"\"","v":""},{"$f":"\"\"","v":""},{"$f":"\"\"","v":""},{"$f":"\"\"","v":""},{"$f":"\"\"","v":""},{"$f":"\"\"","v":""},{"$f":"\"\"","v":""},{"$f":"\"\"","v":""},{"$f":"\"\"","v":""},{"$f":"\"\"","v":""},{"$f":"\"\"","v":""},{"$f":"\"\"","v":""},{"$f":"\"\"","v":""},{"$f":"\"\"","v":""},{"$f":"\"\"","v":""},{"$f":"\"\"","v":""},{"$f":"\"\"","v":""},{"$f":"\"\"","v":""},{"$f":"\"\"","v":""},{"$f":"\"\"","v":""},{"$f":"\"\"","v":""},{"$f":"\"\"","v":""},{"$f":"\"\"","v":""},{"$f":"\"\"","v":""},{"$f":"\"\"","v":""},{"$f":"\"\"","v":""},{"$f":"\"\"","v":""},{"$f":"\"\"","v":""},{"$f":"\"\"","v":""},{"$f":"\"\"","v":""},{"$f":"\"\"","v":""},{"$f":"\"\"","v":""},{"$f":"\"\"","v":""},{"$f":"\"\"","v":""},{"$f":"\"\"","v":""},{"$f":"\"\"","v":""},{"$f":"\"\"","v":""},{"$f":"\"\"","v":""},{"$f":"\"\"","v":""},{"$f":"\"\"","v":""},{"$f":"\"\"","v":""},{"$f":"\"\"","v":""},{"$f":"\"\"","v":""},{"$f":"\"\"","v":""},{"$f":"\"\"","v":""},{"$f":"\"\"","v":""},{"$f":"\"\"","v":""},{"$f":"\"\"","v":""},{"$f":"\"\"","v":""},{"$f":"\"\"","v":""},{"$f":"\"\"","v":""},{"$f":"\"\"","v":""},{"$f":"\"\"","v":""},{"$f":"\"\"","v":""},{"$f":"\"\"","v":""},{"$f":"\"\"","v":""},{"$f":"\"\"","v":""},{"$f":"\"\"","v":""},{"$f":"\"\"","v":""},{"$f":"\"\"","v":""},{"$f":"\"\"","v":""},{"$f":"\"\"","v":""},{"$f":"\"\"","v":""},{"$f":"\"\"","v":""},{"$f":"\"\"","v":""},{"$f":"\"\"","v":""},{"$f":"\"\"","v":""},{"$f":"\"\"","v":""},{"$f":"\"\"","v":""},{"$f":"\"\"","v":""},{"$f":"\"\"","v":""},{"$f":"\"\"","v":""},{"$f":"\"\"","v":""},{"$f":"\"\"","v":""},{"$f":"\"\"","v":""},{"$f":"\"\"","v":""},{"$f":"\"\"","v":""},{"$f":"\"\"","v":""},{"$f":"\"\"","v":""},{"$f":"\"\"","v":""},{"$f":"\"\"","v":""},{"$f":"\"\"","v":""},{"$f":"\"\"","v":""},{"$f":"\"\"","v":""},{"$f":"\"\"","v":""},{"$f":"\"\"","v":""},{"$f":"\"\"","v":""},{"$f":"\"\"","v":""},{"$f":"\"\"","v":""},{"$f":"\"\"","v":""},{"$f":"\"\"","v":""},{"$f":"\"\"","v":""},{"$f":"\"\"","v":""},{"$f":"\"\"","v":""},{"$f":"\"\"","v":""},{"$f":"\"\"","v":""},{"$f":"\"\"","v":""},{"$f":"\"\"","v":""},{"$f":"\"\"","v":""},{"$f":"\"\"","v":""},{"$f":"\"\"","v":""},{"$f":"\"\"","v":""},{"$f":"\"\"","v":""},{"$f":"\"\"","v":""},{"$f":"\"\"","v":""},{"$f":"\"\"","v":""},{"$f":"\"\"","v":""},{"$f":"\"\"","v":""},{"$f":"\"\"","v":""},{"$f":"\"\"","v":""},{"$f":"\"\"","v":""},{"$f":"\"\"","v":""},{"$f":"\"\"","v":""},{"$f":"\"\"","v":""},{"$f":"\"\"","v":""},{"$f":"\"\"","v":""},{"$f":"\"\"","v":""},{"$f":"\"\"","v":""},{"$f":"\"\"","v":""},{"$f":"\"\"","v":""},{"$f":"\"\"","v":""},{"$f":"\"\"","v":""},{"$f":"\"\"","v":""},{"$f":"\"\"","v":""},{"$f":"\"\"","v":""},{"$f":"\"\"","v":""},{"$f":"\"\"","v":""},{"$f":"\"\"","v":""},{"$f":"\"\"","v":""},{"$f":"\"\"","v":""},{"$f":"\"\"","v":""},{"$f":"\"\"","v":""},{"$f":"\"\"","v":""},{"$f":"\"\"","v":""},{"$f":"\"\"","v":""},{"$f":"\"\"","v":""},{"$f":"\"\"","v":""},{"$f":"\"\"","v":""},{"$f":"\"\"","v":""},{"$f":"\"\"","v":""},{"$f":"\"\"","v":""},{"$f":"\"\"","v":""},{"$f":"\"\"","v":""},{"$f":"\"\"","v":""},{"$f":"\"\"","v":""},{"$f":"\"\"","v":""},{"$f":"\"\"","v":""},{"$f":"\"\"","v":""},{"$f":"\"\"","v":""},{"$f":"\"\"","v":""},{"$f":"\"\"","v":""},{"$f":"\"\"","v":""},{"$f":"\"\"","v":""},{"$f":"\"\"","v":""},{"$f":"\"\"","v":""},{"$f":"\"\"","v":""},{"$f":"\"\"","v":""},{"$f":"\"\"","v":""},{"$f":"\"\"","v":""},{"$f":"\"\"","v":""},{"$f":"\"\"","v":""},{"$f":"\"\"","v":""},{"$f":"\"\"","v":""},{"$f":"\"\"","v":""},{"$f":"\"\"","v":""},{"$f":"\"\"","v":""},{"$f":"\"\"","v":""},{"$f":"\"\"","v":""},{"$f":"\"\"","v":""},{"$f":"\"\"","v":""},{"$f":"\"\"","v":""},{"$f":"\"\"","v":""},{"$f":"\"\"","v":""},{"$f":"\"\"","v":""},{"$f":"\"\"","v":""},{"$f":"\"\"","v":""},{"$f":"\"\"","v":""},{"$f":"\"\"","v":""},{"$f":"\"\"","v":""},{"$f":"\"\"","v":""},{"$f":"\"\"","v":""},{"$f":"\"\"","v":""},{"$f":"\"\"","v":""},{"$f":"\"\"","v":""},{"$f":"\"\"","v":""},{"$f":"\"\"","v":""},{"$f":"\"\"","v":""},{"$f":"\"\"","v":""},{"$f":"\"\"","v":""},{"$f":"\"\"","v":""},{"$f":"\"\"","v":""},{"$f":"\"\"","v":""},{"$f":"\"\"","v":""},{"$f":"\"\"","v":""},{"$f":"\"\"","v":""},{"$f":"\"\"","v":""},{"$f":"\"\"","v":""},{"$f":"\"\"","v":""},{"$f":"\"\"","v":""},{"$f":"\"\"","v":""},{"$f":"\"\"","v":""},{"$f":"\"\"","v":""},{"$f":"\"\"","v":""},{"$f":"\"\"","v":""},{"$f":"\"\"","v":""},{"$f":"\"\"","v":""},{"$f":"\"\"","v":""},{"$f":"\"\"","v":""},{"$f":"\"\"","v":""},{"$f":"\"\"","v":""},{"$f":"\"\"","v":""},{"$f":"\"\"","v":""},{"$f":"\"\"","v":""},{"$f":"\"\"","v":""},{"$f":"\"\"","v":""},{"$f":"\"\"","v":""},{"$f":"\"\"","v":""},{"$f":"\"\"","v":""},{"$f":"\"\"","v":""},{"$f":"\"\"","v":""},{"$f":"\"\"","v":""},{"$f":"\"\"","v":""},{"$f":"\"\"","v":""},{"$f":"\"\"","v":""},{"$f":"\"\"","v":""},{"$f":"\"\"","v":""},{"$f":"\"\"","v":""},{"$f":"\"\"","v":""},{"$f":"\"\"","v":""},{"$f":"\"\"","v":""},{"$f":"\"\"","v":""},{"$f":"\"\"","v":""},{"$f":"\"\"","v":""},{"$f":"\"\"","v":""},{"$f":"\"\"","v":""},{"$f":"\"\"","v":""},{"$f":"\"\"","v":""},{"$f":"\"\"","v":""},{"$f":"\"\"","v":""},{"$f":"\"\"","v":""},{"$f":"\"\"","v":""},{"$f":"\"\"","v":""},{"$f":"\"\"","v":""},{"$f":"\"\"","v":""},{"$f":"\"\"","v":""},{"$f":"\"\"","v":""},{"$f":"\"\"","v":""},{"$f":"\"\"","v":""},{"$f":"\"\"","v":""},{"$f":"\"\"","v":""},{"$f":"\"\"","v":""},{"$f":"\"\"","v":""},{"$f":"\"\"","v":""},{"$f":"\"\"","v":""},{"$f":"\"\"","v":""},{"$f":"\"\"","v":""},{"$f":"\"\"","v":""},{"$f":"\"\"","v":""},{"$f":"\"\"","v":""},{"$f":"\"\"","v":""},{"$f":"\"\"","v":""},{"$f":"\"\"","v":""},{"$f":"\"\"","v":""},{"$f":"\"\"","v":""},{"$f":"\"\"","v":""},{"$f":"\"\"","v":""},{"$f":"\"\"","v":""},{"$f":"\"\"","v":""},{"$f":"\"\"","v":""},{"$f":"\"\"","v":""},{"$f":"\"\"","v":""},{"$f":"\"\"","v":""},{"$f":"\"\"","v":""},{"$f":"\"\"","v":""},{"$f":"\"\"","v":""},{"$f":"\"\"","v":""},{"$f":"\"\"","v":""},{"$f":"\"\"","v":""},{"$f":"\"\"","v":""},{"$f":"\"\"","v":""},{"$f":"\"\"","v":""},{"$f":"\"\"","v":""},{"$f":"\"\"","v":""},{"$f":"\"\"","v":""},{"$f":"\"\"","v":""},{"$f":"\"\"","v":""},{"$f":"\"\"","v":""},{"$f":"\"\"","v":""},{"$f":"\"\"","v":""},{"$f":"\"\"","v":""},{"$f":"\"\"","v":""},{"$f":"\"\"","v":""},{"$f":"\"\"","v":""},{"$f":"\"\"","v":""},{"$f":"\"\"","v":""},{"$f":"\"\"","v":""},{"$f":"\"\"","v":""},{"$f":"\"\"","v":""},{"$f":"\"\"","v":""},{"$f":"\"\"","v":""},{"$f":"\"\"","v":""},{"$f":"\"\"","v":""},{"$f":"\"\"","v":""},{"$f":"\"\"","v":""},{"$f":"\"\"","v":""},{"$f":"\"\"","v":""},{"$f":"\"\"","v":""},{"$f":"\"\"","v":""},{"$f":"\"\"","v":""},{"$f":"\"\"","v":""},{"$f":"\"\"","v":""},{"$f":"\"\"","v":""},{"$f":"\"\"","v":""},{"$f":"\"\"","v":""},{"$f":"\"\"","v":""},{"$f":"\"\"","v":""},{"$f":"\"\"","v":""},{"$f":"\"\"","v":""},{"$f":"\"\"","v":""},{"$f":"\"\"","v":""},{"$f":"\"\"","v":""},{"$f":"\"\"","v":""},{"$f":"\"\"","v":""},{"$f":"\"\"","v":""},{"$f":"\"\"","v":""},{"$f":"\"\"","v":""},{"$f":"\"\"","v":""},{"$f":"\"\"","v":""},{"$f":"\"\"","v":""},{"$f":"\"\"","v":""},{"$f":"\"\"","v":""},{"$f":"\"\"","v":""},{"$f":"\"\"","v":""},{"$f":"\"\"","v":""},{"$f":"\"\"","v":""},{"$f":"\"\"","v":""},{"$f":"\"\"","v":""},{"$f":"\"\"","v":""},{"$f":"\"\"","v":""},{"$f":"\"\"","v":""},{"$f":"\"\"","v":""},{"$f":"\"\"","v":""},{"$f":"\"\"","v":""},{"$f":"\"\"","v":""},{"$f":"\"\"","v":""},{"$f":"\"\"","v":""},{"$f":"\"\"","v":""},{"$f":"\"\"","v":""},{"$f":"\"\"","v":""},{"$f":"\"\"","v":""},{"$f":"\"\"","v":""},{"$f":"\"\"","v":""},{"$f":"\"\"","v":""},{"$f":"\"\"","v":""},{"$f":"\"\"","v":""},{"$f":"\"\"","v":""},{"$f":"\"\"","v":""},{"$f":"\"\"","v":""},{"$f":"\"\"","v":""},{"$f":"\"\"","v":""},{"$f":"\"\"","v":""},{"$f":"\"\"","v":""},{"$f":"\"\"","v":""},{"$f":"\"\"","v":""},{"$f":"\"\"","v":""},{"$f":"\"\"","v":""},{"$f":"\"\"","v":""},{"$f":"\"\"","v":""},{"$f":"\"\"","v":""},{"$f":"\"\"","v":""},{"$f":"\"\"","v":""},{"$f":"\"\"","v":""},{"$f":"\"\"","v":""},{"$f":"\"\"","v":""},{"$f":"\"\"","v":""},{"$f":"\"\"","v":""},{"$f":"\"\"","v":""},{"$f":"\"\"","v":""},{"$f":"\"\"","v":""},{"$f":"\"\"","v":""},{"$f":"\"\"","v":""},{"$f":"\"\"","v":""},{"$f":"\"\"","v":""},{"$f":"\"\"","v":""},{"$f":"\"\"","v":""},{"$f":"\"\"","v":""},{"$f":"\"\"","v":""},{"$f":"\"\"","v":""},{"$f":"\"\"","v":""},{"$f":"\"\"","v":""},{"$f":"\"\"","v":""},{"$f":"\"\"","v":""},{"$f":"\"\"","v":""},{"$f":"\"\"","v":""},{"$f":"\"\"","v":""},{"$f":"\"\"","v":""},{"$f":"\"\"","v":""},{"$f":"\"\"","v":""},{"$f":"\"\"","v":""},{"$f":"\"\"","v":""},{"$f":"\"\"","v":""},{"$f":"\"\"","v":""},{"$f":"\"\"","v":""},{"$f":"\"\"","v":""},{"$f":"\"\"","v":""},{"$f":"\"\"","v":""},{"$f":"\"\"","v":""},{"$f":"\"\"","v":""},{"$f":"\"\"","v":""},{"$f":"\"\"","v":""},{"$f":"\"\"","v":""},{"$f":"\"\"","v":""},{"$f":"\"\"","v":""},{"$f":"\"\"","v":""},{"$f":"\"\"","v":""},{"$f":"\"\"","v":""},{"$f":"\"\"","v":""},{"$f":"\"\"","v":""},{"$f":"\"\"","v":""},{"$f":"\"\"","v":""},{"$f":"\"\"","v":""},{"$f":"\"\"","v":""},{"$f":"\"\"","v":""},{"$f":"\"\"","v":""},{"$f":"\"\"","v":""},{"$f":"\"\"","v":""},{"$f":"\"\"","v":""},{"$f":"\"\"","v":""},{"$f":"\"\"","v":""},{"$f":"\"\"","v":""},{"$f":"\"\"","v":""},{"$f":"\"\"","v":""},{"$f":"\"\"","v":""},{"$f":"\"\"","v":""},{"$f":"\"\"","v":""},{"$f":"\"\"","v":""},{"$f":"\"\"","v":""},{"$f":"\"\"","v":""},{"$f":"\"\"","v":""},{"$f":"\"\"","v":""},{"$f":"\"\"","v":""},{"$f":"\"\"","v":""},{"$f":"\"\"","v":""},{"$f":"\"\"","v":""},{"$f":"\"\"","v":""},{"$f":"\"\"","v":""},{"$f":"\"\"","v":""},{"$f":"\"\"","v":""},{"$f":"\"\"","v":""},{"$f":"\"\"","v":""},{"$f":"\"\"","v":""},{"$f":"\"\"","v":""},{"$f":"\"\"","v":""},{"$f":"\"\"","v":""},{"$f":"\"\"","v":""},{"$f":"\"\"","v":""},{"$f":"\"\"","v":""},{"$f":"\"\"","v":""},{"$f":"\"\"","v":""},{"$f":"\"\"","v":""},{"$f":"\"\"","v":""},{"$f":"\"\"","v":""},{"$f":"\"\"","v":""},{"$f":"\"\"","v":""},{"$f":"\"\"","v":""},{"$f":"\"\"","v":""},{"$f":"\"\"","v":""},{"$f":"\"\"","v":""},{"$f":"\"\"","v":""},{"$f":"\"\"","v":""},{"$f":"\"\"","v":""},{"$f":"\"\"","v":""},{"$f":"\"\"","v":""},{"$f":"\"\"","v":""},{"$f":"\"\"","v":""},{"$f":"\"\"","v":""},{"$f":"\"\"","v":""},{"$f":"\"\"","v":""},{"$f":"\"\"","v":""},{"$f":"\"\"","v":""},{"$f":"\"\"","v":""},{"$f":"\"\"","v":""},{"$f":"\"\"","v":""},{"$f":"\"\"","v":""},{"$f":"\"\"","v":""},{"$f":"\"\"","v":""},{"$f":"\"\"","v":""},{"$f":"\"\"","v":""},{"$f":"\"\"","v":""},{"$f":"\"\"","v":""},{"$f":"\"\"","v":""},{"$f":"\"\"","v":""},{"$f":"\"\"","v":""},{"$f":"\"\"","v":""},{"$f":"\"\"","v":""},{"$f":"\"\"","v":""},{"$f":"\"\"","v":""},{"$f":"\"\"","v":""},{"$f":"\"\"","v":""},{"$f":"\"\"","v":""},{"$f":"\"\"","v":""},{"$f":"\"\"","v":""},{"$f":"\"\"","v":""},{"$f":"\"\"","v":""},{"$f":"\"\"","v":""},{"$f":"\"\"","v":""},{"$f":"\"\"","v":""},{"$f":"\"\"","v":""},{"$f":"\"\"","v":""},{"$f":"\"\"","v":""},{"$f":"\"\"","v":""},{"$f":"\"\"","v":""},{"$f":"\"\"","v":""},{"$f":"\"\"","v":""},{"$f":"\"\"","v":""},{"$f":"\"\"","v":""},{"$f":"\"\"","v":""},{"$f":"\"\"","v":""},{"$f":"\"\"","v":""},{"$f":"\"\"","v":""},{"$f":"\"\"","v":""},{"$f":"\"\"","v":""},{"$f":"\"\"","v":""},{"$f":"\"\"","v":""},{"$f":"\"\"","v":""},{"$f":"\"\"","v":""},{"$f":"\"\"","v":""},{"$f":"\"\"","v":""},{"$f":"\"\"","v":""},{"$f":"\"\"","v":""},{"$f":"\"\"","v":""},{"$f":"\"\"","v":""},{"$f":"\"\"","v":""},{"$f":"\"\"","v":""},{"$f":"\"\"","v":""},{"$f":"\"\"","v":""},{"$f":"\"\"","v":""},{"$f":"\"\"","v":""},{"$f":"\"\"","v":""},{"$f":"\"\"","v":""},{"$f":"\"\"","v":""},{"$f":"\"\"","v":""},{"$f":"\"\"","v":""},{"$f":"\"\"","v":""},{"$f":"\"\"","v":""},{"$f":"\"\"","v":""},{"$f":"\"\"","v":""},{"$f":"\"\"","v":""},{"$f":"\"\"","v":""},{"$f":"\"\"","v":""},{"$f":"\"\"","v":""},{"$f":"\"\"","v":""},{"$f":"\"\"","v":""},{"$f":"\"\"","v":""},{"$f":"\"\"","v":""},{"$f":"\"\"","v":""},{"$f":"\"\"","v":""},{"$f":"\"\"","v":""},{"$f":"\"\"","v":""},{"$f":"\"\"","v":""},{"$f":"\"\"","v":""},{"$f":"\"\"","v":""},{"$f":"\"\"","v":""},{"$f":"\"\"","v":""},{"$f":"\"\"","v":""},{"$f":"\"\"","v":""},{"$f":"\"\"","v":""},{"$f":"\"\"","v":""},{"$f":"\"\"","v":""},{"$f":"\"\"","v":""},{"$f":"\"\"","v":""},{"$f":"\"\"","v":""},{"$f":"\"\"","v":""},{"$f":"\"\"","v":""},{"$f":"\"\"","v":""},{"$f":"\"\"","v":""},{"$f":"\"\"","v":""},{"$f":"\"\"","v":""},{"$f":"\"\"","v":""},{"$f":"\"\"","v":""},{"$f":"\"\"","v":""},{"$f":"\"\"","v":""},{"$f":"\"\"","v":""},{"$f":"\"\"","v":""},{"$f":"\"\"","v":""},{"$f":"\"\"","v":""},{"$f":"\"\"","v":""},{"$f":"\"\"","v":""},{"$f":"\"\"","v":""},{"$f":"\"\"","v":""},{"$f":"\"\"","v":""},{"$f":"\"\"","v":""},{"$f":"\"\"","v":""},{"$f":"\"\"","v":""},{"$f":"\"\"","v":""},{"$f":"\"\"","v":""},{"$f":"\"\"","v":""},{"$f":"\"\"","v":""},{"$f":"\"\"","v":""},{"$f":"\"\"","v":""},{"$f":"\"\"","v":""},{"$f":"\"\"","v":""},{"$f":"\"\"","v":""},{"$f":"\"\"","v":""},{"$f":"\"\"","v":""},{"$f":"\"\"","v":""},{"$f":"\"\"","v":""},{"$f":"\"\"","v":""},{"$f":"\"\"","v":""},{"$f":"\"\"","v":""},{"$f":"\"\"","v":""},{"$f":"\"\"","v":""},{"$f":"\"\"","v":""},{"$f":"\"\"","v":""},{"$f":"\"\"","v":""},{"$f":"\"\"","v":""},{"$f":"\"\"","v":""},{"$f":"\"\"","v":""},{"$f":"\"\"","v":""},{"$f":"\"\"","v":""},{"$f":"\"\"","v":""},{"$f":"\"\"","v":""},{"$f":"\"\"","v":""},{"$f":"\"\"","v":""},{"$f":"\"\"","v":""},{"$f":"\"\"","v":""},{"$f":"\"\"","v":""},{"$f":"\"\"","v":""},{"$f":"\"\"","v":""},{"$f":"\"\"","v":""},{"$f":"\"\"","v":""},{"$f":"\"\"","v":""},{"$f":"\"\"","v":""},{"$f":"\"\"","v":""},{"$f":"\"\"","v":""},{"$f":"\"\"","v":""},{"$f":"\"\"","v":""},{"$f":"\"\"","v":""},{"$f":"\"\"","v":""},{"$f":"\"\"","v":""},{"$f":"\"\"","v":""},{"$f":"\"\"","v":""},{"$f":"\"\"","v":""},{"$f":"\"\"","v":""},{"$f":"\"\"","v":""},{"$f":"\"\"","v":""},{"$f":"\"\"","v":""},{"$f":"\"\"","v":""},{"$f":"\"\"","v":""},{"$f":"\"\"","v":""},{"$f":"\"\"","v":""},{"$f":"\"\"","v":""},{"$f":"\"\"","v":""},{"$f":"\"\"","v":""},{"$f":"\"\"","v":""},{"$f":"\"\"","v":""},{"$f":"\"\"","v":""},{"$f":"\"\"","v":""},{"$f":"\"\"","v":""},{"$f":"\"\"","v":""},{"$f":"\"\"","v":""},{"$f":"\"\"","v":""},{"$f":"\"\"","v":""},{"$f":"\"\"","v":""},{"$f":"\"\"","v":""},{"$f":"\"\"","v":""},{"$f":"\"\"","v":""},{"$f":"\"\"","v":""},{"$f":"\"\"","v":""},{"$f":"\"\"","v":""},{"$f":"\"\"","v":""},{"$f":"\"\"","v":""},{"$f":"\"\"","v":""},{"$f":"\"\"","v":""},{"$f":"\"\"","v":""},{"$f":"\"\"","v":""},{"$f":"\"\"","v":""},{"$f":"\"\"","v":""},{"$f":"\"\"","v":""},{"$f":"\"\"","v":""},{"$f":"\"\"","v":""},{"$f":"\"\"","v":""},{"$f":"\"\"","v":""},{"$f":"\"\"","v":""},{"$f":"\"\"","v":""},{"$f":"\"\"","v":""},{"$f":"\"\"","v":""},{"$f":"\"\"","v":""},{"$f":"\"\"","v":""},{"$f":"\"\"","v":""},{"$f":"\"\"","v":""},{"$f":"\"\"","v":""},{"$f":"\"\"","v":""},{"$f":"\"\"","v":""},{"$f":"\"\"","v":""},{"$f":"\"\"","v":""},{"$f":"\"\"","v":""},{"$f":"\"\"","v":""},{"$f":"\"\"","v":""},{"$f":"\"\"","v":""},{"$f":"\"\"","v":""},{"$f":"\"\"","v":""},{"$f":"\"\"","v":""},{"$f":"\"\"","v":""},{"$f":"\"\"","v":""},{"$f":"\"\"","v":""},{"$f":"\"\"","v":""},{"$f":"\"\"","v":""},{"$f":"\"\"","v":""}]
["  4.1  Accurate, Multiple Representations",null,{"$f":"IF(COUNT(E15:IV15)<>0,AVERAGE(E15:IV15),\"\")","v":""},{"$f":"IF(COUNT(C15)<>0,ROUND(AVERAGE(C15),0),\"\")","v":""},{"$f":"IF('Cycle 1'!$F53= \"NS\",\"NS\",IF('Cycle 1'!$F53=\"\",\"\",IF('Cycle 1'!$F53<>0,VALUE('Cycle 1'!$F53), VALUE(\"0\"))))","v":""},{"$f":"IF('Cycle 2'!$F53= \"NS\",\"NS\",IF('Cycle 2'!$F53=\"\",\"\",IF('Cycle 2'!$F53<>0,VALUE('Cycle 2'!$F53), VALUE(\"0\"))))","v":""},{"$f":"IF('Cycle 3'!$F53= \"NS\",\"NS\",IF('Cycle 3'!$F53=\"\",\"\",IF('Cycle 3'!$F53<>0,VALUE('Cycle 3'!$F53), VALUE(\"0\"))))","v":""},{"$f":"IF('Cycle 4'!$F53= \"NS\",\"NS\",IF('Cycle 4'!$F53=\"\",\"\",IF('Cycle 4'!$F53<>0,VALUE('Cycle 4'!$F53), VALUE(\"0\"))))","v":""}]
["STANDARD 5:  Assessment",null,{"$f":"\"\"","v":""},{"$f":"\"\"","v":""},{"$f":"\"\"","v":""},{"$f":"\"\"","v":""},{"$f":"\"\"","v":""},{"$f":"\"\"","v":""},{"$f":"\"\"","v":""},{"$f":"\"\"","v":""},{"$f":"\"\"","v":""},{"$f":"\"\"","v":""},{"$f":"\"\"","v":""},{"$f":"\"\"","v":""},{"$f":"\"\"","v":""},{"$f":"\"\"","v":""},{"$f":"\"\"","v":""},{"$f":"\"\"","v":""},{"$f":"\"\"","v":""},{"$f":"\"\"","v":""},{"$f":"\"\"","v":""},{"$f":"\"\"","v":""},{"$f":"\"\"","v":""},{"$f":"\"\"","v":""},{"$f":"\"\"","v":""},{"$f":"\"\"","v":""},{"$f":"\"\"","v":""},{"$f":"\"\"","v":""},{"$f":"\"\"","v":""},{"$f":"\"\"","v":""},{"$f":"\"\"","v":""},{"$f":"\"\"","v":""},{"$f":"\"\"","v":""},{"$f":"\"\"","v":""},{"$f":"\"\"","v":""},{"$f":"\"\"","v":""},{"$f":"\"\"","v":""},{"$f":"\"\"","v":""},{"$f":"\"\"","v":""},{"$f":"\"\"","v":""},{"$f":"\"\"","v":""},{"$f":"\"\"","v":""},{"$f":"\"\"","v":""},{"$f":"\"\"","v":""},{"$f":"\"\"","v":""},{"$f":"\"\"","v":""},{"$f":"\"\"","v":""},{"$f":"\"\"","v":""},{"$f":"\"\"","v":""},{"$f":"\"\"","v":""},{"$f":"\"\"","v":""},{"$f":"\"\"","v":""},{"$f":"\"\"","v":""},{"$f":"\"\"","v":""},{"$f":"\"\"","v":""},{"$f":"\"\"","v":""},{"$f":"\"\"","v":""},{"$f":"\"\"","v":""},{"$f":"\"\"","v":""},{"$f":"\"\"","v":""},{"$f":"\"\"","v":""},{"$f":"\"\"","v":""},{"$f":"\"\"","v":""},{"$f":"\"\"","v":""},{"$f":"\"\"","v":""},{"$f":"\"\"","v":""},{"$f":"\"\"","v":""},{"$f":"\"\"","v":""},{"$f":"\"\"","v":""},{"$f":"\"\"","v":""},{"$f":"\"\"","v":""},{"$f":"\"\"","v":""},{"$f":"\"\"","v":""},{"$f":"\"\"","v":""},{"$f":"\"\"","v":""},{"$f":"\"\"","v":""},{"$f":"\"\"","v":""},{"$f":"\"\"","v":""},{"$f":"\"\"","v":""},{"$f":"\"\"","v":""},{"$f":"\"\"","v":""},{"$f":"\"\"","v":""},{"$f":"\"\"","v":""},{"$f":"\"\"","v":""},{"$f":"\"\"","v":""},{"$f":"\"\"","v":""},{"$f":"\"\"","v":""},{"$f":"\"\"","v":""},{"$f":"\"\"","v":""},{"$f":"\"\"","v":""},{"$f":"\"\"","v":""},{"$f":"\"\"","v":""},{"$f":"\"\"","v":""},{"$f":"\"\"","v":""},{"$f":"\"\"","v":""},{"$f":"\"\"","v":""},{"$f":"\"\"","v":""},{"$f":"\"\"","v":""},{"$f":"\"\"","v":""},{"$f":"\"\"","v":""},{"$f":"\"\"","v":""},{"$f":"\"\"","v":""},{"$f":"\"\"","v":""},{"$f":"\"\"","v":""},{"$f":"\"\"","v":""},{"$f":"\"\"","v":""},{"$f":"\"\"","v":""},{"$f":"\"\"","v":""},{"$f":"\"\"","v":""},{"$f":"\"\"","v":""},{"$f":"\"\"","v":""},{"$f":"\"\"","v":""},{"$f":"\"\"","v":""},{"$f":"\"\"","v":""},{"$f":"\"\"","v":""},{"$f":"\"\"","v":""},{"$f":"\"\"","v":""},{"$f":"\"\"","v":""},{"$f":"\"\"","v":""},{"$f":"\"\"","v":""},{"$f":"\"\"","v":""},{"$f":"\"\"","v":""},{"$f":"\"\"","v":""},{"$f":"\"\"","v":""},{"$f":"\"\"","v":""},{"$f":"\"\"","v":""},{"$f":"\"\"","v":""},{"$f":"\"\"","v":""},{"$f":"\"\"","v":""},{"$f":"\"\"","v":""},{"$f":"\"\"","v":""},{"$f":"\"\"","v":""},{"$f":"\"\"","v":""},{"$f":"\"\"","v":""},{"$f":"\"\"","v":""},{"$f":"\"\"","v":""},{"$f":"\"\"","v":""},{"$f":"\"\"","v":""},{"$f":"\"\"","v":""},{"$f":"\"\"","v":""},{"$f":"\"\"","v":""},{"$f":"\"\"","v":""},{"$f":"\"\"","v":""},{"$f":"\"\"","v":""},{"$f":"\"\"","v":""},{"$f":"\"\"","v":""},{"$f":"\"\"","v":""},{"$f":"\"\"","v":""},{"$f":"\"\"","v":""},{"$f":"\"\"","v":""},{"$f":"\"\"","v":""},{"$f":"\"\"","v":""},{"$f":"\"\"","v":""},{"$f":"\"\"","v":""},{"$f":"\"\"","v":""},{"$f":"\"\"","v":""},{"$f":"\"\"","v":""},{"$f":"\"\"","v":""},{"$f":"\"\"","v":""},{"$f":"\"\"","v":""},{"$f":"\"\"","v":""},{"$f":"\"\"","v":""},{"$f":"\"\"","v":""},{"$f":"\"\"","v":""},{"$f":"\"\"","v":""},{"$f":"\"\"","v":""},{"$f":"\"\"","v":""},{"$f":"\"\"","v":""},{"$f":"\"\"","v":""},{"$f":"\"\"","v":""},{"$f":"\"\"","v":""},{"$f":"\"\"","v":""},{"$f":"\"\"","v":""},{"$f":"\"\"","v":""},{"$f":"\"\"","v":""},{"$f":"\"\"","v":""},{"$f":"\"\"","v":""},{"$f":"\"\"","v":""},{"$f":"\"\"","v":""},{"$f":"\"\"","v":""},{"$f":"\"\"","v":""},{"$f":"\"\"","v":""},{"$f":"\"\"","v":""},{"$f":"\"\"","v":""},{"$f":"\"\"","v":""},{"$f":"\"\"","v":""},{"$f":"\"\"","v":""},{"$f":"\"\"","v":""},{"$f":"\"\"","v":""},{"$f":"\"\"","v":""},{"$f":"\"\"","v":""},{"$f":"\"\"","v":""},{"$f":"\"\"","v":""},{"$f":"\"\"","v":""},{"$f":"\"\"","v":""},{"$f":"\"\"","v":""},{"$f":"\"\"","v":""},{"$f":"\"\"","v":""},{"$f":"\"\"","v":""},{"$f":"\"\"","v":""},{"$f":"\"\"","v":""},{"$f":"\"\"","v":""},{"$f":"\"\"","v":""},{"$f":"\"\"","v":""},{"$f":"\"\"","v":""},{"$f":"\"\"","v":""},{"$f":"\"\"","v":""},{"$f":"\"\"","v":""},{"$f":"\"\"","v":""},{"$f":"\"\"","v":""},{"$f":"\"\"","v":""},{"$f":"\"\"","v":""},{"$f":"\"\"","v":""},{"$f":"\"\"","v":""},{"$f":"\"\"","v":""},{"$f":"\"\"","v":""},{"$f":"\"\"","v":""},{"$f":"\"\"","v":""},{"$f":"\"\"","v":""},{"$f":"\"\"","v":""},{"$f":"\"\"","v":""},{"$f":"\"\"","v":""},{"$f":"\"\"","v":""},{"$f":"\"\"","v":""},{"$f":"\"\"","v":""},{"$f":"\"\"","v":""},{"$f":"\"\"","v":""},{"$f":"\"\"","v":""},{"$f":"\"\"","v":""},{"$f":"\"\"","v":""},{"$f":"\"\"","v":""},{"$f":"\"\"","v":""},{"$f":"\"\"","v":""},{"$f":"\"\"","v":""},{"$f":"\"\"","v":""},{"$f":"\"\"","v":""},{"$f":"\"\"","v":""},{"$f":"\"\"","v":""},{"$f":"\"\"","v":""},{"$f":"\"\"","v":""},{"$f":"\"\"","v":""},{"$f":"\"\"","v":""},{"$f":"\"\"","v":""},{"$f":"\"\"","v":""},{"$f":"\"\"","v":""},{"$f":"\"\"","v":""},{"$f":"\"\"","v":""},{"$f":"\"\"","v":""},{"$f":"\"\"","v":""},{"$f":"\"\"","v":""},{"$f":"\"\"","v":""},{"$f":"\"\"","v":""},{"$f":"\"\"","v":""},{"$f":"\"\"","v":""},{"$f":"\"\"","v":""},{"$f":"\"\"","v":""},{"$f":"\"\"","v":""},{"$f":"\"\"","v":""},{"$f":"\"\"","v":""},{"$f":"\"\"","v":""},{"$f":"\"\"","v":""},{"$f":"\"\"","v":""},{"$f":"\"\"","v":""},{"$f":"\"\"","v":""},{"$f":"\"\"","v":""},{"$f":"\"\"","v":""},{"$f":"\"\"","v":""},{"$f":"\"\"","v":""},{"$f":"\"\"","v":""},{"$f":"\"\"","v":""},{"$f":"\"\"","v":""},{"$f":"\"\"","v":""},{"$f":"\"\"","v":""},{"$f":"\"\"","v":""},{"$f":"\"\"","v":""},{"$f":"\"\"","v":""},{"$f":"\"\"","v":""},{"$f":"\"\"","v":""},{"$f":"\"\"","v":""},{"$f":"\"\"","v":""},{"$f":"\"\"","v":""},{"$f":"\"\"","v":""},{"$f":"\"\"","v":""},{"$f":"\"\"","v":""},{"$f":"\"\"","v":""},{"$f":"\"\"","v":""},{"$f":"\"\"","v":""},{"$f":"\"\"","v":""},{"$f":"\"\"","v":""},{"$f":"\"\"","v":""},{"$f":"\"\"","v":""},{"$f":"\"\"","v":""},{"$f":"\"\"","v":""},{"$f":"\"\"","v":""},{"$f":"\"\"","v":""},{"$f":"\"\"","v":""},{"$f":"\"\"","v":""},{"$f":"\"\"","v":""},{"$f":"\"\"","v":""},{"$f":"\"\"","v":""},{"$f":"\"\"","v":""},{"$f":"\"\"","v":""},{"$f":"\"\"","v":""},{"$f":"\"\"","v":""},{"$f":"\"\"","v":""},{"$f":"\"\"","v":""},{"$f":"\"\"","v":""},{"$f":"\"\"","v":""},{"$f":"\"\"","v":""},{"$f":"\"\"","v":""},{"$f":"\"\"","v":""},{"$f":"\"\"","v":""},{"$f":"\"\"","v":""},{"$f":"\"\"","v":""},{"$f":"\"\"","v":""},{"$f":"\"\"","v":""},{"$f":"\"\"","v":""},{"$f":"\"\"","v":""},{"$f":"\"\"","v":""},{"$f":"\"\"","v":""},{"$f":"\"\"","v":""},{"$f":"\"\"","v":""},{"$f":"\"\"","v":""},{"$f":"\"\"","v":""},{"$f":"\"\"","v":""},{"$f":"\"\"","v":""},{"$f":"\"\"","v":""},{"$f":"\"\"","v":""},{"$f":"\"\"","v":""},{"$f":"\"\"","v":""},{"$f":"\"\"","v":""},{"$f":"\"\"","v":""},{"$f":"\"\"","v":""},{"$f":"\"\"","v":""},{"$f":"\"\"","v":""},{"$f":"\"\"","v":""},{"$f":"\"\"","v":""},{"$f":"\"\"","v":""},{"$f":"\"\"","v":""},{"$f":"\"\"","v":""},{"$f":"\"\"","v":""},{"$f":"\"\"","v":""},{"$f":"\"\"","v":""},{"$f":"\"\"","v":""},{"$f":"\"\"","v":""},{"$f":"\"\"","v":""},{"$f":"\"\"","v":""},{"$f":"\"\"","v":""},{"$f":"\"\"","v":""},{"$f":"\"\"","v":""},{"$f":"\"\"","v":""},{"$f":"\"\"","v":""},{"$f":"\"\"","v":""},{"$f":"\"\"","v":""},{"$f":"\"\"","v":""},{"$f":"\"\"","v":""},{"$f":"\"\"","v":""},{"$f":"\"\"","v":""},{"$f":"\"\"","v":""},{"$f":"\"\"","v":""},{"$f":"\"\"","v":""},{"$f":"\"\"","v":""},{"$f":"\"\"","v":""},{"$f":"\"\"","v":""},{"$f":"\"\"","v":""},{"$f":"\"\"","v":""},{"$f":"\"\"","v":""},{"$f":"\"\"","v":""},{"$f":"\"\"","v":""},{"$f":"\"\"","v":""},{"$f":"\"\"","v":""},{"$f":"\"\"","v":""},{"$f":"\"\"","v":""},{"$f":"\"\"","v":""},{"$f":"\"\"","v":""},{"$f":"\"\"","v":""},{"$f":"\"\"","v":""},{"$f":"\"\"","v":""},{"$f":"\"\"","v":""},{"$f":"\"\"","v":""},{"$f":"\"\"","v":""},{"$f":"\"\"","v":""},{"$f":"\"\"","v":""},{"$f":"\"\"","v":""},{"$f":"\"\"","v":""},{"$f":"\"\"","v":""},{"$f":"\"\"","v":""},{"$f":"\"\"","v":""},{"$f":"\"\"","v":""},{"$f":"\"\"","v":""},{"$f":"\"\"","v":""},{"$f":"\"\"","v":""},{"$f":"\"\"","v":""},{"$f":"\"\"","v":""},{"$f":"\"\"","v":""},{"$f":"\"\"","v":""},{"$f":"\"\"","v":""},{"$f":"\"\"","v":""},{"$f":"\"\"","v":""},{"$f":"\"\"","v":""},{"$f":"\"\"","v":""},{"$f":"\"\"","v":""},{"$f":"\"\"","v":""},{"$f":"\"\"","v":""},{"$f":"\"\"","v":""},{"$f":"\"\"","v":""},{"$f":"\"\"","v":""},{"$f":"\"\"","v":""},{"$f":"\"\"","v":""},{"$f":"\"\"","v":""},{"$f":"\"\"","v":""},{"$f":"\"\"","v":""},{"$f":"\"\"","v":""},{"$f":"\"\"","v":""},{"$f":"\"\"","v":""},{"$f":"\"\"","v":""},{"$f":"\"\"","v":""},{"$f":"\"\"","v":""},{"$f":"\"\"","v":""},{"$f":"\"\"","v":""},{"$f":"\"\"","v":""},{"$f":"\"\"","v":""},{"$f":"\"\"","v":""},{"$f":"\"\"","v":""},{"$f":"\"\"","v":""},{"$f":"\"\"","v":""},{"$f":"\"\"","v":""},{"$f":"\"\"","v":""},{"$f":"\"\"","v":""},{"$f":"\"\"","v":""},{"$f":"\"\"","v":""},{"$f":"\"\"","v":""},{"$f":"\"\"","v":""},{"$f":"\"\"","v":""},{"$f":"\"\"","v":""},{"$f":"\"\"","v":""},{"$f":"\"\"","v":""},{"$f":"\"\"","v":""},{"$f":"\"\"","v":""},{"$f":"\"\"","v":""},{"$f":"\"\"","v":""},{"$f":"\"\"","v":""},{"$f":"\"\"","v":""},{"$f":"\"\"","v":""},{"$f":"\"\"","v":""},{"$f":"\"\"","v":""},{"$f":"\"\"","v":""},{"$f":"\"\"","v":""},{"$f":"\"\"","v":""},{"$f":"\"\"","v":""},{"$f":"\"\"","v":""},{"$f":"\"\"","v":""},{"$f":"\"\"","v":""},{"$f":"\"\"","v":""},{"$f":"\"\"","v":""},{"$f":"\"\"","v":""},{"$f":"\"\"","v":""},{"$f":"\"\"","v":""},{"$f":"\"\"","v":""},{"$f":"\"\"","v":""},{"$f":"\"\"","v":""},{"$f":"\"\"","v":""},{"$f":"\"\"","v":""},{"$f":"\"\"","v":""},{"$f":"\"\"","v":""},{"$f":"\"\"","v":""},{"$f":"\"\"","v":""},{"$f":"\"\"","v":""},{"$f":"\"\"","v":""},{"$f":"\"\"","v":""},{"$f":"\"\"","v":""},{"$f":"\"\"","v":""},{"$f":"\"\"","v":""},{"$f":"\"\"","v":""},{"$f":"\"\"","v":""},{"$f":"\"\"","v":""},{"$f":"\"\"","v":""},{"$f":"\"\"","v":""},{"$f":"\"\"","v":""},{"$f":"\"\"","v":""},{"$f":"\"\"","v":""},{"$f":"\"\"","v":""},{"$f":"\"\"","v":""},{"$f":"\"\"","v":""},{"$f":"\"\"","v":""},{"$f":"\"\"","v":""},{"$f":"\"\"","v":""},{"$f":"\"\"","v":""},{"$f":"\"\"","v":""},{"$f":"\"\"","v":""},{"$f":"\"\"","v":""},{"$f":"\"\"","v":""},{"$f":"\"\"","v":""},{"$f":"\"\"","v":""},{"$f":"\"\"","v":""},{"$f":"\"\"","v":""},{"$f":"\"\"","v":""},{"$f":"\"\"","v":""},{"$f":"\"\"","v":""},{"$f":"\"\"","v":""},{"$f":"\"\"","v":""},{"$f":"\"\"","v":""},{"$f":"\"\"","v":""},{"$f":"\"\"","v":""},{"$f":"\"\"","v":""},{"$f":"\"\"","v":""},{"$f":"\"\"","v":""},{"$f":"\"\"","v":""},{"$f":"\"\"","v":""},{"$f":"\"\"","v":""},{"$f":"\"\"","v":""},{"$f":"\"\"","v":""},{"$f":"\"\"","v":""},{"$f":"\"\"","v":""},{"$f":"\"\"","v":""},{"$f":"\"\"","v":""},{"$f":"\"\"","v":""},{"$f":"\"\"","v":""},{"$f":"\"\"","v":""},{"$f":"\"\"","v":""},{"$f":"\"\"","v":""},{"$f":"\"\"","v":""},{"$f":"\"\"","v":""},{"$f":"\"\"","v":""},{"$f":"\"\"","v":""},{"$f":"\"\"","v":""},{"$f":"\"\"","v":""},{"$f":"\"\"","v":""},{"$f":"\"\"","v":""},{"$f":"\"\"","v":""},{"$f":"\"\"","v":""},{"$f":"\"\"","v":""},{"$f":"\"\"","v":""},{"$f":"\"\"","v":""},{"$f":"\"\"","v":""},{"$f":"\"\"","v":""},{"$f":"\"\"","v":""},{"$f":"\"\"","v":""},{"$f":"\"\"","v":""},{"$f":"\"\"","v":""},{"$f":"\"\"","v":""},{"$f":"\"\"","v":""},{"$f":"\"\"","v":""},{"$f":"\"\"","v":""},{"$f":"\"\"","v":""},{"$f":"\"\"","v":""},{"$f":"\"\"","v":""},{"$f":"\"\"","v":""},{"$f":"\"\"","v":""},{"$f":"\"\"","v":""},{"$f":"\"\"","v":""},{"$f":"\"\"","v":""},{"$f":"\"\"","v":""},{"$f":"\"\"","v":""},{"$f":"\"\"","v":""},{"$f":"\"\"","v":""},{"$f":"\"\"","v":""},{"$f":"\"\"","v":""},{"$f":"\"\"","v":""},{"$f":"\"\"","v":""},{"$f":"\"\"","v":""},{"$f":"\"\"","v":""},{"$f":"\"\"","v":""},{"$f":"\"\"","v":""},{"$f":"\"\"","v":""},{"$f":"\"\"","v":""},{"$f":"\"\"","v":""},{"$f":"\"\"","v":""},{"$f":"\"\"","v":""},{"$f":"\"\"","v":""},{"$f":"\"\"","v":""},{"$f":"\"\"","v":""},{"$f":"\"\"","v":""},{"$f":"\"\"","v":""},{"$f":"\"\"","v":""},{"$f":"\"\"","v":""},{"$f":"\"\"","v":""},{"$f":"\"\"","v":""},{"$f":"\"\"","v":""},{"$f":"\"\"","v":""},{"$f":"\"\"","v":""},{"$f":"\"\"","v":""},{"$f":"\"\"","v":""},{"$f":"\"\"","v":""},{"$f":"\"\"","v":""},{"$f":"\"\"","v":""},{"$f":"\"\"","v":""},{"$f":"\"\"","v":""},{"$f":"\"\"","v":""},{"$f":"\"\"","v":""},{"$f":"\"\"","v":""},{"$f":"\"\"","v":""},{"$f":"\"\"","v":""},{"$f":"\"\"","v":""},{"$f":"\"\"","v":""},{"$f":"\"\"","v":""},{"$f":"\"\"","v":""},{"$f":"\"\"","v":""},{"$f":"\"\"","v":""},{"$f":"\"\"","v":""},{"$f":"\"\"","v":""},{"$f":"\"\"","v":""},{"$f":"\"\"","v":""},{"$f":"\"\"","v":""},{"$f":"\"\"","v":""},{"$f":"\"\"","v":""},{"$f":"\"\"","v":""},{"$f":"\"\"","v":""},{"$f":"\"\"","v":""},{"$f":"\"\"","v":""},{"$f":"\"\"","v":""},{"$f":"\"\"","v":""},{"$f":"\"\"","v":""},{"$f":"\"\"","v":""},{"$f":"\"\"","v":""},{"$f":"\"\"","v":""},{"$f":"\"\"","v":""},{"$f":"\"\"","v":""},{"$f":"\"\"","v":""},{"$f":"\"\"","v":""},{"$f":"\"\"","v":""},{"$f":"\"\"","v":""},{"$f":"\"\"","v":""},{"$f":"\"\"","v":""},{"$f":"\"\"","v":""},{"$f":"\"\"","v":""},{"$f":"\"\"","v":""},{"$f":"\"\"","v":""},{"$f":"\"\"","v":""},{"$f":"\"\"","v":""},{"$f":"\"\"","v":""},{"$f":"\"\"","v":""},{"$f":"\"\"","v":""},{"$f":"\"\"","v":""},{"$f":"\"\"","v":""},{"$f":"\"\"","v":""},{"$f":"\"\"","v":""},{"$f":"\"\"","v":""},{"$f":"\"\"","v":""},{"$f":"\"\"","v":""},{"$f":"\"\"","v":""},{"$f":"\"\"","v":""},{"$f":"\"\"","v":""},{"$f":"\"\"","v":""},{"$f":"\"\"","v":""},{"$f":"\"\"","v":""},{"$f":"\"\"","v":""},{"$f":"\"\"","v":""},{"$f":"\"\"","v":""},{"$f":"\"\"","v":""},{"$f":"\"\"","v":""},{"$f":"\"\"","v":""},{"$f":"\"\"","v":""},{"$f":"\"\"","v":""},{"$f":"\"\"","v":""},{"$f":"\"\"","v":""},{"$f":"\"\"","v":""},{"$f":"\"\"","v":""},{"$f":"\"\"","v":""},{"$f":"\"\"","v":""},{"$f":"\"\"","v":""},{"$f":"\"\"","v":""},{"$f":"\"\"","v":""},{"$f":"\"\"","v":""},{"$f":"\"\"","v":""},{"$f":"\"\"","v":""},{"$f":"\"\"","v":""},{"$f":"\"\"","v":""},{"$f":"\"\"","v":""},{"$f":"\"\"","v":""},{"$f":"\"\"","v":""},{"$f":"\"\"","v":""},{"$f":"\"\"","v":""},{"$f":"\"\"","v":""},{"$f":"\"\"","v":""},{"$f":"\"\"","v":""},{"$f":"\"\"","v":""},{"$f":"\"\"","v":""},{"$f":"\"\"","v":""},{"$f":"\"\"","v":""},{"$f":"\"\"","v":""},{"$f":"\"\"","v":""},{"$f":"\"\"","v":""},{"$f":"\"\"","v":""},{"$f":"\"\"","v":""},{"$f":"\"\"","v":""},{"$f":"\"\"","v":""},{"$f":"\"\"","v":""},{"$f":"\"\"","v":""},{"$f":"\"\"","v":""},{"$f":"\"\"","v":""},{"$f":"\"\"","v":""},{"$f":"\"\"","v":""},{"$f":"\"\"","v":""},{"$f":"\"\"","v":""},{"$f":"\"\"","v":""},{"$f":"\"\"","v":""},{"$f":"\"\"","v":""},{"$f":"\"\"","v":""},{"$f":"\"\"","v":""},{"$f":"\"\"","v":""},{"$f":"\"\"","v":""},{"$f":"\"\"","v":""},{"$f":"\"\"","v":""},{"$f":"\"\"","v":""},{"$f":"\"\"","v":""},{"$f":"\"\"","v":""},{"$f":"\"\"","v":""},{"$f":"\"\"","v":""},{"$f":"\"\"","v":""},{"$f":"\"\"","v":""},{"$f":"\"\"","v":""},{"$f":"\"\"","v":""},{"$f":"\"\"","v":""},{"$f":"\"\"","v":""},{"$f":"\"\"","v":""},{"$f":"\"\"","v":""},{"$f":"\"\"","v":""},{"$f":"\"\"","v":""},{"$f":"\"\"","v":""},{"$f":"\"\"","v":""},{"$f":"\"\"","v":""},{"$f":"\"\"","v":""},{"$f":"\"\"","v":""},{"$f":"\"\"","v":""},{"$f":"\"\"","v":""},{"$f":"\"\"","v":""},{"$f":"\"\"","v":""},{"$f":"\"\"","v":""},{"$f":"\"\"","v":""},{"$f":"\"\"","v":""},{"$f":"\"\"","v":""},{"$f":"\"\"","v":""},{"$f":"\"\"","v":""},{"$f":"\"\"","v":""},{"$f":"\"\"","v":""},{"$f":"\"\"","v":""},{"$f":"\"\"","v":""},{"$f":"\"\"","v":""},{"$f":"\"\"","v":""},{"$f":"\"\"","v":""},{"$f":"\"\"","v":""},{"$f":"\"\"","v":""},{"$f":"\"\"","v":""},{"$f":"\"\"","v":""},{"$f":"\"\"","v":""},{"$f":"\"\"","v":""},{"$f":"\"\"","v":""},{"$f":"\"\"","v":""},{"$f":"\"\"","v":""},{"$f":"\"\"","v":""},{"$f":"\"\"","v":""},{"$f":"\"\"","v":""},{"$f":"\"\"","v":""},{"$f":"\"\"","v":""},{"$f":"\"\"","v":""},{"$f":"\"\"","v":""},{"$f":"\"\"","v":""},{"$f":"\"\"","v":""},{"$f":"\"\"","v":""},{"$f":"\"\"","v":""},{"$f":"\"\"","v":""},{"$f":"\"\"","v":""},{"$f":"\"\"","v":""},{"$f":"\"\"","v":""},{"$f":"\"\"","v":""},{"$f":"\"\"","v":""},{"$f":"\"\"","v":""},{"$f":"\"\"","v":""},{"$f":"\"\"","v":""},{"$f":"\"\"","v":""},{"$f":"\"\"","v":""},{"$f":"\"\"","v":""},{"$f":"\"\"","v":""},{"$f":"\"\"","v":""},{"$f":"\"\"","v":""},{"$f":"\"\"","v":""},{"$f":"\"\"","v":""},{"$f":"\"\"","v":""},{"$f":"\"\"","v":""},{"$f":"\"\"","v":""},{"$f":"\"\"","v":""},{"$f":"\"\"","v":""},{"$f":"\"\"","v":""},{"$f":"\"\"","v":""},{"$f":"\"\"","v":""},{"$f":"\"\"","v":""},{"$f":"\"\"","v":""},{"$f":"\"\"","v":""},{"$f":"\"\"","v":""},{"$f":"\"\"","v":""},{"$f":"\"\"","v":""},{"$f":"\"\"","v":""},{"$f":"\"\"","v":""},{"$f":"\"\"","v":""},{"$f":"\"\"","v":""},{"$f":"\"\"","v":""},{"$f":"\"\"","v":""},{"$f":"\"\"","v":""},{"$f":"\"\"","v":""},{"$f":"\"\"","v":""},{"$f":"\"\"","v":""},{"$f":"\"\"","v":""},{"$f":"\"\"","v":""},{"$f":"\"\"","v":""},{"$f":"\"\"","v":""},{"$f":"\"\"","v":""},{"$f":"\"\"","v":""},{"$f":"\"\"","v":""},{"$f":"\"\"","v":""},{"$f":"\"\"","v":""},{"$f":"\"\"","v":""},{"$f":"\"\"","v":""},{"$f":"\"\"","v":""},{"$f":"\"\"","v":""},{"$f":"\"\"","v":""},{"$f":"\"\"","v":""},{"$f":"\"\"","v":""},{"$f":"\"\"","v":""},{"$f":"\"\"","v":""},{"$f":"\"\"","v":""},{"$f":"\"\"","v":""},{"$f":"\"\"","v":""},{"$f":"\"\"","v":""},{"$f":"\"\"","v":""},{"$f":"\"\"","v":""},{"$f":"\"\"","v":""},{"$f":"\"\"","v":""},{"$f":"\"\"","v":""},{"$f":"\"\"","v":""},{"$f":"\"\"","v":""},{"$f":"\"\"","v":""},{"$f":"\"\"","v":""},{"$f":"\"\"","v":""},{"$f":"\"\"","v":""},{"$f":"\"\"","v":""},{"$f":"\"\"","v":""},{"$f":"\"\"","v":""},{"$f":"\"\"","v":""},{"$f":"\"\"","v":""},{"$f":"\"\"","v":""},{"$f":"\"\"","v":""},{"$f":"\"\"","v":""},{"$f":"\"\"","v":""},{"$f":"\"\"","v":""},{"$f":"\"\"","v":""},{"$f":"\"\"","v":""},{"$f":"\"\"","v":""},{"$f":"\"\"","v":""},{"$f":"\"\"","v":""},{"$f":"\"\"","v":""},{"$f":"\"\"","v":""},{"$f":"\"\"","v":""},{"$f":"\"\"","v":""},{"$f":"\"\"","v":""},{"$f":"\"\"","v":""},{"$f":"\"\"","v":""},{"$f":"\"\"","v":""},{"$f":"\"\"","v":""},{"$f":"\"\"","v":""},{"$f":"\"\"","v":""},{"$f":"\"\"","v":""},{"$f":"\"\"","v":""},{"$f":"\"\"","v":""},{"$f":"\"\"","v":""},{"$f":"\"\"","v":""},{"$f":"\"\"","v":""},{"$f":"\"\"","v":""},{"$f":"\"\"","v":""},{"$f":"\"\"","v":""},{"$f":"\"\"","v":""},{"$f":"\"\"","v":""},{"$f":"\"\"","v":""},{"$f":"\"\"","v":""},{"$f":"\"\"","v":""},{"$f":"\"\"","v":""},{"$f":"\"\"","v":""},{"$f":"\"\"","v":""},{"$f":"\"\"","v":""},{"$f":"\"\"","v":""},{"$f":"\"\"","v":""},{"$f":"\"\"","v":""},{"$f":"\"\"","v":""},{"$f":"\"\"","v":""},{"$f":"\"\"","v":""},{"$f":"\"\"","v":""},{"$f":"\"\"","v":""},{"$f":"\"\"","v":""},{"$f":"\"\"","v":""},{"$f":"\"\"","v":""},{"$f":"\"\"","v":""},{"$f":"\"\"","v":""},{"$f":"\"\"","v":""},{"$f":"\"\"","v":""},{"$f":"\"\"","v":""},{"$f":"\"\"","v":""},{"$f":"\"\"","v":""},{"$f":"\"\"","v":""},{"$f":"\"\"","v":""},{"$f":"\"\"","v":""},{"$f":"\"\"","v":""},{"$f":"\"\"","v":""},{"$f":"\"\"","v":""},{"$f":"\"\"","v":""},{"$f":"\"\"","v":""},{"$f":"\"\"","v":""},{"$f":"\"\"","v":""},{"$f":"\"\"","v":""},{"$f":"\"\"","v":""},{"$f":"\"\"","v":""},{"$f":"\"\"","v":""},{"$f":"\"\"","v":""},{"$f":"\"\"","v":""},{"$f":"\"\"","v":""},{"$f":"\"\"","v":""},{"$f":"\"\"","v":""},{"$f":"\"\"","v":""},{"$f":"\"\"","v":""},{"$f":"\"\"","v":""},{"$f":"\"\"","v":""},{"$f":"\"\"","v":""},{"$f":"\"\"","v":""},{"$f":"\"\"","v":""},{"$f":"\"\"","v":""},{"$f":"\"\"","v":""},{"$f":"\"\"","v":""},{"$f":"\"\"","v":""},{"$f":"\"\"","v":""}]
["  5.1  Assesses Effectiveness of Instruction",null,{"$f":"IF(COUNT(E17:IV17)<>0,AVERAGE(E17:IV17),\"\")","v":""},{"$f":"IF(COUNT(C17)<>0,ROUND(AVERAGE(C17),0),\"\")","v":""},{"$f":"IF('Cycle 1'!$F59= \"NS\",\"NS\",IF('Cycle 1'!$F59=\"\",\"\",IF('Cycle 1'!$F59<>0,VALUE('Cycle 1'!$F59), VALUE(\"0\"))))","v":""},{"$f":"IF('Cycle 2'!$F59= \"NS\",\"NS\",IF('Cycle 2'!$F59=\"\",\"\",IF('Cycle 2'!$F59<>0,VALUE('Cycle 2'!$F59), VALUE(\"0\"))))","v":""},{"$f":"IF('Cycle 3'!$F59= \"NS\",\"NS\",IF('Cycle 3'!$F59=\"\",\"\",IF('Cycle 3'!$F59<>0,VALUE('Cycle 3'!$F59), VALUE(\"0\"))))","v":""},{"$f":"IF('Cycle 4'!$F59= \"NS\",\"NS\",IF('Cycle 4'!$F59=\"\",\"\",IF('Cycle 4'!$F59<>0,VALUE('Cycle 4'!$F59), VALUE(\"0\"))))","v":""}]
["  5.2  Elements of Quality Work",null,{"$f":"IF(COUNT(E18:IV18)<>0,AVERAGE(E18:IV18),\"\")","v":""},{"$f":"IF(COUNT(C18)<>0,ROUND(AVERAGE(C18),0),\"\")","v":""},{"$f":"IF('Cycle 1'!$F64= \"NS\",\"NS\",IF('Cycle 1'!$F64=\"\",\"\",IF('Cycle 1'!$F64<>0,VALUE('Cycle 1'!$F64), VALUE(\"0\"))))","v":""},{"$f":"IF('Cycle 2'!$F64= \"NS\",\"NS\",IF('Cycle 2'!$F64=\"\",\"\",IF('Cycle 2'!$F64<>0,VALUE('Cycle 2'!$F64), VALUE(\"0\"))))","v":""},{"$f":"IF('Cycle 3'!$F64= \"NS\",\"NS\",IF('Cycle 3'!$F64=\"\",\"\",IF('Cycle 3'!$F64<>0,VALUE('Cycle 3'!$F64), VALUE(\"0\"))))","v":""},{"$f":"IF('Cycle 4'!$F64= \"NS\",\"NS\",IF('Cycle 4'!$F64=\"\",\"\",IF('Cycle 4'!$F64<>0,VALUE('Cycle 4'!$F64), VALUE(\"0\"))))","v":""}]
["  5.3  Documents Progress, Provides Feedback",null,{"$f":"IF(COUNT(E19:IV19)<>0,AVERAGE(E19:IV19),\"\")","v":""},{"$f":"IF(COUNT(C19)<>0,ROUND(AVERAGE(C19),0),\"\")","v":""},{"$f":"IF('Cycle 1'!$F69= \"NS\",\"NS\",IF('Cycle 1'!$F69=\"\",\"\",IF('Cycle 1'!$F69<>0,VALUE('Cycle 1'!$F69), VALUE(\"0\"))))","v":""},{"$f":"IF('Cycle 2'!$F69= \"NS\",\"NS\",IF('Cycle 2'!$F69=\"\",\"\",IF('Cycle 2'!$F69<>0,VALUE('Cycle 2'!$F69), VALUE(\"0\"))))","v":""},{"$f":"IF('Cycle 3'!$F69= \"NS\",\"NS\",IF('Cycle 3'!$F69=\"\",\"\",IF('Cycle 3'!$F69<>0,VALUE('Cycle 3'!$F69), VALUE(\"0\"))))","v":""},{"$f":"IF('Cycle 4'!$F69= \"NS\",\"NS\",IF('Cycle 4'!$F69=\"\",\"\",IF('Cycle 4'!$F69<>0,VALUE('Cycle 4'!$F69), VALUE(\"0\"))))","v":""}]
["STANDARD 6:  Instructional Planning",null,{"$f":"\"\"","v":""},{"$f":"\"\"","v":""},{"$f":"\"\"","v":""},{"$f":"\"\"","v":""},{"$f":"\"\"","v":""},{"$f":"\"\"","v":""},{"$f":"\"\"","v":""},{"$f":"\"\"","v":""},{"$f":"\"\"","v":""},{"$f":"\"\"","v":""},{"$f":"\"\"","v":""},{"$f":"\"\"","v":""},{"$f":"\"\"","v":""},{"$f":"\"\"","v":""},{"$f":"\"\"","v":""},{"$f":"\"\"","v":""},{"$f":"\"\"","v":""},{"$f":"\"\"","v":""},{"$f":"\"\"","v":""},{"$f":"\"\"","v":""},{"$f":"\"\"","v":""},{"$f":"\"\"","v":""},{"$f":"\"\"","v":""},{"$f":"\"\"","v":""},{"$f":"\"\"","v":""},{"$f":"\"\"","v":""},{"$f":"\"\"","v":""},{"$f":"\"\"","v":""},{"$f":"\"\"","v":""},{"$f":"\"\"","v":""},{"$f":"\"\"","v":""},{"$f":"\"\"","v":""},{"$f":"\"\"","v":""},{"$f":"\"\"","v":""},{"$f":"\"\"","v":""},{"$f":"\"\"","v":""},{"$f":"\"\"","v":""},{"$f":"\"\"","v":""},{"$f":"\"\"","v":""},{"$f":"\"\"","v":""},{"$f":"\"\"","v":""},{"$f":"\"\"","v":""},{"$f":"\"\"","v":""},{"$f":"\"\"","v":""},{"$f":"\"\"","v":""},{"$f":"\"\"","v":""},{"$f":"\"\"","v":""},{"$f":"\"\"","v":""},{"$f":"\"\"","v":""},{"$f":"\"\"","v":""},{"$f":"\"\"","v":""},{"$f":"\"\"","v":""},{"$f":"\"\"","v":""},{"$f":"\"\"","v":""},{"$f":"\"\"","v":""},{"$f":"\"\"","v":""},{"$f":"\"\"","v":""},{"$f":"\"\"","v":""},{"$f":"\"\"","v":""},{"$f":"\"\"","v":""},{"$f":"\"\"","v":""},{"$f":"\"\"","v":""},{"$f":"\"\"","v":""},{"$f":"\"\"","v":""},{"$f":"\"\"","v":""},{"$f":"\"\"","v":""},{"$f":"\"\"","v":""},{"$f":"\"\"","v":""},{"$f":"\"\"","v":""},{"$f":"\"\"","v":""},{"$f":"\"\"","v":""},{"$f":"\"\"","v":""},{"$f":"\"\"","v":""},{"$f":"\"\"","v":""},{"$f":"\"\"","v":""},{"$f":"\"\"","v":""},{"$f":"\"\"","v":""},{"$f":"\"\"","v":""},{"$f":"\"\"","v":""},{"$f":"\"\"","v":""},{"$f":"\"\"","v":""},{"$f":"\"\"","v":""},{"$f":"\"\"","v":""},{"$f":"\"\"","v":""},{"$f":"\"\"","v":""},{"$f":"\"\"","v":""},{"$f":"\"\"","v":""},{"$f":"\"\"","v":""},{"$f":"\"\"","v":""},{"$f":"\"\"","v":""},{"$f":"\"\"","v":""},{"$f":"\"\"","v":""},{"$f":"\"\"","v":""},{"$f":"\"\"","v":""},{"$f":"\"\"","v":""},{"$f":"\"\"","v":""},{"$f":"\"\"","v":""},{"$f":"\"\"","v":""},{"$f":"\"\"","v":""},{"$f":"\"\"","v":""},{"$f":"\"\"","v":""},{"$f":"\"\"","v":""},{"$f":"\"\"","v":""},{"$f":"\"\"","v":""},{"$f":"\"\"","v":""},{"$f":"\"\"","v":""},{"$f":"\"\"","v":""},{"$f":"\"\"","v":""},{"$f":"\"\"","v":""},{"$f":"\"\"","v":""},{"$f":"\"\"","v":""},{"$f":"\"\"","v":""},{"$f":"\"\"","v":""},{"$f":"\"\"","v":""},{"$f":"\"\"","v":""},{"$f":"\"\"","v":""},{"$f":"\"\"","v":""},{"$f":"\"\"","v":""},{"$f":"\"\"","v":""},{"$f":"\"\"","v":""},{"$f":"\"\"","v":""},{"$f":"\"\"","v":""},{"$f":"\"\"","v":""},{"$f":"\"\"","v":""},{"$f":"\"\"","v":""},{"$f":"\"\"","v":""},{"$f":"\"\"","v":""},{"$f":"\"\"","v":""},{"$f":"\"\"","v":""},{"$f":"\"\"","v":""},{"$f":"\"\"","v":""},{"$f":"\"\"","v":""},{"$f":"\"\"","v":""},{"$f":"\"\"","v":""},{"$f":"\"\"","v":""},{"$f":"\"\"","v":""},{"$f":"\"\"","v":""},{"$f":"\"\"","v":""},{"$f":"\"\"","v":""},{"$f":"\"\"","v":""},{"$f":"\"\"","v":""},{"$f":"\"\"","v":""},{"$f":"\"\"","v":""},{"$f":"\"\"","v":""},{"$f":"\"\"","v":""},{"$f":"\"\"","v":""},{"$f":"\"\"","v":""},{"$f":"\"\"","v":""},{"$f":"\"\"","v":""},{"$f":"\"\"","v":""},{"$f":"\"\"","v":""},{"$f":"\"\"","v":""},{"$f":"\"\"","v":""},{"$f":"\"\"","v":""},{"$f":"\"\"","v":""},{"$f":"\"\"","v":""},{"$f":"\"\"","v":""},{"$f":"\"\"","v":""},{"$f":"\"\"","v":""},{"$f":"\"\"","v":""},{"$f":"\"\"","v":""},{"$f":"\"\"","v":""},{"$f":"\"\"","v":""},{"$f":"\"\"","v":""},{"$f":"\"\"","v":""},{"$f":"\"\"","v":""},{"$f":"\"\"","v":""},{"$f":"\"\"","v":""},{"$f":"\"\"","v":""},{"$f":"\"\"","v":""},{"$f":"\"\"","v":""},{"$f":"\"\"","v":""},{"$f":"\"\"","v":""},{"$f":"\"\"","v":""},{"$f":"\"\"","v":""},{"$f":"\"\"","v":""},{"$f":"\"\"","v":""},{"$f":"\"\"","v":""},{"$f":"\"\"","v":""},{"$f":"\"\"","v":""},{"$f":"\"\"","v":""},{"$f":"\"\"","v":""},{"$f":"\"\"","v":""},{"$f":"\"\"","v":""},{"$f":"\"\"","v":""},{"$f":"\"\"","v":""},{"$f":"\"\"","v":""},{"$f":"\"\"","v":""},{"$f":"\"\"","v":""},{"$f":"\"\"","v":""},{"$f":"\"\"","v":""},{"$f":"\"\"","v":""},{"$f":"\"\"","v":""},{"$f":"\"\"","v":""},{"$f":"\"\"","v":""},{"$f":"\"\"","v":""},{"$f":"\"\"","v":""},{"$f":"\"\"","v":""},{"$f":"\"\"","v":""},{"$f":"\"\"","v":""},{"$f":"\"\"","v":""},{"$f":"\"\"","v":""},{"$f":"\"\"","v":""},{"$f":"\"\"","v":""},{"$f":"\"\"","v":""},{"$f":"\"\"","v":""},{"$f":"\"\"","v":""},{"$f":"\"\"","v":""},{"$f":"\"\"","v":""},{"$f":"\"\"","v":""},{"$f":"\"\"","v":""},{"$f":"\"\"","v":""},{"$f":"\"\"","v":""},{"$f":"\"\"","v":""},{"$f":"\"\"","v":""},{"$f":"\"\"","v":""},{"$f":"\"\"","v":""},{"$f":"\"\"","v":""},{"$f":"\"\"","v":""},{"$f":"\"\"","v":""},{"$f":"\"\"","v":""},{"$f":"\"\"","v":""},{"$f":"\"\"","v":""},{"$f":"\"\"","v":""},{"$f":"\"\"","v":""},{"$f":"\"\"","v":""},{"$f":"\"\"","v":""},{"$f":"\"\"","v":""},{"$f":"\"\"","v":""},{"$f":"\"\"","v":""},{"$f":"\"\"","v":""},{"$f":"\"\"","v":""},{"$f":"\"\"","v":""},{"$f":"\"\"","v":""},{"$f":"\"\"","v":""},{"$f":"\"\"","v":""},{"$f":"\"\"","v":""},{"$f":"\"\"","v":""},{"$f":"\"\"","v":""},{"$f":"\"\"","v":""},{"$f":"\"\"","v":""},{"$f":"\"\"","v":""},{"$f":"\"\"","v":""},{"$f":"\"\"","v":""},{"$f":"\"\"","v":""},{"$f":"\"\"","v":""},{"$f":"\"\"","v":""},{"$f":"\"\"","v":""},{"$f":"\"\"","v":""},{"$f":"\"\"","v":""},{"$f":"\"\"","v":""},{"$f":"\"\"","v":""},{"$f":"\"\"","v":""},{"$f":"\"\"","v":""},{"$f":"\"\"","v":""},{"$f":"\"\"","v":""},{"$f":"\"\"","v":""},{"$f":"\"\"","v":""},{"$f":"\"\"","v":""},{"$f":"\"\"","v":""},{"$f":"\"\"","v":""},{"$f":"\"\"","v":""},{"$f":"\"\"","v":""},{"$f":"\"\"","v":""},{"$f":"\"\"","v":""},{"$f":"\"\"","v":""},{"$f":"\"\"","v":""},{"$f":"\"\"","v":""},{"$f":"\"\"","v":""},{"$f":"\"\"","v":""},{"$f":"\"\"","v":""},{"$f":"\"\"","v":""},{"$f":"\"\"","v":""},{"$f":"\"\"","v":""},{"$f":"\"\"","v":""},{"$f":"\"\"","v":""},{"$f":"\"\"","v":""},{"$f":"\"\"","v":""},{"$f":"\"\"","v":""},{"$f":"\"\"","v":""},{"$f":"\"\"","v":""},{"$f":"\"\"","v":""},{"$f":"\"\"","v":""},{"$f":"\"\"","v":""},{"$f":"\"\"","v":""},{"$f":"\"\"","v":""},{"$f":"\"\"","v":""},{"$f":"\"\"","v":""},{"$f":"\"\"","v":""},{"$f":"\"\"","v":""},{"$f":"\"\"","v":""},{"$f":"\"\"","v":""},{"$f":"\"\"","v":""},{"$f":"\"\"","v":""},{"$f":"\"\"","v":""},{"$f":"\"\"","v":""},{"$f":"\"\"","v":""},{"$f":"\"\"","v":""},{"$f":"\"\"","v":""},{"$f":"\"\"","v":""},{"$f":"\"\"","v":""},{"$f":"\"\"","v":""},{"$f":"\"\"","v":""},{"$f":"\"\"","v":""},{"$f":"\"\"","v":""},{"$f":"\"\"","v":""},{"$f":"\"\"","v":""},{"$f":"\"\"","v":""},{"$f":"\"\"","v":""},{"$f":"\"\"","v":""},{"$f":"\"\"","v":""},{"$f":"\"\"","v":""},{"$f":"\"\"","v":""},{"$f":"\"\"","v":""},{"$f":"\"\"","v":""},{"$f":"\"\"","v":""},{"$f":"\"\"","v":""},{"$f":"\"\"","v":""},{"$f":"\"\"","v":""},{"$f":"\"\"","v":""},{"$f":"\"\"","v":""},{"$f":"\"\"","v":""},{"$f":"\"\"","v":""},{"$f":"\"\"","v":""},{"$f":"\"\"","v":""},{"$f":"\"\"","v":""},{"$f":"\"\"","v":""},{"$f":"\"\"","v":""},{"$f":"\"\"","v":""},{"$f":"\"\"","v":""},{"$f":"\"\"","v":""},{"$f":"\"\"","v":""},{"$f":"\"\"","v":""},{"$f":"\"\"","v":""},{"$f":"\"\"","v":""},{"$f":"\"\"","v":""},{"$f":"\"\"","v":""},{"$f":"\"\"","v":""},{"$f":"\"\"","v":""},{"$f":"\"\"","v":""},{"$f":"\"\"","v":""},{"$f":"\"\"","v":""},{"$f":"\"\"","v":""},{"$f":"\"\"","v":""},{"$f":"\"\"","v":""},{"$f":"\"\"","v":""},{"$f":"\"\"","v":""},{"$f":"\"\"","v":""},{"$f":"\"\"","v":""},{"$f":"\"\"","v":""},{"$f":"\"\"","v":""},{"$f":"\"\"","v":""},{"$f":"\"\"","v":""},{"$f":"\"\"","v":""},{"$f":"\"\"","v":""},{"$f":"\"\"","v":""},{"$f":"\"\"","v":""},{"$f":"\"\"","v":""},{"$f":"\"\"","v":""},{"$f":"\"\"","v":""},{"$f":"\"\"","v":""},{"$f":"\"\"","v":""},{"$f":"\"\"","v":""},{"$f":"\"\"","v":""},{"$f":"\"\"","v":""},{"$f":"\"\"","v":""},{"$f":"\"\"","v":""},{"$f":"\"\"","v":""},{"$f":"\"\"","v":""},{"$f":"\"\"","v":""},{"$f":"\"\"","v":""},{"$f":"\"\"","v":""},{"$f":"\"\"","v":""},{"$f":"\"\"","v":""},{"$f":"\"\"","v":""},{"$f":"\"\"","v":""},{"$f":"\"\"","v":""},{"$f":"\"\"","v":""},{"$f":"\"\"","v":""},{"$f":"\"\"","v":""},{"$f":"\"\"","v":""},{"$f":"\"\"","v":""},{"$f":"\"\"","v":""},{"$f":"\"\"","v":""},{"$f":"\"\"","v":""},{"$f":"\"\"","v":""},{"$f":"\"\"","v":""},{"$f":"\"\"","v":""},{"$f":"\"\"","v":""},{"$f":"\"\"","v":""},{"$f":"\"\"","v":""},{"$f":"\"\"","v":""},{"$f":"\"\"","v":""},{"$f":"\"\"","v":""},{"$f":"\"\"","v":""},{"$f":"\"\"","v":""},{"$f":"\"\"","v":""},{"$f":"\"\"","v":""},{"$f":"\"\"","v":""},{"$f":"\"\"","v":""},{"$f":"\"\"","v":""},{"$f":"\"\"","v":""},{"$f":"\"\"","v":""},{"$f":"\"\"","v":""},{"$f":"\"\"","v":""},{"$f":"\"\"","v":""},{"$f":"\"\"","v":""},{"$f":"\"\"","v":""},{"$f":"\"\"","v":""},{"$f":"\"\"","v":""},{"$f":"\"\"","v":""},{"$f":"\"\"","v":""},{"$f":"\"\"","v":""},{"$f":"\"\"","v":""},{"$f":"\"\"","v":""},{"$f":"\"\"","v":""},{"$f":"\"\"","v":""},{"$f":"\"\"","v":""},{"$f":"\"\"","v":""},{"$f":"\"\"","v":""},{"$f":"\"\"","v":""},{"$f":"\"\"","v":""},{"$f":"\"\"","v":""},{"$f":"\"\"","v":""},{"$f":"\"\"","v":""},{"$f":"\"\"","v":""},{"$f":"\"\"","v":""},{"$f":"\"\"","v":""},{"$f":"\"\"","v":""},{"$f":"\"\"","v":""},{"$f":"\"\"","v":""},{"$f":"\"\"","v":""},{"$f":"\"\"","v":""},{"$f":"\"\"","v":""},{"$f":"\"\"","v":""},{"$f":"\"\"","v":""},{"$f":"\"\"","v":""},{"$f":"\"\"","v":""},{"$f":"\"\"","v":""},{"$f":"\"\"","v":""},{"$f":"\"\"","v":""},{"$f":"\"\"","v":""},{"$f":"\"\"","v":""},{"$f":"\"\"","v":""},{"$f":"\"\"","v":""},{"$f":"\"\"","v":""},{"$f":"\"\"","v":""},{"$f":"\"\"","v":""},{"$f":"\"\"","v":""},{"$f":"\"\"","v":""},{"$f":"\"\"","v":""},{"$f":"\"\"","v":""},{"$f":"\"\"","v":""},{"$f":"\"\"","v":""},{"$f":"\"\"","v":""},{"$f":"\"\"","v":""},{"$f":"\"\"","v":""},{"$f":"\"\"","v":""},{"$f":"\"\"","v":""},{"$f":"\"\"","v":""},{"$f":"\"\"","v":""},{"$f":"\"\"","v":""},{"$f":"\"\"","v":""},{"$f":"\"\"","v":""},{"$f":"\"\"","v":""},{"$f":"\"\"","v":""},{"$f":"\"\"","v":""},{"$f":"\"\"","v":""},{"$f":"\"\"","v":""},{"$f":"\"\"","v":""},{"$f":"\"\"","v":""},{"$f":"\"\"","v":""},{"$f":"\"\"","v":""},{"$f":"\"\"","v":""},{"$f":"\"\"","v":""},{"$f":"\"\"","v":""},{"$f":"\"\"","v":""},{"$f":"\"\"","v":""},{"$f":"\"\"","v":""},{"$f":"\"\"","v":""},{"$f":"\"\"","v":""},{"$f":"\"\"","v":""},{"$f":"\"\"","v":""},{"$f":"\"\"","v":""},{"$f":"\"\"","v":""},{"$f":"\"\"","v":""},{"$f":"\"\"","v":""},{"$f":"\"\"","v":""},{"$f":"\"\"","v":""},{"$f":"\"\"","v":""},{"$f":"\"\"","v":""},{"$f":"\"\"","v":""},{"$f":"\"\"","v":""},{"$f":"\"\"","v":""},{"$f":"\"\"","v":""},{"$f":"\"\"","v":""},{"$f":"\"\"","v":""},{"$f":"\"\"","v":""},{"$f":"\"\"","v":""},{"$f":"\"\"","v":""},{"$f":"\"\"","v":""},{"$f":"\"\"","v":""},{"$f":"\"\"","v":""},{"$f":"\"\"","v":""},{"$f":"\"\"","v":""},{"$f":"\"\"","v":""},{"$f":"\"\"","v":""},{"$f":"\"\"","v":""},{"$f":"\"\"","v":""},{"$f":"\"\"","v":""},{"$f":"\"\"","v":""},{"$f":"\"\"","v":""},{"$f":"\"\"","v":""},{"$f":"\"\"","v":""},{"$f":"\"\"","v":""},{"$f":"\"\"","v":""},{"$f":"\"\"","v":""},{"$f":"\"\"","v":""},{"$f":"\"\"","v":""},{"$f":"\"\"","v":""},{"$f":"\"\"","v":""},{"$f":"\"\"","v":""},{"$f":"\"\"","v":""},{"$f":"\"\"","v":""},{"$f":"\"\"","v":""},{"$f":"\"\"","v":""},{"$f":"\"\"","v":""},{"$f":"\"\"","v":""},{"$f":"\"\"","v":""},{"$f":"\"\"","v":""},{"$f":"\"\"","v":""},{"$f":"\"\"","v":""},{"$f":"\"\"","v":""},{"$f":"\"\"","v":""},{"$f":"\"\"","v":""},{"$f":"\"\"","v":""},{"$f":"\"\"","v":""},{"$f":"\"\"","v":""},{"$f":"\"\"","v":""},{"$f":"\"\"","v":""},{"$f":"\"\"","v":""},{"$f":"\"\"","v":""},{"$f":"\"\"","v":""},{"$f":"\"\"","v":""},{"$f":"\"\"","v":""},{"$f":"\"\"","v":""},{"$f":"\"\"","v":""},{"$f":"\"\"","v":""},{"$f":"\"\"","v":""},{"$f":"\"\"","v":""},{"$f":"\"\"","v":""},{"$f":"\"\"","v":""},{"$f":"\"\"","v":""},{"$f":"\"\"","v":""},{"$f":"\"\"","v":""},{"$f":"\"\"","v":""},{"$f":"\"\"","v":""},{"$f":"\"\"","v":""},{"$f":"\"\"","v":""},{"$f":"\"\"","v":""},{"$f":"\"\"","v":""},{"$f":"\"\"","v":""},{"$f":"\"\"","v":""},{"$f":"\"\"","v":""},{"$f":"\"\"","v":""},{"$f":"\"\"","v":""},{"$f":"\"\"","v":""},{"$f":"\"\"","v":""},{"$f":"\"\"","v":""},{"$f":"\"\"","v":""},{"$f":"\"\"","v":""},{"$f":"\"\"","v":""},{"$f":"\"\"","v":""},{"$f":"\"\"","v":""},{"$f":"\"\"","v":""},{"$f":"\"\"","v":""}]
["  6.1  Knowledge and Reference  of Utah Core Standards",null,{"$f":"IF(COUNT(E21:IV21)<>0,AVERAGE(E21:IV21),\"\")","v":""},{"$f":"IF(COUNT(C21)<>0,ROUND(AVERAGE(C21),0),\"\")","v":""},{"$f":"IF('Cycle 1'!$F75= \"NS\",\"NS\",IF('Cycle 1'!$F75=\"\",\"\",IF('Cycle 1'!$F75<>0,VALUE('Cycle 1'!$F75), VALUE(\"0\"))))","v":""},{"$f":"IF('Cycle 2'!$F75= \"NS\",\"NS\",IF('Cycle 2'!$F75=\"\",\"\",IF('Cycle 2'!$F75<>0,VALUE('Cycle 2'!$F75), VALUE(\"0\"))))","v":""},{"$f":"IF('Cycle 3'!$F75= \"NS\",\"NS\",IF('Cycle 3'!$F75=\"\",\"\",IF('Cycle 3'!$F75<>0,VALUE('Cycle 3'!$F75), VALUE(\"0\"))))","v":""},{"$f":"IF('Cycle 4'!$F75= \"NS\",\"NS\",IF('Cycle 4'!$F75=\"\",\"\",IF('Cycle 4'!$F75<>0,VALUE('Cycle 4'!$F75), VALUE(\"0\"))))","v":""}]
["  6.2  Integrates Cross-disciplinary Skills",null,{"$f":"IF(COUNT(E22:IV22)<>0,AVERAGE(E22:IV22),\"\")","v":""},{"$f":"IF(COUNT(C22)<>0,ROUND(AVERAGE(C22),0),\"\")","v":""},{"$f":"IF('Cycle 1'!$F80= \"NS\",\"NS\",IF('Cycle 1'!$F80=\"\",\"\",IF('Cycle 1'!$F80<>0,VALUE('Cycle 1'!$F80), VALUE(\"0\"))))","v":""},{"$f":"IF('Cycle 2'!$F80= \"NS\",\"NS\",IF('Cycle 2'!$F80=\"\",\"\",IF('Cycle 2'!$F80<>0,VALUE('Cycle 2'!$F80), VALUE(\"0\"))))","v":""},{"$f":"IF('Cycle 3'!$F80= \"NS\",\"NS\",IF('Cycle 3'!$F80=\"\",\"\",IF('Cycle 3'!$F80<>0,VALUE('Cycle 3'!$F80), VALUE(\"0\"))))","v":""},{"$f":"IF('Cycle 4'!$F80= \"NS\",\"NS\",IF('Cycle 4'!$F80=\"\",\"\",IF('Cycle 4'!$F80<>0,VALUE('Cycle 4'!$F80), VALUE(\"0\"))))","v":""}]
["STANDARD 7:  Instructional Strategies",null,{"$f":"\"\"","v":""},{"$f":"\"\"","v":""},{"$f":"\"\"","v":""},{"$f":"\"\"","v":""},{"$f":"\"\"","v":""},{"$f":"\"\"","v":""},{"$f":"\"\"","v":""},{"$f":"\"\"","v":""},{"$f":"\"\"","v":""},{"$f":"\"\"","v":""},{"$f":"\"\"","v":""},{"$f":"\"\"","v":""},{"$f":"\"\"","v":""},{"$f":"\"\"","v":""},{"$f":"\"\"","v":""},{"$f":"\"\"","v":""},{"$f":"\"\"","v":""},{"$f":"\"\"","v":""},{"$f":"\"\"","v":""},{"$f":"\"\"","v":""},{"$f":"\"\"","v":""},{"$f":"\"\"","v":""},{"$f":"\"\"","v":""},{"$f":"\"\"","v":""},{"$f":"\"\"","v":""},{"$f":"\"\"","v":""},{"$f":"\"\"","v":""},{"$f":"\"\"","v":""},{"$f":"\"\"","v":""},{"$f":"\"\"","v":""},{"$f":"\"\"","v":""},{"$f":"\"\"","v":""},{"$f":"\"\"","v":""},{"$f":"\"\"","v":""},{"$f":"\"\"","v":""},{"$f":"\"\"","v":""},{"$f":"\"\"","v":""},{"$f":"\"\"","v":""},{"$f":"\"\"","v":""},{"$f":"\"\"","v":""},{"$f":"\"\"","v":""},{"$f":"\"\"","v":""},{"$f":"\"\"","v":""},{"$f":"\"\"","v":""},{"$f":"\"\"","v":""},{"$f":"\"\"","v":""},{"$f":"\"\"","v":""},{"$f":"\"\"","v":""},{"$f":"\"\"","v":""},{"$f":"\"\"","v":""},{"$f":"\"\"","v":""},{"$f":"\"\"","v":""},{"$f":"\"\"","v":""},{"$f":"\"\"","v":""},{"$f":"\"\"","v":""},{"$f":"\"\"","v":""},{"$f":"\"\"","v":""},{"$f":"\"\"","v":""},{"$f":"\"\"","v":""},{"$f":"\"\"","v":""},{"$f":"\"\"","v":""},{"$f":"\"\"","v":""},{"$f":"\"\"","v":""},{"$f":"\"\"","v":""},{"$f":"\"\"","v":""},{"$f":"\"\"","v":""},{"$f":"\"\"","v":""},{"$f":"\"\"","v":""},{"$f":"\"\"","v":""},{"$f":"\"\"","v":""},{"$f":"\"\"","v":""},{"$f":"\"\"","v":""},{"$f":"\"\"","v":""},{"$f":"\"\"","v":""},{"$f":"\"\"","v":""},{"$f":"\"\"","v":""},{"$f":"\"\"","v":""},{"$f":"\"\"","v":""},{"$f":"\"\"","v":""},{"$f":"\"\"","v":""},{"$f":"\"\"","v":""},{"$f":"\"\"","v":""},{"$f":"\"\"","v":""},{"$f":"\"\"","v":""},{"$f":"\"\"","v":""},{"$f":"\"\"","v":""},{"$f":"\"\"","v":""},{"$f":"\"\"","v":""},{"$f":"\"\"","v":""},{"$f":"\"\"","v":""},{"$f":"\"\"","v":""},{"$f":"\"\"","v":""},{"$f":"\"\"","v":""},{"$f":"\"\"","v":""},{"$f":"\"\"","v":""},{"$f":"\"\"","v":""},{"$f":"\"\"","v":""},{"$f":"\"\"","v":""},{"$f":"\"\"","v":""},{"$f":"\"\"","v":""},{"$f":"\"\"","v":""},{"$f":"\"\"","v":""},{"$f":"\"\"","v":""},{"$f":"\"\"","v":""},{"$f":"\"\"","v":""},{"$f":"\"\"","v":""},{"$f":"\"\"","v":""},{"$f":"\"\"","v":""},{"$f":"\"\"","v":""},{"$f":"\"\"","v":""},{"$f":"\"\"","v":""},{"$f":"\"\"","v":""},{"$f":"\"\"","v":""},{"$f":"\"\"","v":""},{"$f":"\"\"","v":""},{"$f":"\"\"","v":""},{"$f":"\"\"","v":""},{"$f":"\"\"","v":""},{"$f":"\"\"","v":""},{"$f":"\"\"","v":""},{"$f":"\"\"","v":""},{"$f":"\"\"","v":""},{"$f":"\"\"","v":""},{"$f":"\"\"","v":""},{"$f":"\"\"","v":""},{"$f":"\"\"","v":""},{"$f":"\"\"","v":""},{"$f":"\"\"","v":""},{"$f":"\"\"","v":""},{"$f":"\"\"","v":""},{"$f":"\"\"","v":""},{"$f":"\"\"","v":""},{"$f":"\"\"","v":""},{"$f":"\"\"","v":""},{"$f":"\"\"","v":""},{"$f":"\"\"","v":""},{"$f":"\"\"","v":""},{"$f":"\"\"","v":""},{"$f":"\"\"","v":""},{"$f":"\"\"","v":""},{"$f":"\"\"","v":""},{"$f":"\"\"","v":""},{"$f":"\"\"","v":""},{"$f":"\"\"","v":""},{"$f":"\"\"","v":""},{"$f":"\"\"","v":""},{"$f":"\"\"","v":""},{"$f":"\"\"","v":""},{"$f":"\"\"","v":""},{"$f":"\"\"","v":""},{"$f":"\"\"","v":""},{"$f":"\"\"","v":""},{"$f":"\"\"","v":""},{"$f":"\"\"","v":""},{"$f":"\"\"","v":""},{"$f":"\"\"","v":""},{"$f":"\"\"","v":""},{"$f":"\"\"","v":""},{"$f":"\"\"","v":""},{"$f":"\"\"","v":""},{"$f":"\"\"","v":""},{"$f":"\"\"","v":""},{"$f":"\"\"","v":""},{"$f":"\"\"","v":""},{"$f":"\"\"","v":""},{"$f":"\"\"","v":""},{"$f":"\"\"","v":""},{"$f":"\"\"","v":""},{"$f":"\"\"","v":""},{"$f":"\"\"","v":""},{"$f":"\"\"","v":""},{"$f":"\"\"","v":""},{"$f":"\"\"","v":""},{"$f":"\"\"","v":""},{"$f":"\"\"","v":""},{"$f":"\"\"","v":""},{"$f":"\"\"","v":""},{"$f":"\"\"","v":""},{"$f":"\"\"","v":""},{"$f":"\"\"","v":""},{"$f":"\"\"","v":""},{"$f":"\"\"","v":""},{"$f":"\"\"","v":""},{"$f":"\"\"","v":""},{"$f":"\"\"","v":""},{"$f":"\"\"","v":""},{"$f":"\"\"","v":""},{"$f":"\"\"","v":""},{"$f":"\"\"","v":""},{"$f":"\"\"","v":""},{"$f":"\"\"","v":""},{"$f":"\"\"","v":""},{"$f":"\"\"","v":""},{"$f":"\"\"","v":""},{"$f":"\"\"","v":""},{"$f":"\"\"","v":""},{"$f":"\"\"","v":""},{"$f":"\"\"","v":""},{"$f":"\"\"","v":""},{"$f":"\"\"","v":""},{"$f":"\"\"","v":""},{"$f":"\"\"","v":""},{"$f":"\"\"","v":""},{"$f":"\"\"","v":""},{"$f":"\"\"","v":""},{"$f":"\"\"","v":""},{"$f":"\"\"","v":""},{"$f":"\"\"","v":""},{"$f":"\"\"","v":""},{"$f":"\"\"","v":""},{"$f":"\"\"","v":""},{"$f":"\"\"","v":""},{"$f":"\"\"","v":""},{"$f":"\"\"","v":""},{"$f":"\"\"","v":""},{"$f":"\"\"","v":""},{"$f":"\"\"","v":""},{"$f":"\"\"","v":""},{"$f":"\"\"","v":""},{"$f":"\"\"","v":""},{"$f":"\"\"","v":""},{"$f":"\"\"","v":""},{"$f":"\"\"","v":""},{"$f":"\"\"","v":""},{"$f":"\"\"","v":""},{"$f":"\"\"","v":""},{"$f":"\"\"","v":""},{"$f":"\"\"","v":""},{"$f":"\"\"","v":""},{"$f":"\"\"","v":""},{"$f":"\"\"","v":""},{"$f":"\"\"","v":""},{"$f":"\"\"","v":""},{"$f":"\"\"","v":""},{"$f":"\"\"","v":""},{"$f":"\"\"","v":""},{"$f":"\"\"","v":""},{"$f":"\"\"","v":""},{"$f":"\"\"","v":""},{"$f":"\"\"","v":""},{"$f":"\"\"","v":""},{"$f":"\"\"","v":""},{"$f":"\"\"","v":""},{"$f":"\"\"","v":""},{"$f":"\"\"","v":""},{"$f":"\"\"","v":""},{"$f":"\"\"","v":""},{"$f":"\"\"","v":""},{"$f":"\"\"","v":""},{"$f":"\"\"","v":""},{"$f":"\"\"","v":""},{"$f":"\"\"","v":""},{"$f":"\"\"","v":""},{"$f":"\"\"","v":""},{"$f":"\"\"","v":""},{"$f":"\"\"","v":""},{"$f":"\"\"","v":""},{"$f":"\"\"","v":""},{"$f":"\"\"","v":""},{"$f":"\"\"","v":""},{"$f":"\"\"","v":""},{"$f":"\"\"","v":""},{"$f":"\"\"","v":""},{"$f":"\"\"","v":""},{"$f":"\"\"","v":""},{"$f":"\"\"","v":""},{"$f":"\"\"","v":""},{"$f":"\"\"","v":""},{"$f":"\"\"","v":""},{"$f":"\"\"","v":""},{"$f":"\"\"","v":""},{"$f":"\"\"","v":""},{"$f":"\"\"","v":""},{"$f":"\"\"","v":""},{"$f":"\"\"","v":""},{"$f":"\"\"","v":""},{"$f":"\"\"","v":""},{"$f":"\"\"","v":""},{"$f":"\"\"","v":""},{"$f":"\"\"","v":""},{"$f":"\"\"","v":""},{"$f":"\"\"","v":""},{"$f":"\"\"","v":""},{"$f":"\"\"","v":""},{"$f":"\"\"","v":""},{"$f":"\"\"","v":""},{"$f":"\"\"","v":""},{"$f":"\"\"","v":""},{"$f":"\"\"","v":""},{"$f":"\"\"","v":""},{"$f":"\"\"","v":""},{"$f":"\"\"","v":""},{"$f":"\"\"","v":""},{"$f":"\"\"","v":""},{"$f":"\"\"","v":""},{"$f":"\"\"","v":""},{"$f":"\"\"","v":""},{"$f":"\"\"","v":""},{"$f":"\"\"","v":""},{"$f":"\"\"","v":""},{"$f":"\"\"","v":""},{"$f":"\"\"","v":""},{"$f":"\"\"","v":""},{"$f":"\"\"","v":""},{"$f":"\"\"","v":""},{"$f":"\"\"","v":""},{"$f":"\"\"","v":""},{"$f":"\"\"","v":""},{"$f":"\"\"","v":""},{"$f":"\"\"","v":""},{"$f":"\"\"","v":""},{"$f":"\"\"","v":""},{"$f":"\"\"","v":""},{"$f":"\"\"","v":""},{"$f":"\"\"","v":""},{"$f":"\"\"","v":""},{"$f":"\"\"","v":""},{"$f":"\"\"","v":""},{"$f":"\"\"","v":""},{"$f":"\"\"","v":""},{"$f":"\"\"","v":""},{"$f":"\"\"","v":""},{"$f":"\"\"","v":""},{"$f":"\"\"","v":""},{"$f":"\"\"","v":""},{"$f":"\"\"","v":""},{"$f":"\"\"","v":""},{"$f":"\"\"","v":""},{"$f":"\"\"","v":""},{"$f":"\"\"","v":""},{"$f":"\"\"","v":""},{"$f":"\"\"","v":""},{"$f":"\"\"","v":""},{"$f":"\"\"","v":""},{"$f":"\"\"","v":""},{"$f":"\"\"","v":""},{"$f":"\"\"","v":""},{"$f":"\"\"","v":""},{"$f":"\"\"","v":""},{"$f":"\"\"","v":""},{"$f":"\"\"","v":""},{"$f":"\"\"","v":""},{"$f":"\"\"","v":""},{"$f":"\"\"","v":""},{"$f":"\"\"","v":""},{"$f":"\"\"","v":""},{"$f":"\"\"","v":""},{"$f":"\"\"","v":""},{"$f":"\"\"","v":""},{"$f":"\"\"","v":""},{"$f":"\"\"","v":""},{"$f":"\"\"","v":""},{"$f":"\"\"","v":""},{"$f":"\"\"","v":""},{"$f":"\"\"","v":""},{"$f":"\"\"","v":""},{"$f":"\"\"","v":""},{"$f":"\"\"","v":""},{"$f":"\"\"","v":""},{"$f":"\"\"","v":""},{"$f":"\"\"","v":""},{"$f":"\"\"","v":""},{"$f":"\"\"","v":""},{"$f":"\"\"","v":""},{"$f":"\"\"","v":""},{"$f":"\"\"","v":""},{"$f":"\"\"","v":""},{"$f":"\"\"","v":""},{"$f":"\"\"","v":""},{"$f":"\"\"","v":""},{"$f":"\"\"","v":""},{"$f":"\"\"","v":""},{"$f":"\"\"","v":""},{"$f":"\"\"","v":""},{"$f":"\"\"","v":""},{"$f":"\"\"","v":""},{"$f":"\"\"","v":""},{"$f":"\"\"","v":""},{"$f":"\"\"","v":""},{"$f":"\"\"","v":""},{"$f":"\"\"","v":""},{"$f":"\"\"","v":""},{"$f":"\"\"","v":""},{"$f":"\"\"","v":""},{"$f":"\"\"","v":""},{"$f":"\"\"","v":""},{"$f":"\"\"","v":""},{"$f":"\"\"","v":""},{"$f":"\"\"","v":""},{"$f":"\"\"","v":""},{"$f":"\"\"","v":""},{"$f":"\"\"","v":""},{"$f":"\"\"","v":""},{"$f":"\"\"","v":""},{"$f":"\"\"","v":""},{"$f":"\"\"","v":""},{"$f":"\"\"","v":""},{"$f":"\"\"","v":""},{"$f":"\"\"","v":""},{"$f":"\"\"","v":""},{"$f":"\"\"","v":""},{"$f":"\"\"","v":""},{"$f":"\"\"","v":""},{"$f":"\"\"","v":""},{"$f":"\"\"","v":""},{"$f":"\"\"","v":""},{"$f":"\"\"","v":""},{"$f":"\"\"","v":""},{"$f":"\"\"","v":""},{"$f":"\"\"","v":""},{"$f":"\"\"","v":""},{"$f":"\"\"","v":""},{"$f":"\"\"","v":""},{"$f":"\"\"","v":""},{"$f":"\"\"","v":""},{"$f":"\"\"","v":""},{"$f":"\"\"","v":""},{"$f":"\"\"","v":""},{"$f":"\"\"","v":""},{"$f":"\"\"","v":""},{"$f":"\"\"","v":""},{"$f":"\"\"","v":""},{"$f":"\"\"","v":""},{"$f":"\"\"","v":""},{"$f":"\"\"","v":""},{"$f":"\"\"","v":""},{"$f":"\"\"","v":""},{"$f":"\"\"","v":""},{"$f":"\"\"","v":""},{"$f":"\"\"","v":""},{"$f":"\"\"","v":""},{"$f":"\"\"","v":""},{"$f":"\"\"","v":""},{"$f":"\"\"","v":""},{"$f":"\"\"","v":""},{"$f":"\"\"","v":""},{"$f":"\"\"","v":""},{"$f":"\"\"","v":""},{"$f":"\"\"","v":""},{"$f":"\"\"","v":""},{"$f":"\"\"","v":""},{"$f":"\"\"","v":""},{"$f":"\"\"","v":""},{"$f":"\"\"","v":""},{"$f":"\"\"","v":""},{"$f":"\"\"","v":""},{"$f":"\"\"","v":""},{"$f":"\"\"","v":""},{"$f":"\"\"","v":""},{"$f":"\"\"","v":""},{"$f":"\"\"","v":""},{"$f":"\"\"","v":""},{"$f":"\"\"","v":""},{"$f":"\"\"","v":""},{"$f":"\"\"","v":""},{"$f":"\"\"","v":""},{"$f":"\"\"","v":""},{"$f":"\"\"","v":""},{"$f":"\"\"","v":""},{"$f":"\"\"","v":""},{"$f":"\"\"","v":""},{"$f":"\"\"","v":""},{"$f":"\"\"","v":""},{"$f":"\"\"","v":""},{"$f":"\"\"","v":""},{"$f":"\"\"","v":""},{"$f":"\"\"","v":""},{"$f":"\"\"","v":""},{"$f":"\"\"","v":""},{"$f":"\"\"","v":""},{"$f":"\"\"","v":""},{"$f":"\"\"","v":""},{"$f":"\"\"","v":""},{"$f":"\"\"","v":""},{"$f":"\"\"","v":""},{"$f":"\"\"","v":""},{"$f":"\"\"","v":""},{"$f":"\"\"","v":""},{"$f":"\"\"","v":""},{"$f":"\"\"","v":""},{"$f":"\"\"","v":""},{"$f":"\"\"","v":""},{"$f":"\"\"","v":""},{"$f":"\"\"","v":""},{"$f":"\"\"","v":""},{"$f":"\"\"","v":""},{"$f":"\"\"","v":""},{"$f":"\"\"","v":""},{"$f":"\"\"","v":""},{"$f":"\"\"","v":""},{"$f":"\"\"","v":""},{"$f":"\"\"","v":""},{"$f":"\"\"","v":""},{"$f":"\"\"","v":""},{"$f":"\"\"","v":""},{"$f":"\"\"","v":""},{"$f":"\"\"","v":""},{"$f":"\"\"","v":""},{"$f":"\"\"","v":""},{"$f":"\"\"","v":""},{"$f":"\"\"","v":""},{"$f":"\"\"","v":""},{"$f":"\"\"","v":""},{"$f":"\"\"","v":""},{"$f":"\"\"","v":""},{"$f":"\"\"","v":""},{"$f":"\"\"","v":""},{"$f":"\"\"","v":""},{"$f":"\"\"","v":""},{"$f":"\"\"","v":""},{"$f":"\"\"","v":""},{"$f":"\"\"","v":""},{"$f":"\"\"","v":""},{"$f":"\"\"","v":""},{"$f":"\"\"","v":""},{"$f":"\"\"","v":""},{"$f":"\"\"","v":""},{"$f":"\"\"","v":""},{"$f":"\"\"","v":""},{"$f":"\"\"","v":""},{"$f":"\"\"","v":""},{"$f":"\"\"","v":""},{"$f":"\"\"","v":""},{"$f":"\"\"","v":""},{"$f":"\"\"","v":""},{"$f":"\"\"","v":""},{"$f":"\"\"","v":""},{"$f":"\"\"","v":""},{"$f":"\"\"","v":""},{"$f":"\"\"","v":""},{"$f":"\"\"","v":""},{"$f":"\"\"","v":""},{"$f":"\"\"","v":""},{"$f":"\"\"","v":""},{"$f":"\"\"","v":""},{"$f":"\"\"","v":""},{"$f":"\"\"","v":""},{"$f":"\"\"","v":""},{"$f":"\"\"","v":""},{"$f":"\"\"","v":""},{"$f":"\"\"","v":""},{"$f":"\"\"","v":""},{"$f":"\"\"","v":""},{"$f":"\"\"","v":""},{"$f":"\"\"","v":""},{"$f":"\"\"","v":""},{"$f":"\"\"","v":""},{"$f":"\"\"","v":""},{"$f":"\"\"","v":""},{"$f":"\"\"","v":""},{"$f":"\"\"","v":""},{"$f":"\"\"","v":""},{"$f":"\"\"","v":""},{"$f":"\"\"","v":""},{"$f":"\"\"","v":""},{"$f":"\"\"","v":""},{"$f":"\"\"","v":""},{"$f":"\"\"","v":""},{"$f":"\"\"","v":""},{"$f":"\"\"","v":""},{"$f":"\"\"","v":""},{"$f":"\"\"","v":""},{"$f":"\"\"","v":""},{"$f":"\"\"","v":""},{"$f":"\"\"","v":""},{"$f":"\"\"","v":""},{"$f":"\"\"","v":""},{"$f":"\"\"","v":""},{"$f":"\"\"","v":""},{"$f":"\"\"","v":""},{"$f":"\"\"","v":""},{"$f":"\"\"","v":""},{"$f":"\"\"","v":""},{"$f":"\"\"","v":""},{"$f":"\"\"","v":""},{"$f":"\"\"","v":""},{"$f":"\"\"","v":""},{"$f":"\"\"","v":""},{"$f":"\"\"","v":""},{"$f":"\"\"","v":""},{"$f":"\"\"","v":""},{"$f":"\"\"","v":""},{"$f":"\"\"","v":""},{"$f":"\"\"","v":""},{"$f":"\"\"","v":""},{"$f":"\"\"","v":""},{"$f":"\"\"","v":""},{"$f":"\"\"","v":""},{"$f":"\"\"","v":""},{"$f":"\"\"","v":""},{"$f":"\"\"","v":""},{"$f":"\"\"","v":""},{"$f":"\"\"","v":""},{"$f":"\"\"","v":""},{"$f":"\"\"","v":""},{"$f":"\"\"","v":""},{"$f":"\"\"","v":""},{"$f":"\"\"","v":""},{"$f":"\"\"","v":""},{"$f":"\"\"","v":""},{"$f":"\"\"","v":""},{"$f":"\"\"","v":""},{"$f":"\"\"","v":""},{"$f":"\"\"","v":""},{"$f":"\"\"","v":""},{"$f":"\"\"","v":""},{"$f":"\"\"","v":""},{"$f":"\"\"","v":""},{"$f":"\"\"","v":""},{"$f":"\"\"","v":""},{"$f":"\"\"","v":""},{"$f":"\"\"","v":""},{"$f":"\"\"","v":""},{"$f":"\"\"","v":""},{"$f":"\"\"","v":""},{"$f":"\"\"","v":""},{"$f":"\"\"","v":""},{"$f":"\"\"","v":""},{"$f":"\"\"","v":""},{"$f":"\"\"","v":""},{"$f":"\"\"","v":""},{"$f":"\"\"","v":""},{"$f":"\"\"","v":""},{"$f":"\"\"","v":""},{"$f":"\"\"","v":""},{"$f":"\"\"","v":""},{"$f":"\"\"","v":""},{"$f":"\"\"","v":""},{"$f":"\"\"","v":""},{"$f":"\"\"","v":""},{"$f":"\"\"","v":""},{"$f":"\"\"","v":""},{"$f":"\"\"","v":""},{"$f":"\"\"","v":""},{"$f":"\"\"","v":""},{"$f":"\"\"","v":""},{"$f":"\"\"","v":""},{"$f":"\"\"","v":""},{"$f":"\"\"","v":""},{"$f":"\"\"","v":""},{"$f":"\"\"","v":""},{"$f":"\"\"","v":""},{"$f":"\"\"","v":""},{"$f":"\"\"","v":""},{"$f":"\"\"","v":""},{"$f":"\"\"","v":""},{"$f":"\"\"","v":""},{"$f":"\"\"","v":""},{"$f":"\"\"","v":""},{"$f":"\"\"","v":""},{"$f":"\"\"","v":""},{"$f":"\"\"","v":""},{"$f":"\"\"","v":""},{"$f":"\"\"","v":""},{"$f":"\"\"","v":""},{"$f":"\"\"","v":""},{"$f":"\"\"","v":""},{"$f":"\"\"","v":""},{"$f":"\"\"","v":""},{"$f":"\"\"","v":""},{"$f":"\"\"","v":""},{"$f":"\"\"","v":""},{"$f":"\"\"","v":""},{"$f":"\"\"","v":""},{"$f":"\"\"","v":""},{"$f":"\"\"","v":""},{"$f":"\"\"","v":""},{"$f":"\"\"","v":""},{"$f":"\"\"","v":""},{"$f":"\"\"","v":""},{"$f":"\"\"","v":""},{"$f":"\"\"","v":""},{"$f":"\"\"","v":""},{"$f":"\"\"","v":""},{"$f":"\"\"","v":""},{"$f":"\"\"","v":""},{"$f":"\"\"","v":""},{"$f":"\"\"","v":""},{"$f":"\"\"","v":""},{"$f":"\"\"","v":""},{"$f":"\"\"","v":""},{"$f":"\"\"","v":""},{"$f":"\"\"","v":""},{"$f":"\"\"","v":""},{"$f":"\"\"","v":""},{"$f":"\"\"","v":""},{"$f":"\"\"","v":""},{"$f":"\"\"","v":""},{"$f":"\"\"","v":""},{"$f":"\"\"","v":""},{"$f":"\"\"","v":""},{"$f":"\"\"","v":""},{"$f":"\"\"","v":""},{"$f":"\"\"","v":""},{"$f":"\"\"","v":""},{"$f":"\"\"","v":""},{"$f":"\"\"","v":""},{"$f":"\"\"","v":""},{"$f":"\"\"","v":""},{"$f":"\"\"","v":""},{"$f":"\"\"","v":""},{"$f":"\"\"","v":""},{"$f":"\"\"","v":""},{"$f":"\"\"","v":""},{"$f":"\"\"","v":""},{"$f":"\"\"","v":""},{"$f":"\"\"","v":""},{"$f":"\"\"","v":""},{"$f":"\"\"","v":""},{"$f":"\"\"","v":""},{"$f":"\"\"","v":""},{"$f":"\"\"","v":""},{"$f":"\"\"","v":""},{"$f":"\"\"","v":""},{"$f":"\"\"","v":""},{"$f":"\"\"","v":""},{"$f":"\"\"","v":""},{"$f":"\"\"","v":""},{"$f":"\"\"","v":""},{"$f":"\"\"","v":""},{"$f":"\"\"","v":""},{"$f":"\"\"","v":""},{"$f":"\"\"","v":""},{"$f":"\"\"","v":""},{"$f":"\"\"","v":""},{"$f":"\"\"","v":""},{"$f":"\"\"","v":""},{"$f":"\"\"","v":""},{"$f":"\"\"","v":""},{"$f":"\"\"","v":""},{"$f":"\"\"","v":""},{"$f":"\"\"","v":""},{"$f":"\"\"","v":""},{"$f":"\"\"","v":""},{"$f":"\"\"","v":""},{"$f":"\"\"","v":""},{"$f":"\"\"","v":""},{"$f":"\"\"","v":""},{"$f":"\"\"","v":""},{"$f":"\"\"","v":""},{"$f":"\"\"","v":""},{"$f":"\"\"","v":""},{"$f":"\"\"","v":""},{"$f":"\"\"","v":""},{"$f":"\"\"","v":""},{"$f":"\"\"","v":""},{"$f":"\"\"","v":""},{"$f":"\"\"","v":""},{"$f":"\"\"","v":""},{"$f":"\"\"","v":""},{"$f":"\"\"","v":""},{"$f":"\"\"","v":""},{"$f":"\"\"","v":""},{"$f":"\"\"","v":""},{"$f":"\"\"","v":""},{"$f":"\"\"","v":""},{"$f":"\"\"","v":""},{"$f":"\"\"","v":""},{"$f":"\"\"","v":""},{"$f":"\"\"","v":""},{"$f":"\"\"","v":""},{"$f":"\"\"","v":""},{"$f":"\"\"","v":""},{"$f":"\"\"","v":""},{"$f":"\"\"","v":""},{"$f":"\"\"","v":""},{"$f":"\"\"","v":""},{"$f":"\"\"","v":""},{"$f":"\"\"","v":""},{"$f":"\"\"","v":""},{"$f":"\"\"","v":""},{"$f":"\"\"","v":""},{"$f":"\"\"","v":""},{"$f":"\"\"","v":""},{"$f":"\"\"","v":""},{"$f":"\"\"","v":""},{"$f":"\"\"","v":""},{"$f":"\"\"","v":""},{"$f":"\"\"","v":""},{"$f":"\"\"","v":""},{"$f":"\"\"","v":""},{"$f":"\"\"","v":""},{"$f":"\"\"","v":""},{"$f":"\"\"","v":""},{"$f":"\"\"","v":""},{"$f":"\"\"","v":""},{"$f":"\"\"","v":""},{"$f":"\"\"","v":""},{"$f":"\"\"","v":""},{"$f":"\"\"","v":""},{"$f":"\"\"","v":""},{"$f":"\"\"","v":""},{"$f":"\"\"","v":""},{"$f":"\"\"","v":""},{"$f":"\"\"","v":""},{"$f":"\"\"","v":""},{"$f":"\"\"","v":""},{"$f":"\"\"","v":""},{"$f":"\"\"","v":""},{"$f":"\"\"","v":""},{"$f":"\"\"","v":""},{"$f":"\"\"","v":""},{"$f":"\"\"","v":""},{"$f":"\"\"","v":""},{"$f":"\"\"","v":""},{"$f":"\"\"","v":""},{"$f":"\"\"","v":""},{"$f":"\"\"","v":""},{"$f":"\"\"","v":""},{"$f":"\"\"","v":""},{"$f":"\"\"","v":""},{"$f":"\"\"","v":""},{"$f":"\"\"","v":""},{"$f":"\"\"","v":""},{"$f":"\"\"","v":""},{"$f":"\"\"","v":""},{"$f":"\"\"","v":""},{"$f":"\"\"","v":""},{"$f":"\"\"","v":""},{"$f":"\"\"","v":""},{"$f":"\"\"","v":""},{"$f":"\"\"","v":""},{"$f":"\"\"","v":""},{"$f":"\"\"","v":""},{"$f":"\"\"","v":""},{"$f":"\"\"","v":""},{"$f":"\"\"","v":""},{"$f":"\"\"","v":""},{"$f":"\"\"","v":""},{"$f":"\"\"","v":""},{"$f":"\"\"","v":""},{"$f":"\"\"","v":""},{"$f":"\"\"","v":""},{"$f":"\"\"","v":""},{"$f":"\"\"","v":""},{"$f":"\"\"","v":""},{"$f":"\"\"","v":""},{"$f":"\"\"","v":""},{"$f":"\"\"","v":""},{"$f":"\"\"","v":""},{"$f":"\"\"","v":""},{"$f":"\"\"","v":""},{"$f":"\"\"","v":""},{"$f":"\"\"","v":""},{"$f":"\"\"","v":""},{"$f":"\"\"","v":""},{"$f":"\"\"","v":""},{"$f":"\"\"","v":""},{"$f":"\"\"","v":""},{"$f":"\"\"","v":""},{"$f":"\"\"","v":""},{"$f":"\"\"","v":""},{"$f":"\"\"","v":""},{"$f":"\"\"","v":""},{"$f":"\"\"","v":""},{"$f":"\"\"","v":""},{"$f":"\"\"","v":""},{"$f":"\"\"","v":""},{"$f":"\"\"","v":""},{"$f":"\"\"","v":""},{"$f":"\"\"","v":""},{"$f":"\"\"","v":""},{"$f":"\"\"","v":""},{"$f":"\"\"","v":""},{"$f":"\"\"","v":""},{"$f":"\"\"","v":""},{"$f":"\"\"","v":""},{"$f":"\"\"","v":""},{"$f":"\"\"","v":""},{"$f":"\"\"","v":""},{"$f":"\"\"","v":""},{"$f":"\"\"","v":""},{"$f":"\"\"","v":""},{"$f":"\"\"","v":""},{"$f":"\"\"","v":""},{"$f":"\"\"","v":""},{"$f":"\"\"","v":""},{"$f":"\"\"","v":""},{"$f":"\"\"","v":""},{"$f":"\"\"","v":""},{"$f":"\"\"","v":""},{"$f":"\"\"","v":""},{"$f":"\"\"","v":""},{"$f":"\"\"","v":""},{"$f":"\"\"","v":""},{"$f":"\"\"","v":""},{"$f":"\"\"","v":""},{"$f":"\"\"","v":""},{"$f":"\"\"","v":""},{"$f":"\"\"","v":""},{"$f":"\"\"","v":""},{"$f":"\"\"","v":""},{"$f":"\"\"","v":""},{"$f":"\"\"","v":""},{"$f":"\"\"","v":""},{"$f":"\"\"","v":""},{"$f":"\"\"","v":""},{"$f":"\"\"","v":""},{"$f":"\"\"","v":""},{"$f":"\"\"","v":""},{"$f":"\"\"","v":""},{"$f":"\"\"","v":""},{"$f":"\"\"","v":""},{"$f":"\"\"","v":""},{"$f":"\"\"","v":""},{"$f":"\"\"","v":""},{"$f":"\"\"","v":""},{"$f":"\"\"","v":""},{"$f":"\"\"","v":""},{"$f":"\"\"","v":""},{"$f":"\"\"","v":""},{"$f":"\"\"","v":""},{"$f":"\"\"","v":""},{"$f":"\"\"","v":""},{"$f":"\"\"","v":""},{"$f":"\"\"","v":""},{"$f":"\"\"","v":""},{"$f":"\"\"","v":""}]
["  7.1  Range of Appropriate Instructional Strategies",null,{"$f":"IF(COUNT(E24:IV24)<>0,AVERAGE(E24:IV24),\"\")","v":""},{"$f":"IF(COUNT(C24)<>0,ROUND(AVERAGE(C24),0),\"\")","v":""},{"$f":"IF('Cycle 1'!$F86= \"NS\",\"NS\",IF('Cycle 1'!$F86=\"\",\"\",IF('Cycle 1'!$F86<>0,VALUE('Cycle 1'!$F86), VALUE(\"0\"))))","v":""},{"$f":"IF('Cycle 2'!$F86= \"NS\",\"NS\",IF('Cycle 2'!$F86=\"\",\"\",IF('Cycle 2'!$F86<>0,VALUE('Cycle 2'!$F86), VALUE(\"0\"))))","v":""},{"$f":"IF('Cycle 3'!$F86= \"NS\",\"NS\",IF('Cycle 3'!$F86=\"\",\"\",IF('Cycle 3'!$F86<>0,VALUE('Cycle 3'!$F86), VALUE(\"0\"))))","v":""},{"$f":"IF('Cycle 4'!$F86= \"NS\",\"NS\",IF('Cycle 4'!$F86=\"\",\"\",IF('Cycle 4'!$F86<>0,VALUE('Cycle 4'!$F86), VALUE(\"0\"))))","v":""}]
["  7.2  Opportunities for Students to Develop Skills",null,{"$f":"IF(COUNT(E25:IV25)<>0,AVERAGE(E25:IV25),\"\")","v":""},"",{"$f":"IF('Cycle 1'!$F91= \"NS\",\"NS\",IF('Cycle 1'!$F91=\"\",\"\",IF('Cycle 1'!$F91<>0,VALUE('Cycle 1'!$F91), VALUE(\"0\"))))","v":""},{"$f":"IF('Cycle 2'!$F91= \"NS\",\"NS\",IF('Cycle 2'!$F91=\"\",\"\",IF('Cycle 2'!$F91<>0,VALUE('Cycle 2'!$F91), VALUE(\"0\"))))","v":""},{"$f":"IF('Cycle 3'!$F91= \"NS\",\"NS\",IF('Cycle 3'!$F91=\"\",\"\",IF('Cycle 3'!$F91<>0,VALUE('Cycle 3'!$F91), VALUE(\"0\"))))","v":""},{"$f":"IF('Cycle 4'!$F91= \"NS\",\"NS\",IF('Cycle 4'!$F91=\"\",\"\",IF('Cycle 4'!$F91<>0,VALUE('Cycle 4'!$F91), VALUE(\"0\"))))","v":""}]
["  7.3  Expands Learner's Communication Skills",null,{"$f":"IF(COUNT(E26:IV26)<>0,AVERAGE(E26:IV26),\"\")","v":""},"",{"$f":"IF('Cycle 1'!$F96= \"NS\",\"NS\",IF('Cycle 1'!$F96=\"\",\"\",IF('Cycle 1'!$F96<>0,VALUE('Cycle 1'!$F96), VALUE(\"0\"))))","v":""},{"$f":"IF('Cycle 2'!$F96= \"NS\",\"NS\",IF('Cycle 2'!$F96=\"\",\"\",IF('Cycle 2'!$F96<>0,VALUE('Cycle 2'!$F96), VALUE(\"0\"))))","v":""},{"$f":"IF('Cycle 3'!$F96= \"NS\",\"NS\",IF('Cycle 3'!$F96=\"\",\"\",IF('Cycle 3'!$F96<>0,VALUE('Cycle 3'!$F96), VALUE(\"0\"))))","v":""},{"$f":"IF('Cycle 4'!$F96= \"NS\",\"NS\",IF('Cycle 4'!$F96=\"\",\"\",IF('Cycle 4'!$F96<>0,VALUE('Cycle 4'!$F96), VALUE(\"0\"))))","v":""}]
["  7.4  Variety of Effective Technology and Resources",null,{"$f":"IF(COUNT(E27:IV27)<>0,AVERAGE(E27:IV27),\"\")","v":""},"",{"$f":"IF('Cycle 1'!$F101= \"NS\",\"NS\",IF('Cycle 1'!$F101=\"\",\"\",IF('Cycle 1'!$F101<>0,VALUE('Cycle 1'!$F101), VALUE(\"0\"))))","v":""},{"$f":"IF('Cycle 2'!$F101= \"NS\",\"NS\",IF('Cycle 2'!$F101=\"\",\"\",IF('Cycle 2'!$F101<>0,VALUE('Cycle 2'!$F101), VALUE(\"0\"))))","v":""},{"$f":"IF('Cycle 3'!$F101= \"NS\",\"NS\",IF('Cycle 3'!$F101=\"\",\"\",IF('Cycle 3'!$F101<>0,VALUE('Cycle 3'!$F101), VALUE(\"0\"))))","v":""},{"$f":"IF('Cycle 4'!$F101= \"NS\",\"NS\",IF('Cycle 4'!$F101=\"\",\"\",IF('Cycle 4'!$F101<>0,VALUE('Cycle 4'!$F101), VALUE(\"0\"))))","v":""}]
["  7.5  Finding and Using Information to Solve Problems",null,{"$f":"IF(COUNT(E28:IV28)<>0,AVERAGE(E28:IV28),\"\")","v":""},"",{"$f":"IF('Cycle 1'!$F106= \"NS\",\"NS\",IF('Cycle 1'!$F106=\"\",\"\",IF('Cycle 1'!$F106<>0,VALUE('Cycle 1'!$F106), VALUE(\"0\"))))","v":""},{"$f":"IF('Cycle 2'!$F106= \"NS\",\"NS\",IF('Cycle 2'!$F106=\"\",\"\",IF('Cycle 2'!$F106<>0,VALUE('Cycle 2'!$F106), VALUE(\"0\"))))","v":""},{"$f":"IF('Cycle 3'!$F106= \"NS\",\"NS\",IF('Cycle 3'!$F106=\"\",\"\",IF('Cycle 3'!$F106<>0,VALUE('Cycle 3'!$F106), VALUE(\"0\"))))","v":""},{"$f":"IF('Cycle 4'!$F106= \"NS\",\"NS\",IF('Cycle 4'!$F106=\"\",\"\",IF('Cycle 4'!$F106<>0,VALUE('Cycle 4'!$F106), VALUE(\"0\"))))","v":""}]
["Professional Responsibility",null,{"$f":"\"\"","v":""},{"$f":"\"\"","v":""},{"$f":"IF(OR(E31=\"\",E33=\"\",E34=\"\"),\"\",(SUM(E31,E33:E34)&\"/\"&3*COUNTIFS(E31:E34,\">=0\",E31:E34,\"<>\"\"\")))","v":""},{"$f":"IF(OR(F31=\"\",F33=\"\",F34=\"\"),\"\",(SUM(F31,F33:F34)&\"/\"&3*COUNTIFS(F31:F34,\">=0\",F31:F34,\"<>\"\"\")))","v":""},{"$f":"IF(OR(G31=\"\",G33=\"\",G34=\"\"),\"\",(SUM(G31,G33:G34)&\"/\"&3*COUNTIFS(G31:G34,\">=0\",G31:G34,\"<>\"\"\")))","v":""},{"$f":"IF(OR(H31=\"\",H33=\"\",H34=\"\"),\"\",(SUM(H31,H33:H34)&\"/\"&3*COUNTIFS(H31:H34,\">=0\",H31:H34,\"<>\"\"\")))","v":""},{"$f":"IF(OR(I31=\"\",I33=\"\",I34=\"\"),\"\",(SUM(I31,I33:I34)&\"/\"&3*COUNTIFS(I31:I34,\">=0\",I31:I34,\"<>\"\"\")))","v":""},"","","","","","","","","","","","","","","","","","","","","","","","","","","","","","","","","","","","","","","","","","","","","","","","","","","","","","","","","","","","",{"$f":"IF(OR(BR31=\"\",BR33=\"\",BR34=\"\"),\"\",(SUM(BR31,BR33:BR34)&\"/\"&3*COUNTIFS(BR31:BR34,\">=0\",BR31:BR34,\"<>\"\"\")))","v":""},"","","","","","","","","","","","","","","","","","","","","","","","","","","","","","","","","","",{"$f":"IFERROR(AVERAGE(DA31,DA33:DA34),\"\")","v":""},"","","","","","","","","","","","","","","","","","","","","","","","","","","",{"$f":"IFERROR(AVERAGE(EC31,EC33:EC34),\"\")","v":""},"","","","","","","","","","","","","","","","","","","","","","","","","","","","","","","","","","","","","","","","","","","","","","","","","","","","","","","","","","","","","","","",{"$f":"IFERROR(AVERAGE(GO31,GO33:GO34),\"\")","v":""},"","","","","","","","","","","","","","","","","","","","","","","","","","","","","","","","","","","","","","","","","","","","","","","","","","","","","","","","","","","","","","","",{"$f":"IFERROR(AVERAGE(JA31,JA33:JA34),\"\")","v":""},"","","","","","","","","","","","","","","","","","","","","","","","","","","","","","","","","","","","","","","","","","","","","","","","","","","","","","","","","","","","","","","",{"$f":"IFERROR(AVERAGE(LM31,LM33:LM34),\"\")","v":""},"","","","","","","","","","","","","","","","","","","","","","","","","","","","","","","","","","","","","","","","","","","","","","","","","","","","","","","","","","","","","","","",{"$f":"IFERROR(AVERAGE(NY31,NY33:NY34),\"\")","v":""},"","","","","","","","","","","","","","","","","","","","","","","","","","","","","","","","","","","","","","","","","","","","","","","","","","","","","","","","","","","","","","","",{"$f":"IFERROR(AVERAGE(QK31,QK33:QK34),\"\")","v":""},"","","","","","","","","","","","","","","","","","","","","","","","","","","","","","","","","","","","","","","","","","","","","","","","","","","","","","","","","","","","","","","",{"$f":"IFERROR(AVERAGE(SW31,SW33:SW34),\"\")","v":""},"","","","","","","","","","","","","","","","","","","","","","","","","","","","","","","","","","","","","","","","","","","","","","","","","","","","","","","","","","","","","","","",{"$f":"IFERROR(AVERAGE(VI31,VI33:VI34),\"\")","v":""},"","","","","","","","","","","","","","","","","","","","","","","","","","","","","","","","","","","","","","","","","","","","","","","","","","","","","","","","","","","","","","","",{"$f":"IFERROR(AVERAGE(XU31,XU33:XU34),\"\")","v":""},"","","","","","","","","","","","","","","","","","","","","","","","","","","","","","","","","",""]
["STANDARD 8:  Reflection and Continuous Growth",null,{"$f":"\"\"","v":""},{"$f":"\"\"","v":""},{"$f":"\"\"","v":""},{"$f":"\"\"","v":""},{"$f":"\"\"","v":""},{"$f":"\"\"","v":""},{"$f":"\"\"","v":""},{"$f":"\"\"","v":""},{"$f":"\"\"","v":""},{"$f":"\"\"","v":""},{"$f":"\"\"","v":""},{"$f":"\"\"","v":""},{"$f":"\"\"","v":""},{"$f":"\"\"","v":""},{"$f":"\"\"","v":""},{"$f":"\"\"","v":""},{"$f":"\"\"","v":""},{"$f":"\"\"","v":""},{"$f":"\"\"","v":""},{"$f":"\"\"","v":""},{"$f":"\"\"","v":""},{"$f":"\"\"","v":""},{"$f":"\"\"","v":""},{"$f":"\"\"","v":""},{"$f":"\"\"","v":""},{"$f":"\"\"","v":""},{"$f":"\"\"","v":""},{"$f":"\"\"","v":""},{"$f":"\"\"","v":""},{"$f":"\"\"","v":""},{"$f":"\"\"","v":""},{"$f":"\"\"","v":""},{"$f":"\"\"","v":""},{"$f":"\"\"","v":""},{"$f":"\"\"","v":""},{"$f":"\"\"","v":""},{"$f":"\"\"","v":""},{"$f":"\"\"","v":""},{"$f":"\"\"","v":""},{"$f":"\"\"","v":""},{"$f":"\"\"","v":""},{"$f":"\"\"","v":""},{"$f":"\"\"","v":""},{"$f":"\"\"","v":""},{"$f":"\"\"","v":""},{"$f":"\"\"","v":""},{"$f":"\"\"","v":""},{"$f":"\"\"","v":""},{"$f":"\"\"","v":""},{"$f":"\"\"","v":""},{"$f":"\"\"","v":""},{"$f":"\"\"","v":""},{"$f":"\"\"","v":""},{"$f":"\"\"","v":""},{"$f":"\"\"","v":""},{"$f":"\"\"","v":""},{"$f":"\"\"","v":""},{"$f":"\"\"","v":""},{"$f":"\"\"","v":""},{"$f":"\"\"","v":""},{"$f":"\"\"","v":""},{"$f":"\"\"","v":""},{"$f":"\"\"","v":""},{"$f":"\"\"","v":""},{"$f":"\"\"","v":""},{"$f":"\"\"","v":""},{"$f":"\"\"","v":""},{"$f":"\"\"","v":""},{"$f":"\"\"","v":""},{"$f":"\"\"","v":""},{"$f":"\"\"","v":""},{"$f":"\"\"","v":""},{"$f":"\"\"","v":""},{"$f":"\"\"","v":""},{"$f":"\"\"","v":""},{"$f":"\"\"","v":""},{"$f":"\"\"","v":""},{"$f":"\"\"","v":""},{"$f":"\"\"","v":""},{"$f":"\"\"","v":""},{"$f":"\"\"","v":""},{"$f":"\"\"","v":""},{"$f":"\"\"","v":""},{"$f":"\"\"","v":""},{"$f":"\"\"","v":""},{"$f":"\"\"","v":""},{"$f":"\"\"","v":""},{"$f":"\"\"","v":""},{"$f":"\"\"","v":""},{"$f":"\"\"","v":""},{"$f":"\"\"","v":""},{"$f":"\"\"","v":""},{"$f":"\"\"","v":""},{"$f":"\"\"","v":""},{"$f":"\"\"","v":""},{"$f":"\"\"","v":""},{"$f":"\"\"","v":""},{"$f":"\"\"","v":""},{"$f":"\"\"","v":""},{"$f":"\"\"","v":""},{"$f":"\"\"","v":""},{"$f":"\"\"","v":""},{"$f":"\"\"","v":""},{"$f":"\"\"","v":""},{"$f":"\"\"","v":""},{"$f":"\"\"","v":""},{"$f":"\"\"","v":""},{"$f":"\"\"","v":""},{"$f":"\"\"","v":""},{"$f":"\"\"","v":""},{"$f":"\"\"","v":""},{"$f":"\"\"","v":""},{"$f":"\"\"","v":""},{"$f":"\"\"","v":""},{"$f":"\"\"","v":""},{"$f":"\"\"","v":""},{"$f":"\"\"","v":""},{"$f":"\"\"","v":""},{"$f":"\"\"","v":""},{"$f":"\"\"","v":""},{"$f":"\"\"","v":""},{"$f":"\"\"","v":""},{"$f":"\"\"","v":""},{"$f":"\"\"","v":""},{"$f":"\"\"","v":""},{"$f":"\"\"","v":""},{"$f":"\"\"","v":""},{"$f":"\"\"","v":""},{"$f":"\"\"","v":""},{"$f":"\"\"","v":""},{"$f":"\"\"","v":""},{"$f":"\"\"","v":""},{"$f":"\"\"","v":""},{"$f":"\"\"","v":""},{"$f":"\"\"","v":""},{"$f":"\"\"","v":""},{"$f":"\"\"","v":""},{"$f":"\"\"","v":""},{"$f":"\"\"","v":""},{"$f":"\"\"","v":""},{"$f":"\"\"","v":""},{"$f":"\"\"","v":""},{"$f":"\"\"","v":""},{"$f":"\"\"","v":""},{"$f":"\"\"","v":""},{"$f":"\"\"","v":""},{"$f":"\"\"","v":""},{"$f":"\"\"","v":""},{"$f":"\"\"","v":""},{"$f":"\"\"","v":""},{"$f":"\"\"","v":""},{"$f":"\"\"","v":""},{"$f":"\"\"","v":""},{"$f":"\"\"","v":""},{"$f":"\"\"","v":""},{"$f":"\"\"","v":""},{"$f":"\"\"","v":""},{"$f":"\"\"","v":""},{"$f":"\"\"","v":""},{"$f":"\"\"","v":""},{"$f":"\"\"","v":""},{"$f":"\"\"","v":""},{"$f":"\"\"","v":""},{"$f":"\"\"","v":""},{"$f":"\"\"","v":""},{"$f":"\"\"","v":""},{"$f":"\"\"","v":""},{"$f":"\"\"","v":""},{"$f":"\"\"","v":""},{"$f":"\"\"","v":""},{"$f":"\"\"","v":""},{"$f":"\"\"","v":""},{"$f":"\"\"","v":""},{"$f":"\"\"","v":""},{"$f":"\"\"","v":""},{"$f":"\"\"","v":""},{"$f":"\"\"","v":""},{"$f":"\"\"","v":""},{"$f":"\"\"","v":""},{"$f":"\"\"","v":""},{"$f":"\"\"","v":""},{"$f":"\"\"","v":""},{"$f":"\"\"","v":""},{"$f":"\"\"","v":""},{"$f":"\"\"","v":""},{"$f":"\"\"","v":""},{"$f":"\"\"","v":""},{"$f":"\"\"","v":""},{"$f":"\"\"","v":""},{"$f":"\"\"","v":""},{"$f":"\"\"","v":""},{"$f":"\"\"","v":""},{"$f":"\"\"","v":""},{"$f":"\"\"","v":""},{"$f":"\"\"","v":""},{"$f":"\"\"","v":""},{"$f":"\"\"","v":""},{"$f":"\"\"","v":""},{"$f":"\"\"","v":""},{"$f":"\"\"","v":""},{"$f":"\"\"","v":""},{"$f":"\"\"","v":""},{"$f":"\"\"","v":""},{"$f":"\"\"","v":""},{"$f":"\"\"","v":""},{"$f":"\"\"","v":""},{"$f":"\"\"","v":""},{"$f":"\"\"","v":""},{"$f":"\"\"","v":""},{"$f":"\"\"","v":""},{"$f":"\"\"","v":""},{"$f":"\"\"","v":""},{"$f":"\"\"","v":""},{"$f":"\"\"","v":""},{"$f":"\"\"","v":""},{"$f":"\"\"","v":""},{"$f":"\"\"","v":""},{"$f":"\"\"","v":""},{"$f":"\"\"","v":""},{"$f":"\"\"","v":""},{"$f":"\"\"","v":""},{"$f":"\"\"","v":""},{"$f":"\"\"","v":""},{"$f":"\"\"","v":""},{"$f":"\"\"","v":""},{"$f":"\"\"","v":""},{"$f":"\"\"","v":""},{"$f":"\"\"","v":""},{"$f":"\"\"","v":""},{"$f":"\"\"","v":""},{"$f":"\"\"","v":""},{"$f":"\"\"","v":""},{"$f":"\"\"","v":""},{"$f":"\"\"","v":""},{"$f":"\"\"","v":""},{"$f":"\"\"","v":""},{"$f":"\"\"","v":""},{"$f":"\"\"","v":""},{"$f":"\"\"","v":""},{"$f":"\"\"","v":""},{"$f":"\"\"","v":""},{"$f":"\"\"","v":""},{"$f":"\"\"","v":""},{"$f":"\"\"","v":""},{"$f":"\"\"","v":""},{"$f":"\"\"","v":""},{"$f":"\"\"","v":""},{"$f":"\"\"","v":""},{"$f":"\"\"","v":""},{"$f":"\"\"","v":""},{"$f":"\"\"","v":""},{"$f":"\"\"","v":""},{"$f":"\"\"","v":""},{"$f":"\"\"","v":""},{"$f":"\"\"","v":""},{"$f":"\"\"","v":""},{"$f":"\"\"","v":""},{"$f":"\"\"","v":""},{"$f":"\"\"","v":""},{"$f":"\"\"","v":""},{"$f":"\"\"","v":""},{"$f":"\"\"","v":""},{"$f":"\"\"","v":""},{"$f":"\"\"","v":""},{"$f":"\"\"","v":""},{"$f":"\"\"","v":""},{"$f":"\"\"","v":""},{"$f":"\"\"","v":""},{"$f":"\"\"","v":""},{"$f":"\"\"","v":""},{"$f":"\"\"","v":""},{"$f":"\"\"","v":""},{"$f":"\"\"","v":""},{"$f":"\"\"","v":""},{"$f":"\"\"","v":""},{"$f":"\"\"","v":""},{"$f":"\"\"","v":""},{"$f":"\"\"","v":""},{"$f":"\"\"","v":""},{"$f":"\"\"","v":""},{"$f":"\"\"","v":""},{"$f":"\"\"","v":""},{"$f":"\"\"","v":""},{"$f":"\"\"","v":""},{"$f":"\"\"","v":""},{"$f":"\"\"","v":""},{"$f":"\"\"","v":""},{"$f":"\"\"","v":""},{"$f":"\"\"","v":""},{"$f":"\"\"","v":""},{"$f":"\"\"","v":""},{"$f":"\"\"","v":""},{"$f":"\"\"","v":""},{"$f":"\"\"","v":""},{"$f":"\"\"","v":""},{"$f":"\"\"","v":""},{"$f":"\"\"","v":""},{"$f":"\"\"","v":""},{"$f":"\"\"","v":""},{"$f":"\"\"","v":""},{"$f":"\"\"","v":""},{"$f":"\"\"","v":""},{"$f":"\"\"","v":""},{"$f":"\"\"","v":""},{"$f":"\"\"","v":""},{"$f":"\"\"","v":""},{"$f":"\"\"","v":""},{"$f":"\"\"","v":""},{"$f":"\"\"","v":""},{"$f":"\"\"","v":""},{"$f":"\"\"","v":""},{"$f":"\"\"","v":""},{"$f":"\"\"","v":""},{"$f":"\"\"","v":""},{"$f":"\"\"","v":""},{"$f":"\"\"","v":""},{"$f":"\"\"","v":""},{"$f":"\"\"","v":""},{"$f":"\"\"","v":""},{"$f":"\"\"","v":""},{"$f":"\"\"","v":""},{"$f":"\"\"","v":""},{"$f":"\"\"","v":""},{"$f":"\"\"","v":""},{"$f":"\"\"","v":""},{"$f":"\"\"","v":""},{"$f":"\"\"","v":""},{"$f":"\"\"","v":""},{"$f":"\"\"","v":""},{"$f":"\"\"","v":""},{"$f":"\"\"","v":""},{"$f":"\"\"","v":""},{"$f":"\"\"","v":""},{"$f":"\"\"","v":""},{"$f":"\"\"","v":""},{"$f":"\"\"","v":""},{"$f":"\"\"","v":""},{"$f":"\"\"","v":""},{"$f":"\"\"","v":""},{"$f":"\"\"","v":""},{"$f":"\"\"","v":""},{"$f":"\"\"","v":""},{"$f":"\"\"","v":""},{"$f":"\"\"","v":""},{"$f":"\"\"","v":""},{"$f":"\"\"","v":""},{"$f":"\"\"","v":""},{"$f":"\"\"","v":""},{"$f":"\"\"","v":""},{"$f":"\"\"","v":""},{"$f":"\"\"","v":""},{"$f":"\"\"","v":""},{"$f":"\"\"","v":""},{"$f":"\"\"","v":""},{"$f":"\"\"","v":""},{"$f":"\"\"","v":""},{"$f":"\"\"","v":""},{"$f":"\"\"","v":""},{"$f":"\"\"","v":""},{"$f":"\"\"","v":""},{"$f":"\"\"","v":""},{"$f":"\"\"","v":""},{"$f":"\"\"","v":""},{"$f":"\"\"","v":""},{"$f":"\"\"","v":""},{"$f":"\"\"","v":""},{"$f":"\"\"","v":""},{"$f":"\"\"","v":""},{"$f":"\"\"","v":""},{"$f":"\"\"","v":""},{"$f":"\"\"","v":""},{"$f":"\"\"","v":""},{"$f":"\"\"","v":""},{"$f":"\"\"","v":""},{"$f":"\"\"","v":""},{"$f":"\"\"","v":""},{"$f":"\"\"","v":""},{"$f":"\"\"","v":""},{"$f":"\"\"","v":""},{"$f":"\"\"","v":""},{"$f":"\"\"","v":""},{"$f":"\"\"","v":""},{"$f":"\"\"","v":""},{"$f":"\"\"","v":""},{"$f":"\"\"","v":""},{"$f":"\"\"","v":""},{"$f":"\"\"","v":""},{"$f":"\"\"","v":""},{"$f":"\"\"","v":""},{"$f":"\"\"","v":""},{"$f":"\"\"","v":""},{"$f":"\"\"","v":""},{"$f":"\"\"","v":""},{"$f":"\"\"","v":""},{"$f":"\"\"","v":""},{"$f":"\"\"","v":""},{"$f":"\"\"","v":""},{"$f":"\"\"","v":""},{"$f":"\"\"","v":""},{"$f":"\"\"","v":""},{"$f":"\"\"","v":""},{"$f":"\"\"","v":""},{"$f":"\"\"","v":""},{"$f":"\"\"","v":""},{"$f":"\"\"","v":""},{"$f":"\"\"","v":""},{"$f":"\"\"","v":""},{"$f":"\"\"","v":""},{"$f":"\"\"","v":""},{"$f":"\"\"","v":""},{"$f":"\"\"","v":""},{"$f":"\"\"","v":""},{"$f":"\"\"","v":""},{"$f":"\"\"","v":""},{"$f":"\"\"","v":""},{"$f":"\"\"","v":""},{"$f":"\"\"","v":""},{"$f":"\"\"","v":""},{"$f":"\"\"","v":""},{"$f":"\"\"","v":""},{"$f":"\"\"","v":""},{"$f":"\"\"","v":""},{"$f":"\"\"","v":""},{"$f":"\"\"","v":""},{"$f":"\"\"","v":""},{"$f":"\"\"","v":""},{"$f":"\"\"","v":""},{"$f":"\"\"","v":""},{"$f":"\"\"","v":""},{"$f":"\"\"","v":""},{"$f":"\"\"","v":""},{"$f":"\"\"","v":""},{"$f":"\"\"","v":""},{"$f":"\"\"","v":""},{"$f":"\"\"","v":""},{"$f":"\"\"","v":""},{"$f":"\"\"","v":""},{"$f":"\"\"","v":""},{"$f":"\"\"","v":""},{"$f":"\"\"","v":""},{"$f":"\"\"","v":""},{"$f":"\"\"","v":""},{"$f":"\"\"","v":""},{"$f":"\"\"","v":""},{"$f":"\"\"","v":""},{"$f":"\"\"","v":""},{"$f":"\"\"","v":""},{"$f":"\"\"","v":""},{"$f":"\"\"","v":""},{"$f":"\"\"","v":""},{"$f":"\"\"","v":""},{"$f":"\"\"","v":""},{"$f":"\"\"","v":""},{"$f":"\"\"","v":""},{"$f":"\"\"","v":""},{"$f":"\"\"","v":""},{"$f":"\"\"","v":""},{"$f":"\"\"","v":""},{"$f":"\"\"","v":""},{"$f":"\"\"","v":""},{"$f":"\"\"","v":""},{"$f":"\"\"","v":""},{"$f":"\"\"","v":""},{"$f":"\"\"","v":""},{"$f":"\"\"","v":""},{"$f":"\"\"","v":""},{"$f":"\"\"","v":""},{"$f":"\"\"","v":""},{"$f":"\"\"","v":""},{"$f":"\"\"","v":""},{"$f":"\"\"","v":""},{"$f":"\"\"","v":""},{"$f":"\"\"","v":""},{"$f":"\"\"","v":""},{"$f":"\"\"","v":""},{"$f":"\"\"","v":""},{"$f":"\"\"","v":""},{"$f":"\"\"","v":""},{"$f":"\"\"","v":""},{"$f":"\"\"","v":""},{"$f":"\"\"","v":""},{"$f":"\"\"","v":""},{"$f":"\"\"","v":""},{"$f":"\"\"","v":""},{"$f":"\"\"","v":""},{"$f":"\"\"","v":""},{"$f":"\"\"","v":""},{"$f":"\"\"","v":""},{"$f":"\"\"","v":""},{"$f":"\"\"","v":""},{"$f":"\"\"","v":""},{"$f":"\"\"","v":""},{"$f":"\"\"","v":""},{"$f":"\"\"","v":""},{"$f":"\"\"","v":""},{"$f":"\"\"","v":""},{"$f":"\"\"","v":""},{"$f":"\"\"","v":""},{"$f":"\"\"","v":""},{"$f":"\"\"","v":""},{"$f":"\"\"","v":""},{"$f":"\"\"","v":""},{"$f":"\"\"","v":""},{"$f":"\"\"","v":""},{"$f":"\"\"","v":""},{"$f":"\"\"","v":""},{"$f":"\"\"","v":""},{"$f":"\"\"","v":""},{"$f":"\"\"","v":""},{"$f":"\"\"","v":""},{"$f":"\"\"","v":""},{"$f":"\"\"","v":""},{"$f":"\"\"","v":""},{"$f":"\"\"","v":""},{"$f":"\"\"","v":""},{"$f":"\"\"","v":""},{"$f":"\"\"","v":""},{"$f":"\"\"","v":""},{"$f":"\"\"","v":""},{"$f":"\"\"","v":""},{"$f":"\"\"","v":""},{"$f":"\"\"","v":""},{"$f":"\"\"","v":""},{"$f":"\"\"","v":""},{"$f":"\"\"","v":""},{"$f":"\"\"","v":""},{"$f":"\"\"","v":""},{"$f":"\"\"","v":""},{"$f":"\"\"","v":""},{"$f":"\"\"","v":""},{"$f":"\"\"","v":""},{"$f":"\"\"","v":""},{"$f":"\"\"","v":""},{"$f":"\"\"","v":""},{"$f":"\"\"","v":""},{"$f":"\"\"","v":""},{"$f":"\"\"","v":""},{"$f":"\"\"","v":""},{"$f":"\"\"","v":""},{"$f":"\"\"","v":""},{"$f":"\"\"","v":""},{"$f":"\"\"","v":""},{"$f":"\"\"","v":""},{"$f":"\"\"","v":""},{"$f":"\"\"","v":""},{"$f":"\"\"","v":""},{"$f":"\"\"","v":""},{"$f":"\"\"","v":""},{"$f":"\"\"","v":""},{"$f":"\"\"","v":""},{"$f":"\"\"","v":""},{"$f":"\"\"","v":""},{"$f":"\"\"","v":""},{"$f":"\"\"","v":""},{"$f":"\"\"","v":""},{"$f":"\"\"","v":""},{"$f":"\"\"","v":""},{"$f":"\"\"","v":""},{"$f":"\"\"","v":""},{"$f":"\"\"","v":""},{"$f":"\"\"","v":""},{"$f":"\"\"","v":""},{"$f":"\"\"","v":""},{"$f":"\"\"","v":""},{"$f":"\"\"","v":""},{"$f":"\"\"","v":""},{"$f":"\"\"","v":""},{"$f":"\"\"","v":""},{"$f":"\"\"","v":""},{"$f":"\"\"","v":""},{"$f":"\"\"","v":""},{"$f":"\"\"","v":""},{"$f":"\"\"","v":""},{"$f":"\"\"","v":""},{"$f":"\"\"","v":""},{"$f":"\"\"","v":""},{"$f":"\"\"","v":""},{"$f":"\"\"","v":""},{"$f":"\"\"","v":""},{"$f":"\"\"","v":""},{"$f":"\"\"","v":""},{"$f":"\"\"","v":""},{"$f":"\"\"","v":""},{"$f":"\"\"","v":""},{"$f":"\"\"","v":""},{"$f":"\"\"","v":""},{"$f":"\"\"","v":""},{"$f":"\"\"","v":""},{"$f":"\"\"","v":""},{"$f":"\"\"","v":""},{"$f":"\"\"","v":""},{"$f":"\"\"","v":""},{"$f":"\"\"","v":""},{"$f":"\"\"","v":""},{"$f":"\"\"","v":""},{"$f":"\"\"","v":""},{"$f":"\"\"","v":""},{"$f":"\"\"","v":""},{"$f":"\"\"","v":""},{"$f":"\"\"","v":""},{"$f":"\"\"","v":""},{"$f":"\"\"","v":""},{"$f":"\"\"","v":""},{"$f":"\"\"","v":""},{"$f":"\"\"","v":""},{"$f":"\"\"","v":""},{"$f":"\"\"","v":""},{"$f":"\"\"","v":""},{"$f":"\"\"","v":""},{"$f":"\"\"","v":""},{"$f":"\"\"","v":""},{"$f":"\"\"","v":""},{"$f":"\"\"","v":""},{"$f":"\"\"","v":""},{"$f":"\"\"","v":""},{"$f":"\"\"","v":""},{"$f":"\"\"","v":""},{"$f":"\"\"","v":""},{"$f":"\"\"","v":""},{"$f":"\"\"","v":""},{"$f":"\"\"","v":""},{"$f":"\"\"","v":""},{"$f":"\"\"","v":""},{"$f":"\"\"","v":""},{"$f":"\"\"","v":""},{"$f":"\"\"","v":""},{"$f":"\"\"","v":""},{"$f":"\"\"","v":""},{"$f":"\"\"","v":""},{"$f":"\"\"","v":""},{"$f":"\"\"","v":""},{"$f":"\"\"","v":""},{"$f":"\"\"","v":""},{"$f":"\"\"","v":""},{"$f":"\"\"","v":""},{"$f":"\"\"","v":""},{"$f":"\"\"","v":""},{"$f":"\"\"","v":""},{"$f":"\"\"","v":""},{"$f":"\"\"","v":""},{"$f":"\"\"","v":""}]
["  8.1  Adapts and Improves Practice",null,{"$f":"IF(COUNT(E31:IV31)<>0,AVERAGE(E31:IV31),\"\")","v":""},{"$f":"IF(COUNT(C31)<>0,ROUND(AVERAGE(C31),0),\"\")","v":""},{"$f":"IF('Cycle 1'!$F113= \"NS\",\"NS\",IF('Cycle 1'!$F113=\"\",\"\",IF('Cycle 1'!$F113<>0,VALUE('Cycle 1'!$F113), VALUE(\"0\"))))","v":""},{"$f":"IF('Cycle 2'!$F113= \"NS\",\"NS\",IF('Cycle 2'!$F113=\"\",\"\",IF('Cycle 2'!$F113<>0,VALUE('Cycle 2'!$F113), VALUE(\"0\"))))","v":""},{"$f":"IF('Cycle 3'!$F113= \"NS\",\"NS\",IF('Cycle 3'!$F113=\"\",\"\",IF('Cycle 3'!$F113<>0,VALUE('Cycle 3'!$F113), VALUE(\"0\"))))","v":""},{"$f":"IF('Cycle 4'!$F113= \"NS\",\"NS\",IF('Cycle 4'!$F113=\"\",\"\",IF('Cycle 4'!$F113<>0,VALUE('Cycle 4'!$F113), VALUE(\"0\"))))","v":""}]
["STANDARD 9:  Leadership and Collaboration",null,{"$f":"\"\"","v":""},{"$f":"\"\"","v":""},{"$f":"\"\"","v":""},{"$f":"\"\"","v":""},{"$f":"\"\"","v":""},{"$f":"\"\"","v":""},{"$f":"\"\"","v":""},{"$f":"\"\"","v":""},{"$f":"\"\"","v":""},{"$f":"\"\"","v":""},{"$f":"\"\"","v":""},{"$f":"\"\"","v":""},{"$f":"\"\"","v":""},{"$f":"\"\"","v":""},{"$f":"\"\"","v":""},{"$f":"\"\"","v":""},{"$f":"\"\"","v":""},{"$f":"\"\"","v":""},{"$f":"\"\"","v":""},{"$f":"\"\"","v":""},{"$f":"\"\"","v":""},{"$f":"\"\"","v":""},{"$f":"\"\"","v":""},{"$f":"\"\"","v":""},{"$f":"\"\"","v":""},{"$f":"\"\"","v":""},{"$f":"\"\"","v":""},{"$f":"\"\"","v":""},{"$f":"\"\"","v":""},{"$f":"\"\"","v":""},{"$f":"\"\"","v":""},{"$f":"\"\"","v":""},{"$f":"\"\"","v":""},{"$f":"\"\"","v":""},{"$f":"\"\"","v":""},{"$f":"\"\"","v":""},{"$f":"\"\"","v":""},{"$f":"\"\"","v":""},{"$f":"\"\"","v":""},{"$f":"\"\"","v":""},{"$f":"\"\"","v":""},{"$f":"\"\"","v":""},{"$f":"\"\"","v":""},{"$f":"\"\"","v":""},{"$f":"\"\"","v":""},{"$f":"\"\"","v":""},{"$f":"\"\"","v":""},{"$f":"\"\"","v":""},{"$f":"\"\"","v":""},{"$f":"\"\"","v":""},{"$f":"\"\"","v":""},{"$f":"\"\"","v":""},{"$f":"\"\"","v":""},{"$f":"\"\"","v":""},{"$f":"\"\"","v":""},{"$f":"\"\"","v":""},{"$f":"\"\"","v":""},{"$f":"\"\"","v":""},{"$f":"\"\"","v":""},{"$f":"\"\"","v":""},{"$f":"\"\"","v":""},{"$f":"\"\"","v":""},{"$f":"\"\"","v":""},{"$f":"\"\"","v":""},{"$f":"\"\"","v":""},{"$f":"\"\"","v":""},{"$f":"\"\"","v":""},{"$f":"\"\"","v":""},{"$f":"\"\"","v":""},{"$f":"\"\"","v":""},{"$f":"\"\"","v":""},{"$f":"\"\"","v":""},{"$f":"\"\"","v":""},{"$f":"\"\"","v":""},{"$f":"\"\"","v":""},{"$f":"\"\"","v":""},{"$f":"\"\"","v":""},{"$f":"\"\"","v":""},{"$f":"\"\"","v":""},{"$f":"\"\"","v":""},{"$f":"\"\"","v":""},{"$f":"\"\"","v":""},{"$f":"\"\"","v":""},{"$f":"\"\"","v":""},{"$f":"\"\"","v":""},{"$f":"\"\"","v":""},{"$f":"\"\"","v":""},{"$f":"\"\"","v":""},{"$f":"\"\"","v":""},{"$f":"\"\"","v":""},{"$f":"\"\"","v":""},{"$f":"\"\"","v":""},{"$f":"\"\"","v":""},{"$f":"\"\"","v":""},{"$f":"\"\"","v":""},{"$f":"\"\"","v":""},{"$f":"\"\"","v":""},{"$f":"\"\"","v":""},{"$f":"\"\"","v":""},{"$f":"\"\"","v":""},{"$f":"\"\"","v":""},{"$f":"\"\"","v":""},{"$f":"\"\"","v":""},{"$f":"\"\"","v":""},{"$f":"\"\"","v":""},{"$f":"\"\"","v":""},{"$f":"\"\"","v":""},{"$f":"\"\"","v":""},{"$f":"\"\"","v":""},{"$f":"\"\"","v":""},{"$f":"\"\"","v":""},{"$f":"\"\"","v":""},{"$f":"\"\"","v":""},{"$f":"\"\"","v":""},{"$f":"\"\"","v":""},{"$f":"\"\"","v":""},{"$f":"\"\"","v":""},{"$f":"\"\"","v":""},{"$f":"\"\"","v":""},{"$f":"\"\"","v":""},{"$f":"\"\"","v":""},{"$f":"\"\"","v":""},{"$f":"\"\"","v":""},{"$f":"\"\"","v":""},{"$f":"\"\"","v":""},{"$f":"\"\"","v":""},{"$f":"\"\"","v":""},{"$f":"\"\"","v":""},{"$f":"\"\"","v":""},{"$f":"\"\"","v":""},{"$f":"\"\"","v":""},{"$f":"\"\"","v":""},{"$f":"\"\"","v":""},{"$f":"\"\"","v":""},{"$f":"\"\"","v":""},{"$f":"\"\"","v":""},{"$f":"\"\"","v":""},{"$f":"\"\"","v":""},{"$f":"\"\"","v":""},{"$f":"\"\"","v":""},{"$f":"\"\"","v":""},{"$f":"\"\"","v":""},{"$f":"\"\"","v":""},{"$f":"\"\"","v":""},{"$f":"\"\"","v":""},{"$f":"\"\"","v":""},{"$f":"\"\"","v":""},{"$f":"\"\"","v":""},{"$f":"\"\"","v":""},{"$f":"\"\"","v":""},{"$f":"\"\"","v":""},{"$f":"\"\"","v":""},{"$f":"\"\"","v":""},{"$f":"\"\"","v":""},{"$f":"\"\"","v":""},{"$f":"\"\"","v":""},{"$f":"\"\"","v":""},{"$f":"\"\"","v":""},{"$f":"\"\"","v":""},{"$f":"\"\"","v":""},{"$f":"\"\"","v":""},{"$f":"\"\"","v":""},{"$f":"\"\"","v":""},{"$f":"\"\"","v":""},{"$f":"\"\"","v":""},{"$f":"\"\"","v":""},{"$f":"\"\"","v":""},{"$f":"\"\"","v":""},{"$f":"\"\"","v":""},{"$f":"\"\"","v":""},{"$f":"\"\"","v":""},{"$f":"\"\"","v":""},{"$f":"\"\"","v":""},{"$f":"\"\"","v":""},{"$f":"\"\"","v":""},{"$f":"\"\"","v":""},{"$f":"\"\"","v":""},{"$f":"\"\"","v":""},{"$f":"\"\"","v":""},{"$f":"\"\"","v":""},{"$f":"\"\"","v":""},{"$f":"\"\"","v":""},{"$f":"\"\"","v":""},{"$f":"\"\"","v":""},{"$f":"\"\"","v":""},{"$f":"\"\"","v":""},{"$f":"\"\"","v":""},{"$f":"\"\"","v":""},{"$f":"\"\"","v":""},{"$f":"\"\"","v":""},{"$f":"\"\"","v":""},{"$f":"\"\"","v":""},{"$f":"\"\"","v":""},{"$f":"\"\"","v":""},{"$f":"\"\"","v":""},{"$f":"\"\"","v":""},{"$f":"\"\"","v":""},{"$f":"\"\"","v":""},{"$f":"\"\"","v":""},{"$f":"\"\"","v":""},{"$f":"\"\"","v":""},{"$f":"\"\"","v":""},{"$f":"\"\"","v":""},{"$f":"\"\"","v":""},{"$f":"\"\"","v":""},{"$f":"\"\"","v":""},{"$f":"\"\"","v":""},{"$f":"\"\"","v":""},{"$f":"\"\"","v":""},{"$f":"\"\"","v":""},{"$f":"\"\"","v":""},{"$f":"\"\"","v":""},{"$f":"\"\"","v":""},{"$f":"\"\"","v":""},{"$f":"\"\"","v":""},{"$f":"\"\"","v":""},{"$f":"\"\"","v":""},{"$f":"\"\"","v":""},{"$f":"\"\"","v":""},{"$f":"\"\"","v":""},{"$f":"\"\"","v":""},{"$f":"\"\"","v":""},{"$f":"\"\"","v":""},{"$f":"\"\"","v":""},{"$f":"\"\"","v":""},{"$f":"\"\"","v":""},{"$f":"\"\"","v":""},{"$f":"\"\"","v":""},{"$f":"\"\"","v":""},{"$f":"\"\"","v":""},{"$f":"\"\"","v":""},{"$f":"\"\"","v":""},{"$f":"\"\"","v":""},{"$f":"\"\"","v":""},{"$f":"\"\"","v":""},{"$f":"\"\"","v":""},{"$f":"\"\"","v":""},{"$f":"\"\"","v":""},{"$f":"\"\"","v":""},{"$f":"\"\"","v":""},{"$f":"\"\"","v":""},{"$f":"\"\"","v":""},{"$f":"\"\"","v":""},{"$f":"\"\"","v":""},{"$f":"\"\"","v":""},{"$f":"\"\"","v":""},{"$f":"\"\"","v":""},{"$f":"\"\"","v":""},{"$f":"\"\"","v":""},{"$f":"\"\"","v":""},{"$f":"\"\"","v":""},{"$f":"\"\"","v":""},{"$f":"\"\"","v":""},{"$f":"\"\"","v":""},{"$f":"\"\"","v":""},{"$f":"\"\"","v":""},{"$f":"\"\"","v":""},{"$f":"\"\"","v":""},{"$f":"\"\"","v":""},{"$f":"\"\"","v":""},{"$f":"\"\"","v":""},{"$f":"\"\"","v":""},{"$f":"\"\"","v":""},{"$f":"\"\"","v":""},{"$f":"\"\"","v":""},{"$f":"\"\"","v":""},{"$f":"\"\"","v":""},{"$f":"\"\"","v":""},{"$f":"\"\"","v":""},{"$f":"\"\"","v":""},{"$f":"\"\"","v":""},{"$f":"\"\"","v":""},{"$f":"\"\"","v":""},{"$f":"\"\"","v":""},{"$f":"\"\"","v":""},{"$f":"\"\"","v":""},{"$f":"\"\"","v":""},{"$f":"\"\"","v":""},{"$f":"\"\"","v":""},{"$f":"\"\"","v":""},{"$f":"\"\"","v":""},{"$f":"\"\"","v":""},{"$f":"\"\"","v":""},{"$f":"\"\"","v":""},{"$f":"\"\"","v":""},{"$f":"\"\"","v":""},{"$f":"\"\"","v":""},{"$f":"\"\"","v":""},{"$f":"\"\"","v":""},{"$f":"\"\"","v":""},{"$f":"\"\"","v":""},{"$f":"\"\"","v":""},{"$f":"\"\"","v":""},{"$f":"\"\"","v":""},{"$f":"\"\"","v":""},{"$f":"\"\"","v":""},{"$f":"\"\"","v":""},{"$f":"\"\"","v":""},{"$f":"\"\"","v":""},{"$f":"\"\"","v":""},{"$f":"\"\"","v":""},{"$f":"\"\"","v":""},{"$f":"\"\"","v":""},{"$f":"\"\"","v":""},{"$f":"\"\"","v":""},{"$f":"\"\"","v":""},{"$f":"\"\"","v":""},{"$f":"\"\"","v":""},{"$f":"\"\"","v":""},{"$f":"\"\"","v":""},{"$f":"\"\"","v":""},{"$f":"\"\"","v":""},{"$f":"\"\"","v":""},{"$f":"\"\"","v":""},{"$f":"\"\"","v":""},{"$f":"\"\"","v":""},{"$f":"\"\"","v":""},{"$f":"\"\"","v":""},{"$f":"\"\"","v":""},{"$f":"\"\"","v":""},{"$f":"\"\"","v":""},{"$f":"\"\"","v":""},{"$f":"\"\"","v":""},{"$f":"\"\"","v":""},{"$f":"\"\"","v":""},{"$f":"\"\"","v":""},{"$f":"\"\"","v":""},{"$f":"\"\"","v":""},{"$f":"\"\"","v":""},{"$f":"\"\"","v":""},{"$f":"\"\"","v":""},{"$f":"\"\"","v":""},{"$f":"\"\"","v":""},{"$f":"\"\"","v":""},{"$f":"\"\"","v":""},{"$f":"\"\"","v":""},{"$f":"\"\"","v":""},{"$f":"\"\"","v":""},{"$f":"\"\"","v":""},{"$f":"\"\"","v":""},{"$f":"\"\"","v":""},{"$f":"\"\"","v":""},{"$f":"\"\"","v":""},{"$f":"\"\"","v":""},{"$f":"\"\"","v":""},{"$f":"\"\"","v":""},{"$f":"\"\"","v":""},{"$f":"\"\"","v":""},{"$f":"\"\"","v":""},{"$f":"\"\"","v":""},{"$f":"\"\"","v":""},{"$f":"\"\"","v":""},{"$f":"\"\"","v":""},{"$f":"\"\"","v":""},{"$f":"\"\"","v":""},{"$f":"\"\"","v":""},{"$f":"\"\"","v":""},{"$f":"\"\"","v":""},{"$f":"\"\"","v":""},{"$f":"\"\"","v":""},{"$f":"\"\"","v":""},{"$f":"\"\"","v":""},{"$f":"\"\"","v":""},{"$f":"\"\"","v":""},{"$f":"\"\"","v":""},{"$f":"\"\"","v":""},{"$f":"\"\"","v":""},{"$f":"\"\"","v":""},{"$f":"\"\"","v":""},{"$f":"\"\"","v":""},{"$f":"\"\"","v":""},{"$f":"\"\"","v":""},{"$f":"\"\"","v":""},{"$f":"\"\"","v":""},{"$f":"\"\"","v":""},{"$f":"\"\"","v":""},{"$f":"\"\"","v":""},{"$f":"\"\"","v":""},{"$f":"\"\"","v":""},{"$f":"\"\"","v":""},{"$f":"\"\"","v":""},{"$f":"\"\"","v":""},{"$f":"\"\"","v":""},{"$f":"\"\"","v":""},{"$f":"\"\"","v":""},{"$f":"\"\"","v":""},{"$f":"\"\"","v":""},{"$f":"\"\"","v":""},{"$f":"\"\"","v":""},{"$f":"\"\"","v":""},{"$f":"\"\"","v":""},{"$f":"\"\"","v":""},{"$f":"\"\"","v":""},{"$f":"\"\"","v":""},{"$f":"\"\"","v":""},{"$f":"\"\"","v":""},{"$f":"\"\"","v":""},{"$f":"\"\"","v":""},{"$f":"\"\"","v":""},{"$f":"\"\"","v":""},{"$f":"\"\"","v":""},{"$f":"\"\"","v":""},{"$f":"\"\"","v":""},{"$f":"\"\"","v":""},{"$f":"\"\"","v":""},{"$f":"\"\"","v":""},{"$f":"\"\"","v":""},{"$f":"\"\"","v":""},{"$f":"\"\"","v":""},{"$f":"\"\"","v":""},{"$f":"\"\"","v":""},{"$f":"\"\"","v":""},{"$f":"\"\"","v":""},{"$f":"\"\"","v":""},{"$f":"\"\"","v":""},{"$f":"\"\"","v":""},{"$f":"\"\"","v":""},{"$f":"\"\"","v":""},{"$f":"\"\"","v":""},{"$f":"\"\"","v":""},{"$f":"\"\"","v":""},{"$f":"\"\"","v":""},{"$f":"\"\"","v":""},{"$f":"\"\"","v":""},{"$f":"\"\"","v":""},{"$f":"\"\"","v":""},{"$f":"\"\"","v":""},{"$f":"\"\"","v":""},{"$f":"\"\"","v":""},{"$f":"\"\"","v":""},{"$f":"\"\"","v":""},{"$f":"\"\"","v":""},{"$f":"\"\"","v":""},{"$f":"\"\"","v":""},{"$f":"\"\"","v":""},{"$f":"\"\"","v":""},{"$f":"\"\"","v":""},{"$f":"\"\"","v":""},{"$f":"\"\"","v":""},{"$f":"\"\"","v":""},{"$f":"\"\"","v":""},{"$f":"\"\"","v":""},{"$f":"\"\"","v":""},{"$f":"\"\"","v":""},{"$f":"\"\"","v":""},{"$f":"\"\"","v":""},{"$f":"\"\"","v":""},{"$f":"\"\"","v":""},{"$f":"\"\"","v":""},{"$f":"\"\"","v":""},{"$f":"\"\"","v":""},{"$f":"\"\"","v":""},{"$f":"\"\"","v":""},{"$f":"\"\"","v":""},{"$f":"\"\"","v":""},{"$f":"\"\"","v":""},{"$f":"\"\"","v":""},{"$f":"\"\"","v":""},{"$f":"\"\"","v":""},{"$f":"\"\"","v":""},{"$f":"\"\"","v":""},{"$f":"\"\"","v":""},{"$f":"\"\"","v":""},{"$f":"\"\"","v":""},{"$f":"\"\"","v":""},{"$f":"\"\"","v":""},{"$f":"\"\"","v":""},{"$f":"\"\"","v":""},{"$f":"\"\"","v":""},{"$f":"\"\"","v":""},{"$f":"\"\"","v":""},{"$f":"\"\"","v":""},{"$f":"\"\"","v":""},{"$f":"\"\"","v":""},{"$f":"\"\"","v":""},{"$f":"\"\"","v":""},{"$f":"\"\"","v":""},{"$f":"\"\"","v":""},{"$f":"\"\"","v":""},{"$f":"\"\"","v":""},{"$f":"\"\"","v":""},{"$f":"\"\"","v":""},{"$f":"\"\"","v":""},{"$f":"\"\"","v":""},{"$f":"\"\"","v":""},{"$f":"\"\"","v":""},{"$f":"\"\"","v":""},{"$f":"\"\"","v":""},{"$f":"\"\"","v":""},{"$f":"\"\"","v":""},{"$f":"\"\"","v":""},{"$f":"\"\"","v":""},{"$f":"\"\"","v":""},{"$f":"\"\"","v":""},{"$f":"\"\"","v":""},{"$f":"\"\"","v":""},{"$f":"\"\"","v":""},{"$f":"\"\"","v":""},{"$f":"\"\"","v":""},{"$f":"\"\"","v":""},{"$f":"\"\"","v":""},{"$f":"\"\"","v":""},{"$f":"\"\"","v":""},{"$f":"\"\"","v":""},{"$f":"\"\"","v":""},{"$f":"\"\"","v":""},{"$f":"\"\"","v":""},{"$f":"\"\"","v":""},{"$f":"\"\"","v":""},{"$f":"\"\"","v":""},{"$f":"\"\"","v":""},{"$f":"\"\"","v":""},{"$f":"\"\"","v":""},{"$f":"\"\"","v":""},{"$f":"\"\"","v":""},{"$f":"\"\"","v":""},{"$f":"\"\"","v":""},{"$f":"\"\"","v":""},{"$f":"\"\"","v":""},{"$f":"\"\"","v":""},{"$f":"\"\"","v":""},{"$f":"\"\"","v":""},{"$f":"\"\"","v":""},{"$f":"\"\"","v":""},{"$f":"\"\"","v":""},{"$f":"\"\"","v":""},{"$f":"\"\"","v":""},{"$f":"\"\"","v":""},{"$f":"\"\"","v":""},{"$f":"\"\"","v":""},{"$f":"\"\"","v":""},{"$f":"\"\"","v":""},{"$f":"\"\"","v":""},{"$f":"\"\"","v":""},{"$f":"\"\"","v":""},{"$f":"\"\"","v":""},{"$f":"\"\"","v":""},{"$f":"\"\"","v":""},{"$f":"\"\"","v":""},{"$f":"\"\"","v":""},{"$f":"\"\"","v":""},{"$f":"\"\"","v":""},{"$f":"\"\"","v":""},{"$f":"\"\"","v":""},{"$f":"\"\"","v":""},{"$f":"\"\"","v":""},{"$f":"\"\"","v":""},{"$f":"\"\"","v":""},{"$f":"\"\"","v":""},{"$f":"\"\"","v":""},{"$f":"\"\"","v":""},{"$f":"\"\"","v":""},{"$f":"\"\"","v":""},{"$f":"\"\"","v":""},{"$f":"\"\"","v":""},{"$f":"\"\"","v":""},{"$f":"\"\"","v":""},{"$f":"\"\"","v":""},{"$f":"\"\"","v":""},{"$f":"\"\"","v":""},{"$f":"\"\"","v":""},{"$f":"\"\"","v":""},{"$f":"\"\"","v":""},{"$f":"\"\"","v":""},{"$f":"\"\"","v":""},{"$f":"\"\"","v":""},{"$f":"\"\"","v":""},{"$f":"\"\"","v":""},{"$f":"\"\"","v":""},{"$f":"\"\"","v":""},{"$f":"\"\"","v":""},{"$f":"\"\"","v":""},{"$f":"\"\"","v":""},{"$f":"\"\"","v":""},{"$f":"\"\"","v":""},{"$f":"\"\"","v":""},{"$f":"\"\"","v":""},{"$f":"\"\"","v":""},{"$f":"\"\"","v":""},{"$f":"\"\"","v":""},{"$f":"\"\"","v":""},{"$f":"\"\"","v":""},{"$f":"\"\"","v":""},{"$f":"\"\"","v":""},{"$f":"\"\"","v":""},{"$f":"\"\"","v":""},{"$f":"\"\"","v":""},{"$f":"\"\"","v":""},{"$f":"\"\"","v":""},{"$f":"\"\"","v":""},{"$f":"\"\"","v":""},{"$f":"\"\"","v":""},{"$f":"\"\"","v":""},{"$f":"\"\"","v":""},{"$f":"\"\"","v":""},{"$f":"\"\"","v":""},{"$f":"\"\"","v":""},{"$f":"\"\"","v":""},{"$f":"\"\"","v":""},{"$f":"\"\"","v":""},{"$f":"\"\"","v":""},{"$f":"\"\"","v":""},{"$f":"\"\"","v":""},{"$f":"\"\"","v":""},{"$f":"\"\"","v":""},{"$f":"\"\"","v":""},{"$f":"\"\"","v":""},{"$f":"\"\"","v":""},{"$f":"\"\"","v":""},{"$f":"\"\"","v":""},{"$f":"\"\"","v":""},{"$f":"\"\"","v":""},{"$f":"\"\"","v":""},{"$f":"\"\"","v":""},{"$f":"\"\"","v":""},{"$f":"\"\"","v":""},{"$f":"\"\"","v":""},{"$f":"\"\"","v":""},{"$f":"\"\"","v":""},{"$f":"\"\"","v":""},{"$f":"\"\"","v":""},{"$f":"\"\"","v":""},{"$f":"\"\"","v":""},{"$f":"\"\"","v":""},{"$f":"\"\"","v":""},{"$f":"\"\"","v":""},{"$f":"\"\"","v":""},{"$f":"\"\"","v":""},{"$f":"\"\"","v":""},{"$f":"\"\"","v":""},{"$f":"\"\"","v":""},{"$f":"\"\"","v":""},{"$f":"\"\"","v":""},{"$f":"\"\"","v":""},{"$f":"\"\"","v":""},{"$f":"\"\"","v":""},{"$f":"\"\"","v":""},{"$f":"\"\"","v":""},{"$f":"\"\"","v":""},{"$f":"\"\"","v":""},{"$f":"\"\"","v":""},{"$f":"\"\"","v":""},{"$f":"\"\"","v":""},{"$f":"\"\"","v":""},{"$f":"\"\"","v":""},{"$f":"\"\"","v":""},{"$f":"\"\"","v":""},{"$f":"\"\"","v":""},{"$f":"\"\"","v":""},{"$f":"\"\"","v":""},{"$f":"\"\"","v":""},{"$f":"\"\"","v":""},{"$f":"\"\"","v":""},{"$f":"\"\"","v":""},{"$f":"\"\"","v":""},{"$f":"\"\"","v":""},{"$f":"\"\"","v":""},{"$f":"\"\"","v":""},{"$f":"\"\"","v":""},{"$f":"\"\"","v":""},{"$f":"\"\"","v":""},{"$f":"\"\"","v":""},{"$f":"\"\"","v":""},{"$f":"\"\"","v":""},{"$f":"\"\"","v":""},{"$f":"\"\"","v":""},{"$f":"\"\"","v":""},{"$f":"\"\"","v":""},{"$f":"\"\"","v":""},{"$f":"\"\"","v":""},{"$f":"\"\"","v":""},{"$f":"\"\"","v":""},{"$f":"\"\"","v":""},{"$f":"\"\"","v":""},{"$f":"\"\"","v":""},{"$f":"\"\"","v":""},{"$f":"\"\"","v":""},{"$f":"\"\"","v":""},{"$f":"\"\"","v":""},{"$f":"\"\"","v":""},{"$f":"\"\"","v":""},{"$f":"\"\"","v":""},{"$f":"\"\"","v":""},{"$f":"\"\"","v":""},{"$f":"\"\"","v":""},{"$f":"\"\"","v":""},{"$f":"\"\"","v":""},{"$f":"\"\"","v":""},{"$f":"\"\"","v":""},{"$f":"\"\"","v":""},{"$f":"\"\"","v":""},{"$f":"\"\"","v":""},{"$f":"\"\"","v":""},{"$f":"\"\"","v":""},{"$f":"\"\"","v":""},{"$f":"\"\"","v":""},{"$f":"\"\"","v":""},{"$f":"\"\"","v":""},{"$f":"\"\"","v":""},{"$f":"\"\"","v":""},{"$f":"\"\"","v":""},{"$f":"\"\"","v":""},{"$f":"\"\"","v":""},{"$f":"\"\"","v":""},{"$f":"\"\"","v":""},{"$f":"\"\"","v":""},{"$f":"\"\"","v":""},{"$f":"\"\"","v":""},{"$f":"\"\"","v":""},{"$f":"\"\"","v":""},{"$f":"\"\"","v":""},{"$f":"\"\"","v":""},{"$f":"\"\"","v":""},{"$f":"\"\"","v":""},{"$f":"\"\"","v":""},{"$f":"\"\"","v":""},{"$f":"\"\"","v":""},{"$f":"\"\"","v":""},{"$f":"\"\"","v":""},{"$f":"\"\"","v":""},{"$f":"\"\"","v":""},{"$f":"\"\"","v":""},{"$f":"\"\"","v":""},{"$f":"\"\"","v":""},{"$f":"\"\"","v":""},{"$f":"\"\"","v":""},{"$f":"\"\"","v":""},{"$f":"\"\"","v":""},{"$f":"\"\"","v":""},{"$f":"\"\"","v":""},{"$f":"\"\"","v":""},{"$f":"\"\"","v":""},{"$f":"\"\"","v":""},{"$f":"\"\"","v":""},{"$f":"\"\"","v":""},{"$f":"\"\"","v":""},{"$f":"\"\"","v":""},{"$f":"\"\"","v":""},{"$f":"\"\"","v":""},{"$f":"\"\"","v":""},{"$f":"\"\"","v":""},{"$f":"\"\"","v":""},{"$f":"\"\"","v":""},{"$f":"\"\"","v":""},{"$f":"\"\"","v":""},{"$f":"\"\"","v":""},{"$f":"\"\"","v":""},{"$f":"\"\"","v":""},{"$f":"\"\"","v":""},{"$f":"\"\"","v":""},{"$f":"\"\"","v":""},{"$f":"\"\"","v":""},{"$f":"\"\"","v":""},{"$f":"\"\"","v":""},{"$f":"\"\"","v":""},{"$f":"\"\"","v":""},{"$f":"\"\"","v":""},{"$f":"\"\"","v":""},{"$f":"\"\"","v":""},{"$f":"\"\"","v":""},{"$f":"\"\"","v":""},{"$f":"\"\"","v":""},{"$f":"\"\"","v":""},{"$f":"\"\"","v":""},{"$f":"\"\"","v":""},{"$f":"\"\"","v":""},{"$f":"\"\"","v":""},{"$f":"\"\"","v":""},{"$f":"\"\"","v":""},{"$f":"\"\"","v":""},{"$f":"\"\"","v":""},{"$f":"\"\"","v":""},{"$f":"\"\"","v":""},{"$f":"\"\"","v":""},{"$f":"\"\"","v":""},{"$f":"\"\"","v":""},{"$f":"\"\"","v":""},{"$f":"\"\"","v":""},{"$f":"\"\"","v":""},{"$f":"\"\"","v":""},{"$f":"\"\"","v":""},{"$f":"\"\"","v":""},{"$f":"\"\"","v":""},{"$f":"\"\"","v":""},{"$f":"\"\"","v":""},{"$f":"\"\"","v":""},{"$f":"\"\"","v":""},{"$f":"\"\"","v":""},{"$f":"\"\"","v":""},{"$f":"\"\"","v":""},{"$f":"\"\"","v":""},{"$f":"\"\"","v":""},{"$f":"\"\"","v":""},{"$f":"\"\"","v":""},{"$f":"\"\"","v":""},{"$f":"\"\"","v":""},{"$f":"\"\"","v":""},{"$f":"\"\"","v":""},{"$f":"\"\"","v":""},{"$f":"\"\"","v":""},{"$f":"\"\"","v":""},{"$f":"\"\"","v":""},{"$f":"\"\"","v":""},{"$f":"\"\"","v":""},{"$f":"\"\"","v":""},{"$f":"\"\"","v":""},{"$f":"\"\"","v":""},{"$f":"\"\"","v":""},{"$f":"\"\"","v":""},{"$f":"\"\"","v":""},{"$f":"\"\"","v":""},{"$f":"\"\"","v":""},{"$f":"\"\"","v":""},{"$f":"\"\"","v":""},{"$f":"\"\"","v":""},{"$f":"\"\"","v":""},{"$f":"\"\"","v":""},{"$f":"\"\"","v":""},{"$f":"\"\"","v":""},{"$f":"\"\"","v":""},{"$f":"\"\"","v":""},{"$f":"\"\"","v":""},{"$f":"\"\"","v":""},{"$f":"\"\"","v":""},{"$f":"\"\"","v":""},{"$f":"\"\"","v":""},{"$f":"\"\"","v":""},{"$f":"\"\"","v":""},{"$f":"\"\"","v":""},{"$f":"\"\"","v":""},{"$f":"\"\"","v":""},{"$f":"\"\"","v":""},{"$f":"\"\"","v":""},{"$f":"\"\"","v":""},{"$f":"\"\"","v":""},{"$f":"\"\"","v":""},{"$f":"\"\"","v":""},{"$f":"\"\"","v":""},{"$f":"\"\"","v":""},{"$f":"\"\"","v":""},{"$f":"\"\"","v":""},{"$f":"\"\"","v":""},{"$f":"\"\"","v":""},{"$f":"\"\"","v":""},{"$f":"\"\"","v":""},{"$f":"\"\"","v":""},{"$f":"\"\"","v":""},{"$f":"\"\"","v":""},{"$f":"\"\"","v":""},{"$f":"\"\"","v":""},{"$f":"\"\"","v":""},{"$f":"\"\"","v":""},{"$f":"\"\"","v":""},{"$f":"\"\"","v":""},{"$f":"\"\"","v":""},{"$f":"\"\"","v":""},{"$f":"\"\"","v":""},{"$f":"\"\"","v":""},{"$f":"\"\"","v":""},{"$f":"\"\"","v":""},{"$f":"\"\"","v":""},{"$f":"\"\"","v":""},{"$f":"\"\"","v":""},{"$f":"\"\"","v":""},{"$f":"\"\"","v":""},{"$f":"\"\"","v":""}]
["  9.1  Participates and Collaborates in Decision Making",null,{"$f":"IF(COUNT(E33:IV33)<>0,AVERAGE(E33:IV33),\"\")","v":""},{"$f":"IF(COUNT(C33)<>0,ROUND(AVERAGE(C33),0),\"\")","v":""},{"$f":"IF('Cycle 1'!$F119= \"NS\",\"NS\",IF('Cycle 1'!$F119=\"\",\"\",IF('Cycle 1'!$F119<>0,VALUE('Cycle 1'!$F119), VALUE(\"0\"))))","v":""},{"$f":"IF('Cycle 2'!$F119= \"NS\",\"NS\",IF('Cycle 2'!$F119=\"\",\"\",IF('Cycle 2'!$F119<>0,VALUE('Cycle 2'!$F119), VALUE(\"0\"))))","v":""},{"$f":"IF('Cycle 3'!$F119= \"NS\",\"NS\",IF('Cycle 3'!$F119=\"\",\"\",IF('Cycle 3'!$F119<>0,VALUE('Cycle 3'!$F119), VALUE(\"0\"))))","v":""},{"$f":"IF('Cycle 4'!$F119= \"NS\",\"NS\",IF('Cycle 4'!$F119=\"\",\"\",IF('Cycle 4'!$F119<>0,VALUE('Cycle 4'!$F119), VALUE(\"0\"))))","v":""}]
["  9.2  Student is an Advocate",null,{"$f":"IF(COUNT(E34:IV34)<>0,AVERAGE(E34:IV34),\"\")","v":""},{"$f":"IF(COUNT(C34)<>0,ROUND(AVERAGE(C34),0),\"\")","v":""},{"$f":"IF('Cycle 1'!$F124= \"NS\",\"NS\",IF('Cycle 1'!$F124=\"\",\"\",IF('Cycle 1'!$F124<>0,VALUE('Cycle 1'!$F124), VALUE(\"0\"))))","v":""},{"$f":"IF('Cycle 2'!$F124= \"NS\",\"NS\",IF('Cycle 2'!$F124=\"\",\"\",IF('Cycle 2'!$F124<>0,VALUE('Cycle 2'!$F124), VALUE(\"0\"))))","v":""},{"$f":"IF('Cycle 3'!$F124= \"NS\",\"NS\",IF('Cycle 3'!$F124=\"\",\"\",IF('Cycle 3'!$F124<>0,VALUE('Cycle 3'!$F124), VALUE(\"0\"))))","v":""},{"$f":"IF('Cycle 4'!$F124= \"NS\",\"NS\",IF('Cycle 4'!$F124=\"\",\"\",IF('Cycle 4'!$F124<>0,VALUE('Cycle 4'!$F124), VALUE(\"0\"))))","v":""}]
["STANDARD 10: Professional Learning and Ethical Practices",null,{"$f":"IF(COUNT(C36:C37)<>0,AVERAGE(C36:C37),\"\")","v":""},{"$f":"IF(COUNT(D36:D36)<>0,ROUND(AVERAGE(D36:D36),1),\"\")","v":""},{"$f":"IF(OR(E36=\"No\",E37=\"No\"),\"Fail\",IF(AND(E36=\"Yes\",E37=\"Yes\"),\"Pass\",IF(AND(E36=\"Yes\",E37=\"\"),\"Pass\",IF(AND(E36=\"\",E37=\"Yes\"),\"Pass\",\"\"))))","v":""},{"$f":"IF(OR(F36=\"No\",F37=\"No\"),\"Fail\",IF(AND(F36=\"Yes\",F37=\"Yes\"),\"Pass\",IF(AND(F36=\"Yes\",F37=\"\"),\"Pass\",IF(AND(F36=\"\",F37=\"Yes\"),\"Pass\",\"\"))))","v":""},{"$f":"IF(OR(G36=\"No\",G37=\"No\"),\"Fail\",IF(AND(G36=\"Yes\",G37=\"Yes\"),\"Pass\",IF(AND(G36=\"Yes\",G37=\"\"),\"--\",IF(AND(G36=\"\",G37=\"Yes\"),\"--\",\"\"))))","v":""},"","","","","","","","","","","","","","","",{"$f":"IF(OR(W36=\"No\",W37=\"No\"),\"Fail\",IF(AND(W36=\"Yes\",W37=\"Yes\"),\"Pass\",IF(AND(W36=\"Yes\",W37=\"\"),\"--\",IF(AND(W36=\"\",W37=\"Yes\"),\"--\",\"\"))))","v":""},"","","","","","","","",{"$f":"IF(OR(AF36=\"No\",AF37=\"No\"),\"Fail\",IF(AND(AF36=\"Yes\",AF37=\"Yes\"),\"Pass\",IF(AND(AF36=\"Yes\",AF37=\"\"),\"--\",IF(AND(AF36=\"\",AF37=\"Yes\"),\"--\",\"\"))))","v":""},"","","","","","","","",{"$f":"IF(OR(AO36=\"No\",AO37=\"No\"),\"Fail\",IF(AND(AO36=\"Yes\",AO37=\"Yes\"),\"Pass\",IF(AND(AO36=\"Yes\",AO37=\"\"),\"--\",IF(AND(AO36=\"\",AO37=\"Yes\"),\"--\",\"\"))))","v":""},"","","","","","","",{"$f":"IF(OR(AW36=\"No\",AW37=\"No\"),\"Fail\",IF(AND(AW36=\"Yes\",AW37=\"Yes\"),\"Pass\",IF(AND(AW36=\"Yes\",AW37=\"\"),\"Pass\",IF(AND(AW36=\"\",AW37=\"Yes\"),\"Pass\",\"\"))))","v":""},{"$f":"IF(OR(AX36=\"No\",AX37=\"No\"),\"Fail\",IF(AND(AX36=\"Yes\",AX37=\"Yes\"),\"Pass\",IF(AND(AX36=\"Yes\",AX37=\"\"),\"--\",IF(AND(AX36=\"\",AX37=\"Yes\"),\"--\",\"\"))))","v":""},"","","","","","","",{"$f":"IF(OR(BF36=\"No\",BF37=\"No\"),\"Fail\",IF(AND(BF36=\"Yes\",BF37=\"Yes\"),\"Pass\",IF(AND(BF36=\"Yes\",BF37=\"\"),\"Pass\",IF(AND(BF36=\"\",BF37=\"Yes\"),\"Pass\",\"\"))))","v":""},{"$f":"IF(OR(BG36=\"No\",BG37=\"No\"),\"Fail\",IF(AND(BG36=\"Yes\",BG37=\"Yes\"),\"Pass\",IF(AND(BG36=\"Yes\",BG37=\"\"),\"--\",IF(AND(BG36=\"\",BG37=\"Yes\"),\"--\",\"\"))))","v":""},"","","","","","","","",{"$f":"IF(OR(BP36=\"No\",BP37=\"No\"),\"Fail\",IF(AND(BP36=\"Yes\",BP37=\"Yes\"),\"Pass\",IF(AND(BP36=\"Yes\",BP37=\"\"),\"--\",IF(AND(BP36=\"\",BP37=\"Yes\"),\"--\",\"\"))))","v":""},"",{"$f":"IF(OR(BR36=\"No\",BR37=\"No\"),\"Fail\",IF(AND(BR36=\"Yes\",BR37=\"Yes\"),\"Pass\",IF(AND(BR36=\"Yes\",BR37=\"\"),\"--\",IF(AND(BR36=\"\",BR37=\"Yes\"),\"--\",\"\"))))","v":""},"","","","","","",{"$f":"IF(OR(BY36=\"No\",BY37=\"No\"),\"Fail\",IF(AND(BY36=\"Yes\",BY37=\"Yes\"),\"Pass\",IF(AND(BY36=\"Yes\",BY37=\"\"),\"--\",IF(AND(BY36=\"\",BY37=\"Yes\"),\"--\",\"\"))))","v":""},"","","","","","","","",{"$f":"IF(OR(CH36=\"No\",CH37=\"No\"),\"Fail\",IF(AND(CH36=\"Yes\",CH37=\"Yes\"),\"Pass\",IF(AND(CH36=\"Yes\",CH37=\"\"),\"--\",IF(AND(CH36=\"\",CH37=\"Yes\"),\"--\",\"\"))))","v":""},"","","","","","","","",{"$f":"IF(OR(CQ36=\"No\",CQ37=\"No\"),\"Fail\",IF(AND(CQ36=\"Yes\",CQ37=\"Yes\"),\"Pass\",IF(AND(CQ36=\"Yes\",CQ37=\"\"),\"--\",IF(AND(CQ36=\"\",CQ37=\"Yes\"),\"--\",\"\"))))","v":""},"","","","","","","","",{"$f":"IF(OR(CZ36=\"No\",CZ37=\"No\"),\"Fail\",IF(AND(CZ36=\"Yes\",CZ37=\"Yes\"),\"Pass\",IF(AND(CZ36=\"Yes\",CZ37=\"\"),\"--\",IF(AND(CZ36=\"\",CZ37=\"Yes\"),\"--\",\"\"))))","v":""},"","","","","","","","",{"$f":"IF(OR(DI36=\"No\",DI37=\"No\"),\"Fail\",IF(AND(DI36=\"Yes\",DI37=\"Yes\"),\"Pass\",IF(AND(DI36=\"Yes\",DI37=\"\"),\"--\",IF(AND(DI36=\"\",DI37=\"Yes\"),\"--\",\"\"))))","v":""},"","","","","","","","",{"$f":"IF(OR(DR36=\"No\",DR37=\"No\"),\"Fail\",IF(AND(DR36=\"Yes\",DR37=\"Yes\"),\"Pass\",IF(AND(DR36=\"Yes\",DR37=\"\"),\"--\",IF(AND(DR36=\"\",DR37=\"Yes\"),\"--\",\"\"))))","v":""},"","","","","","","","",{"$f":"IF(OR(EA36=\"No\",EA37=\"No\"),\"Fail\",IF(AND(EA36=\"Yes\",EA37=\"Yes\"),\"Pass\",IF(AND(EA36=\"Yes\",EA37=\"\"),\"--\",IF(AND(EA36=\"\",EA37=\"Yes\"),\"--\",\"\"))))","v":""},"","",{"$f":"IF(OR(ED36=\"No\",ED37=\"No\"),\"Fail\",IF(AND(ED36=\"Yes\",ED37=\"Yes\"),\"Pass\",IF(AND(ED36=\"Yes\",ED37=\"\"),\"--\",IF(AND(ED36=\"\",ED37=\"Yes\"),\"--\",\"\"))))","v":""},"","","","","",{"$f":"IF(OR(EJ36=\"No\",EJ37=\"No\"),\"Fail\",IF(AND(EJ36=\"Yes\",EJ37=\"Yes\"),\"Pass\",IF(AND(EJ36=\"Yes\",EJ37=\"\"),\"--\",IF(AND(EJ36=\"\",EJ37=\"Yes\"),\"--\",\"\"))))","v":""},"","","","","","","",{"$f":"IF(OR(ER36=\"No\",ER37=\"No\"),\"Fail\",IF(AND(ER36=\"Yes\",ER37=\"Yes\"),\"Pass\",IF(AND(ER36=\"Yes\",ER37=\"\"),\"Pass\",IF(AND(ER36=\"\",ER37=\"Yes\"),\"Pass\",\"\"))))","v":""},{"$f":"IF(OR(ES36=\"No\",ES37=\"No\"),\"Fail\",IF(AND(ES36=\"Yes\",ES37=\"Yes\"),\"Pass\",IF(AND(ES36=\"Yes\",ES37=\"\"),\"--\",IF(AND(ES36=\"\",ES37=\"Yes\"),\"--\",\"\"))))","v":""},"","","","","","","",{"$f":"IF(OR(FA36=\"No\",FA37=\"No\"),\"Fail\",IF(AND(FA36=\"Yes\",FA37=\"Yes\"),\"Pass\",IF(AND(FA36=\"Yes\",FA37=\"\"),\"Pass\",IF(AND(FA36=\"\",FA37=\"Yes\"),\"Pass\",\"\"))))","v":""},{"$f":"IF(OR(FB36=\"No\",FB37=\"No\"),\"Fail\",IF(AND(FB36=\"Yes\",FB37=\"Yes\"),\"Pass\",IF(AND(FB36=\"Yes\",FB37=\"\"),\"--\",IF(AND(FB36=\"\",FB37=\"Yes\"),\"--\",\"\"))))","v":""},"","","","","","","",{"$f":"IF(OR(FJ36=\"No\",FJ37=\"No\"),\"Fail\",IF(AND(FJ36=\"Yes\",FJ37=\"Yes\"),\"Pass\",IF(AND(FJ36=\"Yes\",FJ37=\"\"),\"Pass\",IF(AND(FJ36=\"\",FJ37=\"Yes\"),\"Pass\",\"\"))))","v":""},{"$f":"IF(OR(FK36=\"No\",FK37=\"No\"),\"Fail\",IF(AND(FK36=\"Yes\",FK37=\"Yes\"),\"Pass\",IF(AND(FK36=\"Yes\",FK37=\"\"),\"--\",IF(AND(FK36=\"\",FK37=\"Yes\"),\"--\",\"\"))))","v":""},"","","","","","","",{"$f":"IF(OR(FS36=\"No\",FS37=\"No\"),\"Fail\",IF(AND(FS36=\"Yes\",FS37=\"Yes\"),\"Pass\",IF(AND(FS36=\"Yes\",FS37=\"\"),\"Pass\",IF(AND(FS36=\"\",FS37=\"Yes\"),\"Pass\",\"\"))))","v":""},{"$f":"IF(OR(FT36=\"No\",FT37=\"No\"),\"Fail\",IF(AND(FT36=\"Yes\",FT37=\"Yes\"),\"Pass\",IF(AND(FT36=\"Yes\",FT37=\"\"),\"--\",IF(AND(FT36=\"\",FT37=\"Yes\"),\"--\",\"\"))))","v":""},"","","","","","","",{"$f":"IF(OR(GB36=\"No\",GB37=\"No\"),\"Fail\",IF(AND(GB36=\"Yes\",GB37=\"Yes\"),\"Pass\",IF(AND(GB36=\"Yes\",GB37=\"\"),\"Pass\",IF(AND(GB36=\"\",GB37=\"Yes\"),\"Pass\",\"\"))))","v":""},{"$f":"IF(OR(GC36=\"No\",GC37=\"No\"),\"Fail\",IF(AND(GC36=\"Yes\",GC37=\"Yes\"),\"Pass\",IF(AND(GC36=\"Yes\",GC37=\"\"),\"--\",IF(AND(GC36=\"\",GC37=\"Yes\"),\"--\",\"\"))))","v":""},"","","","","","","",{"$f":"IF(OR(GK36=\"No\",GK37=\"No\"),\"Fail\",IF(AND(GK36=\"Yes\",GK37=\"Yes\"),\"Pass\",IF(AND(GK36=\"Yes\",GK37=\"\"),\"Pass\",IF(AND(GK36=\"\",GK37=\"Yes\"),\"Pass\",\"\"))))","v":""},{"$f":"IF(OR(GL36=\"No\",GL37=\"No\"),\"Fail\",IF(AND(GL36=\"Yes\",GL37=\"Yes\"),\"Pass\",IF(AND(GL36=\"Yes\",GL37=\"\"),\"--\",IF(AND(GL36=\"\",GL37=\"Yes\"),\"--\",\"\"))))","v":""},"","","",{"$f":"IF(OR(GP36=\"No\",GP37=\"No\"),\"Fail\",IF(AND(GP36=\"Yes\",GP37=\"Yes\"),\"Pass\",IF(AND(GP36=\"Yes\",GP37=\"\"),\"--\",IF(AND(GP36=\"\",GP37=\"Yes\"),\"--\",\"\"))))","v":""},"","","",{"$f":"IF(OR(GT36=\"No\",GT37=\"No\"),\"Fail\",IF(AND(GT36=\"Yes\",GT37=\"Yes\"),\"Pass\",IF(AND(GT36=\"Yes\",GT37=\"\"),\"Pass\",IF(AND(GT36=\"\",GT37=\"Yes\"),\"Pass\",\"\"))))","v":""},{"$f":"IF(OR(GU36=\"No\",GU37=\"No\"),\"Fail\",IF(AND(GU36=\"Yes\",GU37=\"Yes\"),\"Pass\",IF(AND(GU36=\"Yes\",GU37=\"\"),\"--\",IF(AND(GU36=\"\",GU37=\"Yes\"),\"--\",\"\"))))","v":""},"","","","","","","",{"$f":"IF(OR(HC36=\"No\",HC37=\"No\"),\"Fail\",IF(AND(HC36=\"Yes\",HC37=\"Yes\"),\"Pass\",IF(AND(HC36=\"Yes\",HC37=\"\"),\"Pass\",IF(AND(HC36=\"\",HC37=\"Yes\"),\"Pass\",\"\"))))","v":""},{"$f":"IF(OR(HD36=\"No\",HD37=\"No\"),\"Fail\",IF(AND(HD36=\"Yes\",HD37=\"Yes\"),\"Pass\",IF(AND(HD36=\"Yes\",HD37=\"\"),\"--\",IF(AND(HD36=\"\",HD37=\"Yes\"),\"--\",\"\"))))","v":""},"","","","","","","",{"$f":"IF(OR(HL36=\"No\",HL37=\"No\"),\"Fail\",IF(AND(HL36=\"Yes\",HL37=\"Yes\"),\"Pass\",IF(AND(HL36=\"Yes\",HL37=\"\"),\"Pass\",IF(AND(HL36=\"\",HL37=\"Yes\"),\"Pass\",\"\"))))","v":""},{"$f":"IF(OR(HM36=\"No\",HM37=\"No\"),\"Fail\",IF(AND(HM36=\"Yes\",HM37=\"Yes\"),\"Pass\",IF(AND(HM36=\"Yes\",HM37=\"\"),\"--\",IF(AND(HM36=\"\",HM37=\"Yes\"),\"--\",\"\"))))","v":""},"","","","","","","",{"$f":"IF(OR(HU36=\"No\",HU37=\"No\"),\"Fail\",IF(AND(HU36=\"Yes\",HU37=\"Yes\"),\"Pass\",IF(AND(HU36=\"Yes\",HU37=\"\"),\"Pass\",IF(AND(HU36=\"\",HU37=\"Yes\"),\"Pass\",\"\"))))","v":""},{"$f":"IF(OR(HV36=\"No\",HV37=\"No\"),\"Fail\",IF(AND(HV36=\"Yes\",HV37=\"Yes\"),\"Pass\",IF(AND(HV36=\"Yes\",HV37=\"\"),\"--\",IF(AND(HV36=\"\",HV37=\"Yes\"),\"--\",\"\"))))","v":""},"","","","","","","",{"$f":"IF(OR(ID36=\"No\",ID37=\"No\"),\"Fail\",IF(AND(ID36=\"Yes\",ID37=\"Yes\"),\"Pass\",IF(AND(ID36=\"Yes\",ID37=\"\"),\"Pass\",IF(AND(ID36=\"\",ID37=\"Yes\"),\"Pass\",\"\"))))","v":""},{"$f":"IF(OR(IE36=\"No\",IE37=\"No\"),\"Fail\",IF(AND(IE36=\"Yes\",IE37=\"Yes\"),\"Pass\",IF(AND(IE36=\"Yes\",IE37=\"\"),\"--\",IF(AND(IE36=\"\",IE37=\"Yes\"),\"--\",\"\"))))","v":""},"","","","","","","",{"$f":"IF(OR(IM36=\"No\",IM37=\"No\"),\"Fail\",IF(AND(IM36=\"Yes\",IM37=\"Yes\"),\"Pass\",IF(AND(IM36=\"Yes\",IM37=\"\"),\"Pass\",IF(AND(IM36=\"\",IM37=\"Yes\"),\"Pass\",\"\"))))","v":""},{"$f":"IF(OR(IN36=\"No\",IN37=\"No\"),\"Fail\",IF(AND(IN36=\"Yes\",IN37=\"Yes\"),\"Pass\",IF(AND(IN36=\"Yes\",IN37=\"\"),\"--\",IF(AND(IN36=\"\",IN37=\"Yes\"),\"--\",\"\"))))","v":""},"","","","","","","",{"$f":"IF(OR(IV36=\"No\",IV37=\"No\"),\"Fail\",IF(AND(IV36=\"Yes\",IV37=\"Yes\"),\"Pass\",IF(AND(IV36=\"Yes\",IV37=\"\"),\"Pass\",IF(AND(IV36=\"\",IV37=\"Yes\"),\"Pass\",\"\"))))","v":""},{"$f":"IF(OR(IW36=\"No\",IW37=\"No\"),\"Fail\",IF(AND(IW36=\"Yes\",IW37=\"Yes\"),\"Pass\",IF(AND(IW36=\"Yes\",IW37=\"\"),\"--\",IF(AND(IW36=\"\",IW37=\"Yes\"),\"--\",\"\"))))","v":""},"","","","",{"$f":"IF(OR(JB36=\"No\",JB37=\"No\"),\"Fail\",IF(AND(JB36=\"Yes\",JB37=\"Yes\"),\"Pass\",IF(AND(JB36=\"Yes\",JB37=\"\"),\"--\",IF(AND(JB36=\"\",JB37=\"Yes\"),\"--\",\"\"))))","v":""},"","",{"$f":"IF(OR(JE36=\"No\",JE37=\"No\"),\"Fail\",IF(AND(JE36=\"Yes\",JE37=\"Yes\"),\"Pass\",IF(AND(JE36=\"Yes\",JE37=\"\"),\"Pass\",IF(AND(JE36=\"\",JE37=\"Yes\"),\"Pass\",\"\"))))","v":""},{"$f":"IF(OR(JF36=\"No\",JF37=\"No\"),\"Fail\",IF(AND(JF36=\"Yes\",JF37=\"Yes\"),\"Pass\",IF(AND(JF36=\"Yes\",JF37=\"\"),\"--\",IF(AND(JF36=\"\",JF37=\"Yes\"),\"--\",\"\"))))","v":""},"","","","","","","",{"$f":"IF(OR(JN36=\"No\",JN37=\"No\"),\"Fail\",IF(AND(JN36=\"Yes\",JN37=\"Yes\"),\"Pass\",IF(AND(JN36=\"Yes\",JN37=\"\"),\"Pass\",IF(AND(JN36=\"\",JN37=\"Yes\"),\"Pass\",\"\"))))","v":""},{"$f":"IF(OR(JO36=\"No\",JO37=\"No\"),\"Fail\",IF(AND(JO36=\"Yes\",JO37=\"Yes\"),\"Pass\",IF(AND(JO36=\"Yes\",JO37=\"\"),\"--\",IF(AND(JO36=\"\",JO37=\"Yes\"),\"--\",\"\"))))","v":""},"","","","","","","",{"$f":"IF(OR(JW36=\"No\",JW37=\"No\"),\"Fail\",IF(AND(JW36=\"Yes\",JW37=\"Yes\"),\"Pass\",IF(AND(JW36=\"Yes\",JW37=\"\"),\"Pass\",IF(AND(JW36=\"\",JW37=\"Yes\"),\"Pass\",\"\"))))","v":""},{"$f":"IF(OR(JX36=\"No\",JX37=\"No\"),\"Fail\",IF(AND(JX36=\"Yes\",JX37=\"Yes\"),\"Pass\",IF(AND(JX36=\"Yes\",JX37=\"\"),\"--\",IF(AND(JX36=\"\",JX37=\"Yes\"),\"--\",\"\"))))","v":""},"","","","","","","",{"$f":"IF(OR(KF36=\"No\",KF37=\"No\"),\"Fail\",IF(AND(KF36=\"Yes\",KF37=\"Yes\"),\"Pass\",IF(AND(KF36=\"Yes\",KF37=\"\"),\"Pass\",IF(AND(KF36=\"\",KF37=\"Yes\"),\"Pass\",\"\"))))","v":""},{"$f":"IF(OR(KG36=\"No\",KG37=\"No\"),\"Fail\",IF(AND(KG36=\"Yes\",KG37=\"Yes\"),\"Pass\",IF(AND(KG36=\"Yes\",KG37=\"\"),\"--\",IF(AND(KG36=\"\",KG37=\"Yes\"),\"--\",\"\"))))","v":""},"","","","","","","",{"$f":"IF(OR(KO36=\"No\",KO37=\"No\"),\"Fail\",IF(AND(KO36=\"Yes\",KO37=\"Yes\"),\"Pass\",IF(AND(KO36=\"Yes\",KO37=\"\"),\"Pass\",IF(AND(KO36=\"\",KO37=\"Yes\"),\"Pass\",\"\"))))","v":""},{"$f":"IF(OR(KP36=\"No\",KP37=\"No\"),\"Fail\",IF(AND(KP36=\"Yes\",KP37=\"Yes\"),\"Pass\",IF(AND(KP36=\"Yes\",KP37=\"\"),\"--\",IF(AND(KP36=\"\",KP37=\"Yes\"),\"--\",\"\"))))","v":""},"","","","","","","",{"$f":"IF(OR(KX36=\"No\",KX37=\"No\"),\"Fail\",IF(AND(KX36=\"Yes\",KX37=\"Yes\"),\"Pass\",IF(AND(KX36=\"Yes\",KX37=\"\"),\"Pass\",IF(AND(KX36=\"\",KX37=\"Yes\"),\"Pass\",\"\"))))","v":""},{"$f":"IF(OR(KY36=\"No\",KY37=\"No\"),\"Fail\",IF(AND(KY36=\"Yes\",KY37=\"Yes\"),\"Pass\",IF(AND(KY36=\"Yes\",KY37=\"\"),\"--\",IF(AND(KY36=\"\",KY37=\"Yes\"),\"--\",\"\"))))","v":""},"","","","","","","",{"$f":"IF(OR(LG36=\"No\",LG37=\"No\"),\"Fail\",IF(AND(LG36=\"Yes\",LG37=\"Yes\"),\"Pass\",IF(AND(LG36=\"Yes\",LG37=\"\"),\"Pass\",IF(AND(LG36=\"\",LG37=\"Yes\"),\"Pass\",\"\"))))","v":""},{"$f":"IF(OR(LH36=\"No\",LH37=\"No\"),\"Fail\",IF(AND(LH36=\"Yes\",LH37=\"Yes\"),\"Pass\",IF(AND(LH36=\"Yes\",LH37=\"\"),\"--\",IF(AND(LH36=\"\",LH37=\"Yes\"),\"--\",\"\"))))","v":""},"","","","","",{"$f":"IF(OR(LN36=\"No\",LN37=\"No\"),\"Fail\",IF(AND(LN36=\"Yes\",LN37=\"Yes\"),\"Pass\",IF(AND(LN36=\"Yes\",LN37=\"\"),\"--\",IF(AND(LN36=\"\",LN37=\"Yes\"),\"--\",\"\"))))","v":""},"",{"$f":"IF(OR(LP36=\"No\",LP37=\"No\"),\"Fail\",IF(AND(LP36=\"Yes\",LP37=\"Yes\"),\"Pass\",IF(AND(LP36=\"Yes\",LP37=\"\"),\"Pass\",IF(AND(LP36=\"\",LP37=\"Yes\"),\"Pass\",\"\"))))","v":""},{"$f":"IF(OR(LQ36=\"No\",LQ37=\"No\"),\"Fail\",IF(AND(LQ36=\"Yes\",LQ37=\"Yes\"),\"Pass\",IF(AND(LQ36=\"Yes\",LQ37=\"\"),\"--\",IF(AND(LQ36=\"\",LQ37=\"Yes\"),\"--\",\"\"))))","v":""},"","","","","","","",{"$f":"IF(OR(LY36=\"No\",LY37=\"No\"),\"Fail\",IF(AND(LY36=\"Yes\",LY37=\"Yes\"),\"Pass\",IF(AND(LY36=\"Yes\",LY37=\"\"),\"Pass\",IF(AND(LY36=\"\",LY37=\"Yes\"),\"Pass\",\"\"))))","v":""},{"$f":"IF(OR(LZ36=\"No\",LZ37=\"No\"),\"Fail\",IF(AND(LZ36=\"Yes\",LZ37=\"Yes\"),\"Pass\",IF(AND(LZ36=\"Yes\",LZ37=\"\"),\"--\",IF(AND(LZ36=\"\",LZ37=\"Yes\"),\"--\",\"\"))))","v":""},"","","","","","","",{"$f":"IF(OR(MH36=\"No\",MH37=\"No\"),\"Fail\",IF(AND(MH36=\"Yes\",MH37=\"Yes\"),\"Pass\",IF(AND(MH36=\"Yes\",MH37=\"\"),\"Pass\",IF(AND(MH36=\"\",MH37=\"Yes\"),\"Pass\",\"\"))))","v":""},{"$f":"IF(OR(MI36=\"No\",MI37=\"No\"),\"Fail\",IF(AND(MI36=\"Yes\",MI37=\"Yes\"),\"Pass\",IF(AND(MI36=\"Yes\",MI37=\"\"),\"--\",IF(AND(MI36=\"\",MI37=\"Yes\"),\"--\",\"\"))))","v":""},"","","","","","","",{"$f":"IF(OR(MQ36=\"No\",MQ37=\"No\"),\"Fail\",IF(AND(MQ36=\"Yes\",MQ37=\"Yes\"),\"Pass\",IF(AND(MQ36=\"Yes\",MQ37=\"\"),\"Pass\",IF(AND(MQ36=\"\",MQ37=\"Yes\"),\"Pass\",\"\"))))","v":""},{"$f":"IF(OR(MR36=\"No\",MR37=\"No\"),\"Fail\",IF(AND(MR36=\"Yes\",MR37=\"Yes\"),\"Pass\",IF(AND(MR36=\"Yes\",MR37=\"\"),\"--\",IF(AND(MR36=\"\",MR37=\"Yes\"),\"--\",\"\"))))","v":""},"","","","","","","",{"$f":"IF(OR(MZ36=\"No\",MZ37=\"No\"),\"Fail\",IF(AND(MZ36=\"Yes\",MZ37=\"Yes\"),\"Pass\",IF(AND(MZ36=\"Yes\",MZ37=\"\"),\"Pass\",IF(AND(MZ36=\"\",MZ37=\"Yes\"),\"Pass\",\"\"))))","v":""},{"$f":"IF(OR(NA36=\"No\",NA37=\"No\"),\"Fail\",IF(AND(NA36=\"Yes\",NA37=\"Yes\"),\"Pass\",IF(AND(NA36=\"Yes\",NA37=\"\"),\"--\",IF(AND(NA36=\"\",NA37=\"Yes\"),\"--\",\"\"))))","v":""},"","","","","","","",{"$f":"IF(OR(NI36=\"No\",NI37=\"No\"),\"Fail\",IF(AND(NI36=\"Yes\",NI37=\"Yes\"),\"Pass\",IF(AND(NI36=\"Yes\",NI37=\"\"),\"Pass\",IF(AND(NI36=\"\",NI37=\"Yes\"),\"Pass\",\"\"))))","v":""},{"$f":"IF(OR(NJ36=\"No\",NJ37=\"No\"),\"Fail\",IF(AND(NJ36=\"Yes\",NJ37=\"Yes\"),\"Pass\",IF(AND(NJ36=\"Yes\",NJ37=\"\"),\"--\",IF(AND(NJ36=\"\",NJ37=\"Yes\"),\"--\",\"\"))))","v":""},"","","","","","","",{"$f":"IF(OR(NR36=\"No\",NR37=\"No\"),\"Fail\",IF(AND(NR36=\"Yes\",NR37=\"Yes\"),\"Pass\",IF(AND(NR36=\"Yes\",NR37=\"\"),\"Pass\",IF(AND(NR36=\"\",NR37=\"Yes\"),\"Pass\",\"\"))))","v":""},{"$f":"IF(OR(NS36=\"No\",NS37=\"No\"),\"Fail\",IF(AND(NS36=\"Yes\",NS37=\"Yes\"),\"Pass\",IF(AND(NS36=\"Yes\",NS37=\"\"),\"--\",IF(AND(NS36=\"\",NS37=\"Yes\"),\"--\",\"\"))))","v":""},"","","","","","",{"$f":"IF(OR(NZ36=\"No\",NZ37=\"No\"),\"Fail\",IF(AND(NZ36=\"Yes\",NZ37=\"Yes\"),\"Pass\",IF(AND(NZ36=\"Yes\",NZ37=\"\"),\"--\",IF(AND(NZ36=\"\",NZ37=\"Yes\"),\"--\",\"\"))))","v":""},{"$f":"IF(OR(OA36=\"No\",OA37=\"No\"),\"Fail\",IF(AND(OA36=\"Yes\",OA37=\"Yes\"),\"Pass\",IF(AND(OA36=\"Yes\",OA37=\"\"),\"Pass\",IF(AND(OA36=\"\",OA37=\"Yes\"),\"Pass\",\"\"))))","v":""},{"$f":"IF(OR(OB36=\"No\",OB37=\"No\"),\"Fail\",IF(AND(OB36=\"Yes\",OB37=\"Yes\"),\"Pass\",IF(AND(OB36=\"Yes\",OB37=\"\"),\"--\",IF(AND(OB36=\"\",OB37=\"Yes\"),\"--\",\"\"))))","v":""},"","","","","","","",{"$f":"IF(OR(OJ36=\"No\",OJ37=\"No\"),\"Fail\",IF(AND(OJ36=\"Yes\",OJ37=\"Yes\"),\"Pass\",IF(AND(OJ36=\"Yes\",OJ37=\"\"),\"Pass\",IF(AND(OJ36=\"\",OJ37=\"Yes\"),\"Pass\",\"\"))))","v":""},{"$f":"IF(OR(OK36=\"No\",OK37=\"No\"),\"Fail\",IF(AND(OK36=\"Yes\",OK37=\"Yes\"),\"Pass\",IF(AND(OK36=\"Yes\",OK37=\"\"),\"--\",IF(AND(OK36=\"\",OK37=\"Yes\"),\"--\",\"\"))))","v":""},"","","","","","","",{"$f":"IF(OR(OS36=\"No\",OS37=\"No\"),\"Fail\",IF(AND(OS36=\"Yes\",OS37=\"Yes\"),\"Pass\",IF(AND(OS36=\"Yes\",OS37=\"\"),\"Pass\",IF(AND(OS36=\"\",OS37=\"Yes\"),\"Pass\",\"\"))))","v":""},{"$f":"IF(OR(OT36=\"No\",OT37=\"No\"),\"Fail\",IF(AND(OT36=\"Yes\",OT37=\"Yes\"),\"Pass\",IF(AND(OT36=\"Yes\",OT37=\"\"),\"--\",IF(AND(OT36=\"\",OT37=\"Yes\"),\"--\",\"\"))))","v":""},"","","","","","","",{"$f":"IF(OR(PB36=\"No\",PB37=\"No\"),\"Fail\",IF(AND(PB36=\"Yes\",PB37=\"Yes\"),\"Pass\",IF(AND(PB36=\"Yes\",PB37=\"\"),\"Pass\",IF(AND(PB36=\"\",PB37=\"Yes\"),\"Pass\",\"\"))))","v":""},{"$f":"IF(OR(PC36=\"No\",PC37=\"No\"),\"Fail\",IF(AND(PC36=\"Yes\",PC37=\"Yes\"),\"Pass\",IF(AND(PC36=\"Yes\",PC37=\"\"),\"--\",IF(AND(PC36=\"\",PC37=\"Yes\"),\"--\",\"\"))))","v":""},"","","","","","","",{"$f":"IF(OR(PK36=\"No\",PK37=\"No\"),\"Fail\",IF(AND(PK36=\"Yes\",PK37=\"Yes\"),\"Pass\",IF(AND(PK36=\"Yes\",PK37=\"\"),\"Pass\",IF(AND(PK36=\"\",PK37=\"Yes\"),\"Pass\",\"\"))))","v":""},{"$f":"IF(OR(PL36=\"No\",PL37=\"No\"),\"Fail\",IF(AND(PL36=\"Yes\",PL37=\"Yes\"),\"Pass\",IF(AND(PL36=\"Yes\",PL37=\"\"),\"--\",IF(AND(PL36=\"\",PL37=\"Yes\"),\"--\",\"\"))))","v":""},"","","","","","","",{"$f":"IF(OR(PT36=\"No\",PT37=\"No\"),\"Fail\",IF(AND(PT36=\"Yes\",PT37=\"Yes\"),\"Pass\",IF(AND(PT36=\"Yes\",PT37=\"\"),\"Pass\",IF(AND(PT36=\"\",PT37=\"Yes\"),\"Pass\",\"\"))))","v":""},{"$f":"IF(OR(PU36=\"No\",PU37=\"No\"),\"Fail\",IF(AND(PU36=\"Yes\",PU37=\"Yes\"),\"Pass\",IF(AND(PU36=\"Yes\",PU37=\"\"),\"--\",IF(AND(PU36=\"\",PU37=\"Yes\"),\"--\",\"\"))))","v":""},"","","","","","","",{"$f":"IF(OR(QC36=\"No\",QC37=\"No\"),\"Fail\",IF(AND(QC36=\"Yes\",QC37=\"Yes\"),\"Pass\",IF(AND(QC36=\"Yes\",QC37=\"\"),\"Pass\",IF(AND(QC36=\"\",QC37=\"Yes\"),\"Pass\",\"\"))))","v":""},{"$f":"IF(OR(QD36=\"No\",QD37=\"No\"),\"Fail\",IF(AND(QD36=\"Yes\",QD37=\"Yes\"),\"Pass\",IF(AND(QD36=\"Yes\",QD37=\"\"),\"--\",IF(AND(QD36=\"\",QD37=\"Yes\"),\"--\",\"\"))))","v":""},"","","","","","","",{"$f":"IF(OR(QL36=\"No\",QL37=\"No\"),\"Fail\",IF(AND(QL36=\"Yes\",QL37=\"Yes\"),\"Pass\",IF(AND(QL36=\"Yes\",QL37=\"\"),\"Pass\",IF(AND(QL36=\"\",QL37=\"Yes\"),\"Pass\",\"\"))))","v":""},{"$f":"IF(OR(QM36=\"No\",QM37=\"No\"),\"Fail\",IF(AND(QM36=\"Yes\",QM37=\"Yes\"),\"Pass\",IF(AND(QM36=\"Yes\",QM37=\"\"),\"--\",IF(AND(QM36=\"\",QM37=\"Yes\"),\"--\",\"\"))))","v":""},"","","","","","","",{"$f":"IF(OR(QU36=\"No\",QU37=\"No\"),\"Fail\",IF(AND(QU36=\"Yes\",QU37=\"Yes\"),\"Pass\",IF(AND(QU36=\"Yes\",QU37=\"\"),\"Pass\",IF(AND(QU36=\"\",QU37=\"Yes\"),\"Pass\",\"\"))))","v":""},{"$f":"IF(OR(QV36=\"No\",QV37=\"No\"),\"Fail\",IF(AND(QV36=\"Yes\",QV37=\"Yes\"),\"Pass\",IF(AND(QV36=\"Yes\",QV37=\"\"),\"--\",IF(AND(QV36=\"\",QV37=\"Yes\"),\"--\",\"\"))))","v":""},"","","","","","","",{"$f":"IF(OR(RD36=\"No\",RD37=\"No\"),\"Fail\",IF(AND(RD36=\"Yes\",RD37=\"Yes\"),\"Pass\",IF(AND(RD36=\"Yes\",RD37=\"\"),\"Pass\",IF(AND(RD36=\"\",RD37=\"Yes\"),\"Pass\",\"\"))))","v":""},{"$f":"IF(OR(RE36=\"No\",RE37=\"No\"),\"Fail\",IF(AND(RE36=\"Yes\",RE37=\"Yes\"),\"Pass\",IF(AND(RE36=\"Yes\",RE37=\"\"),\"--\",IF(AND(RE36=\"\",RE37=\"Yes\"),\"--\",\"\"))))","v":""},"","","","","","","",{"$f":"IF(OR(RM36=\"No\",RM37=\"No\"),\"Fail\",IF(AND(RM36=\"Yes\",RM37=\"Yes\"),\"Pass\",IF(AND(RM36=\"Yes\",RM37=\"\"),\"Pass\",IF(AND(RM36=\"\",RM37=\"Yes\"),\"Pass\",\"\"))))","v":""},{"$f":"IF(OR(RN36=\"No\",RN37=\"No\"),\"Fail\",IF(AND(RN36=\"Yes\",RN37=\"Yes\"),\"Pass\",IF(AND(RN36=\"Yes\",RN37=\"\"),\"--\",IF(AND(RN36=\"\",RN37=\"Yes\"),\"--\",\"\"))))","v":""},"","","","","","","",{"$f":"IF(OR(RV36=\"No\",RV37=\"No\"),\"Fail\",IF(AND(RV36=\"Yes\",RV37=\"Yes\"),\"Pass\",IF(AND(RV36=\"Yes\",RV37=\"\"),\"Pass\",IF(AND(RV36=\"\",RV37=\"Yes\"),\"Pass\",\"\"))))","v":""},{"$f":"IF(OR(RW36=\"No\",RW37=\"No\"),\"Fail\",IF(AND(RW36=\"Yes\",RW37=\"Yes\"),\"Pass\",IF(AND(RW36=\"Yes\",RW37=\"\"),\"--\",IF(AND(RW36=\"\",RW37=\"Yes\"),\"--\",\"\"))))","v":""},"","","","","","","",{"$f":"IF(OR(SE36=\"No\",SE37=\"No\"),\"Fail\",IF(AND(SE36=\"Yes\",SE37=\"Yes\"),\"Pass\",IF(AND(SE36=\"Yes\",SE37=\"\"),\"Pass\",IF(AND(SE36=\"\",SE37=\"Yes\"),\"Pass\",\"\"))))","v":""},{"$f":"IF(OR(SF36=\"No\",SF37=\"No\"),\"Fail\",IF(AND(SF36=\"Yes\",SF37=\"Yes\"),\"Pass\",IF(AND(SF36=\"Yes\",SF37=\"\"),\"--\",IF(AND(SF36=\"\",SF37=\"Yes\"),\"--\",\"\"))))","v":""},"","","","","","","",{"$f":"IF(OR(SN36=\"No\",SN37=\"No\"),\"Fail\",IF(AND(SN36=\"Yes\",SN37=\"Yes\"),\"Pass\",IF(AND(SN36=\"Yes\",SN37=\"\"),\"Pass\",IF(AND(SN36=\"\",SN37=\"Yes\"),\"Pass\",\"\"))))","v":""},{"$f":"IF(OR(SO36=\"No\",SO37=\"No\"),\"Fail\",IF(AND(SO36=\"Yes\",SO37=\"Yes\"),\"Pass\",IF(AND(SO36=\"Yes\",SO37=\"\"),\"--\",IF(AND(SO36=\"\",SO37=\"Yes\"),\"--\",\"\"))))","v":""},"","","","","","","",{"$f":"IF(OR(SW36=\"No\",SW37=\"No\"),\"Fail\",IF(AND(SW36=\"Yes\",SW37=\"Yes\"),\"Pass\",IF(AND(SW36=\"Yes\",SW37=\"\"),\"Pass\",IF(AND(SW36=\"\",SW37=\"Yes\"),\"Pass\",\"\"))))","v":""},{"$f":"IF(OR(SX36=\"No\",SX37=\"No\"),\"Fail\",IF(AND(SX36=\"Yes\",SX37=\"Yes\"),\"Pass\",IF(AND(SX36=\"Yes\",SX37=\"\"),\"--\",IF(AND(SX36=\"\",SX37=\"Yes\"),\"--\",\"\"))))","v":""},"","","","","","","",{"$f":"IF(OR(TF36=\"No\",TF37=\"No\"),\"Fail\",IF(AND(TF36=\"Yes\",TF37=\"Yes\"),\"Pass\",IF(AND(TF36=\"Yes\",TF37=\"\"),\"Pass\",IF(AND(TF36=\"\",TF37=\"Yes\"),\"Pass\",\"\"))))","v":""},{"$f":"IF(OR(TG36=\"No\",TG37=\"No\"),\"Fail\",IF(AND(TG36=\"Yes\",TG37=\"Yes\"),\"Pass\",IF(AND(TG36=\"Yes\",TG37=\"\"),\"--\",IF(AND(TG36=\"\",TG37=\"Yes\"),\"--\",\"\"))))","v":""},"","","","","","","",{"$f":"IF(OR(TO36=\"No\",TO37=\"No\"),\"Fail\",IF(AND(TO36=\"Yes\",TO37=\"Yes\"),\"Pass\",IF(AND(TO36=\"Yes\",TO37=\"\"),\"Pass\",IF(AND(TO36=\"\",TO37=\"Yes\"),\"Pass\",\"\"))))","v":""},{"$f":"IF(OR(TP36=\"No\",TP37=\"No\"),\"Fail\",IF(AND(TP36=\"Yes\",TP37=\"Yes\"),\"Pass\",IF(AND(TP36=\"Yes\",TP37=\"\"),\"--\",IF(AND(TP36=\"\",TP37=\"Yes\"),\"--\",\"\"))))","v":""},"","","","","","","",{"$f":"IF(OR(TX36=\"No\",TX37=\"No\"),\"Fail\",IF(AND(TX36=\"Yes\",TX37=\"Yes\"),\"Pass\",IF(AND(TX36=\"Yes\",TX37=\"\"),\"Pass\",IF(AND(TX36=\"\",TX37=\"Yes\"),\"Pass\",\"\"))))","v":""},{"$f":"IF(OR(TY36=\"No\",TY37=\"No\"),\"Fail\",IF(AND(TY36=\"Yes\",TY37=\"Yes\"),\"Pass\",IF(AND(TY36=\"Yes\",TY37=\"\"),\"--\",IF(AND(TY36=\"\",TY37=\"Yes\"),\"--\",\"\"))))","v":""},"","","","","","","",{"$f":"IF(OR(UG36=\"No\",UG37=\"No\"),\"Fail\",IF(AND(UG36=\"Yes\",UG37=\"Yes\"),\"Pass\",IF(AND(UG36=\"Yes\",UG37=\"\"),\"Pass\",IF(AND(UG36=\"\",UG37=\"Yes\"),\"Pass\",\"\"))))","v":""},{"$f":"IF(OR(UH36=\"No\",UH37=\"No\"),\"Fail\",IF(AND(UH36=\"Yes\",UH37=\"Yes\"),\"Pass\",IF(AND(UH36=\"Yes\",UH37=\"\"),\"--\",IF(AND(UH36=\"\",UH37=\"Yes\"),\"--\",\"\"))))","v":""},"","","","","","","",{"$f":"IF(OR(UP36=\"No\",UP37=\"No\"),\"Fail\",IF(AND(UP36=\"Yes\",UP37=\"Yes\"),\"Pass\",IF(AND(UP36=\"Yes\",UP37=\"\"),\"Pass\",IF(AND(UP36=\"\",UP37=\"Yes\"),\"Pass\",\"\"))))","v":""},{"$f":"IF(OR(UQ36=\"No\",UQ37=\"No\"),\"Fail\",IF(AND(UQ36=\"Yes\",UQ37=\"Yes\"),\"Pass\",IF(AND(UQ36=\"Yes\",UQ37=\"\"),\"--\",IF(AND(UQ36=\"\",UQ37=\"Yes\"),\"--\",\"\"))))","v":""},"","","","","","","",{"$f":"IF(OR(UY36=\"No\",UY37=\"No\"),\"Fail\",IF(AND(UY36=\"Yes\",UY37=\"Yes\"),\"Pass\",IF(AND(UY36=\"Yes\",UY37=\"\"),\"Pass\",IF(AND(UY36=\"\",UY37=\"Yes\"),\"Pass\",\"\"))))","v":""},{"$f":"IF(OR(UZ36=\"No\",UZ37=\"No\"),\"Fail\",IF(AND(UZ36=\"Yes\",UZ37=\"Yes\"),\"Pass\",IF(AND(UZ36=\"Yes\",UZ37=\"\"),\"--\",IF(AND(UZ36=\"\",UZ37=\"Yes\"),\"--\",\"\"))))","v":""},"","","","","","","",{"$f":"IF(OR(VH36=\"No\",VH37=\"No\"),\"Fail\",IF(AND(VH36=\"Yes\",VH37=\"Yes\"),\"Pass\",IF(AND(VH36=\"Yes\",VH37=\"\"),\"Pass\",IF(AND(VH36=\"\",VH37=\"Yes\"),\"Pass\",\"\"))))","v":""},{"$f":"IF(OR(VI36=\"No\",VI37=\"No\"),\"Fail\",IF(AND(VI36=\"Yes\",VI37=\"Yes\"),\"Pass\",IF(AND(VI36=\"Yes\",VI37=\"\"),\"--\",IF(AND(VI36=\"\",VI37=\"Yes\"),\"--\",\"\"))))","v":""},"","","","","","","",{"$f":"IF(OR(VQ36=\"No\",VQ37=\"No\"),\"Fail\",IF(AND(VQ36=\"Yes\",VQ37=\"Yes\"),\"Pass\",IF(AND(VQ36=\"Yes\",VQ37=\"\"),\"Pass\",IF(AND(VQ36=\"\",VQ37=\"Yes\"),\"Pass\",\"\"))))","v":""},{"$f":"IF(OR(VR36=\"No\",VR37=\"No\"),\"Fail\",IF(AND(VR36=\"Yes\",VR37=\"Yes\"),\"Pass\",IF(AND(VR36=\"Yes\",VR37=\"\"),\"--\",IF(AND(VR36=\"\",VR37=\"Yes\"),\"--\",\"\"))))","v":""},"","","","","","","",{"$f":"IF(OR(VZ36=\"No\",VZ37=\"No\"),\"Fail\",IF(AND(VZ36=\"Yes\",VZ37=\"Yes\"),\"Pass\",IF(AND(VZ36=\"Yes\",VZ37=\"\"),\"Pass\",IF(AND(VZ36=\"\",VZ37=\"Yes\"),\"Pass\",\"\"))))","v":""},{"$f":"IF(OR(WA36=\"No\",WA37=\"No\"),\"Fail\",IF(AND(WA36=\"Yes\",WA37=\"Yes\"),\"Pass\",IF(AND(WA36=\"Yes\",WA37=\"\"),\"--\",IF(AND(WA36=\"\",WA37=\"Yes\"),\"--\",\"\"))))","v":""},"","","","","","","",{"$f":"IF(OR(WI36=\"No\",WI37=\"No\"),\"Fail\",IF(AND(WI36=\"Yes\",WI37=\"Yes\"),\"Pass\",IF(AND(WI36=\"Yes\",WI37=\"\"),\"Pass\",IF(AND(WI36=\"\",WI37=\"Yes\"),\"Pass\",\"\"))))","v":""},{"$f":"IF(OR(WJ36=\"No\",WJ37=\"No\"),\"Fail\",IF(AND(WJ36=\"Yes\",WJ37=\"Yes\"),\"Pass\",IF(AND(WJ36=\"Yes\",WJ37=\"\"),\"--\",IF(AND(WJ36=\"\",WJ37=\"Yes\"),\"--\",\"\"))))","v":""},"","","","","","","",{"$f":"IF(OR(WR36=\"No\",WR37=\"No\"),\"Fail\",IF(AND(WR36=\"Yes\",WR37=\"Yes\"),\"Pass\",IF(AND(WR36=\"Yes\",WR37=\"\"),\"Pass\",IF(AND(WR36=\"\",WR37=\"Yes\"),\"Pass\",\"\"))))","v":""},{"$f":"IF(OR(WS36=\"No\",WS37=\"No\"),\"Fail\",IF(AND(WS36=\"Yes\",WS37=\"Yes\"),\"Pass\",IF(AND(WS36=\"Yes\",WS37=\"\"),\"--\",IF(AND(WS36=\"\",WS37=\"Yes\"),\"--\",\"\"))))","v":""},"","","","","","","",{"$f":"IF(OR(XA36=\"No\",XA37=\"No\"),\"Fail\",IF(AND(XA36=\"Yes\",XA37=\"Yes\"),\"Pass\",IF(AND(XA36=\"Yes\",XA37=\"\"),\"Pass\",IF(AND(XA36=\"\",XA37=\"Yes\"),\"Pass\",\"\"))))","v":""},{"$f":"IF(OR(XB36=\"No\",XB37=\"No\"),\"Fail\",IF(AND(XB36=\"Yes\",XB37=\"Yes\"),\"Pass\",IF(AND(XB36=\"Yes\",XB37=\"\"),\"--\",IF(AND(XB36=\"\",XB37=\"Yes\"),\"--\",\"\"))))","v":""},"","","","","","","",{"$f":"IF(OR(XJ36=\"No\",XJ37=\"No\"),\"Fail\",IF(AND(XJ36=\"Yes\",XJ37=\"Yes\"),\"Pass\",IF(AND(XJ36=\"Yes\",XJ37=\"\"),\"Pass\",IF(AND(XJ36=\"\",XJ37=\"Yes\"),\"Pass\",\"\"))))","v":""},{"$f":"IF(OR(XK36=\"No\",XK37=\"No\"),\"Fail\",IF(AND(XK36=\"Yes\",XK37=\"Yes\"),\"Pass\",IF(AND(XK36=\"Yes\",XK37=\"\"),\"--\",IF(AND(XK36=\"\",XK37=\"Yes\"),\"--\",\"\"))))","v":""},"","","","","","","",{"$f":"IF(OR(XS36=\"No\",XS37=\"No\"),\"Fail\",IF(AND(XS36=\"Yes\",XS37=\"Yes\"),\"Pass\",IF(AND(XS36=\"Yes\",XS37=\"\"),\"Pass\",IF(AND(XS36=\"\",XS37=\"Yes\"),\"Pass\",\"\"))))","v":""},{"$f":"IF(OR(XT36=\"No\",XT37=\"No\"),\"Fail\",IF(AND(XT36=\"Yes\",XT37=\"Yes\"),\"Pass\",IF(AND(XT36=\"Yes\",XT37=\"\"),\"--\",IF(AND(XT36=\"\",XT37=\"Yes\"),\"--\",\"\"))))","v":""},"","","","","","","",{"$f":"IF(OR(YB36=\"No\",YB37=\"No\"),\"Fail\",IF(AND(YB36=\"Yes\",YB37=\"Yes\"),\"Pass\",IF(AND(YB36=\"Yes\",YB37=\"\"),\"Pass\",IF(AND(YB36=\"\",YB37=\"Yes\"),\"Pass\",\"\"))))","v":""},{"$f":"IF(OR(YC36=\"No\",YC37=\"No\"),\"Fail\",IF(AND(YC36=\"Yes\",YC37=\"Yes\"),\"Pass\",IF(AND(YC36=\"Yes\",YC37=\"\"),\"--\",IF(AND(YC36=\"\",YC37=\"Yes\"),\"--\",\"\"))))","v":""},"","","","","","","",{"$f":"IF(OR(YK36=\"No\",YK37=\"No\"),\"Fail\",IF(AND(YK36=\"Yes\",YK37=\"Yes\"),\"Pass\",IF(AND(YK36=\"Yes\",YK37=\"\"),\"Pass\",IF(AND(YK36=\"\",YK37=\"Yes\"),\"Pass\",\"\"))))","v":""},{"$f":"IF(OR(YL36=\"No\",YL37=\"No\"),\"Fail\",IF(AND(YL36=\"Yes\",YL37=\"Yes\"),\"Pass\",IF(AND(YL36=\"Yes\",YL37=\"\"),\"--\",IF(AND(YL36=\"\",YL37=\"Yes\"),\"--\",\"\"))))","v":""},"","","","","","","",{"$f":"IF(OR(YT36=\"No\",YT37=\"No\"),\"Fail\",IF(AND(YT36=\"Yes\",YT37=\"Yes\"),\"Pass\",IF(AND(YT36=\"Yes\",YT37=\"\"),\"Pass\",IF(AND(YT36=\"\",YT37=\"Yes\"),\"Pass\",\"\"))))","v":""},{"$f":"IF(OR(YU36=\"No\",YU37=\"No\"),\"Fail\",IF(AND(YU36=\"Yes\",YU37=\"Yes\"),\"Pass\",IF(AND(YU36=\"Yes\",YU37=\"\"),\"--\",IF(AND(YU36=\"\",YU37=\"Yes\"),\"--\",\"\"))))","v":""},"","","","","","","",{"$f":"IF(OR(ZC36=\"No\",ZC37=\"No\"),\"Fail\",IF(AND(ZC36=\"Yes\",ZC37=\"Yes\"),\"Pass\",IF(AND(ZC36=\"Yes\",ZC37=\"\"),\"Pass\",IF(AND(ZC36=\"\",ZC37=\"Yes\"),\"Pass\",\"\"))))","v":""},{"$f":"IF(OR(ZD36=\"No\",ZD37=\"No\"),\"Fail\",IF(AND(ZD36=\"Yes\",ZD37=\"Yes\"),\"Pass\",IF(AND(ZD36=\"Yes\",ZD37=\"\"),\"--\",IF(AND(ZD36=\"\",ZD37=\"Yes\"),\"--\",\"\"))))","v":""},"","","","","","","",{"$f":"IF(OR(ZL36=\"No\",ZL37=\"No\"),\"Fail\",IF(AND(ZL36=\"Yes\",ZL37=\"Yes\"),\"Pass\",IF(AND(ZL36=\"Yes\",ZL37=\"\"),\"Pass\",IF(AND(ZL36=\"\",ZL37=\"Yes\"),\"Pass\",\"\"))))","v":""},{"$f":"IF(OR(ZM36=\"No\",ZM37=\"No\"),\"Fail\",IF(AND(ZM36=\"Yes\",ZM37=\"Yes\"),\"Pass\",IF(AND(ZM36=\"Yes\",ZM37=\"\"),\"--\",IF(AND(ZM36=\"\",ZM37=\"Yes\"),\"--\",\"\"))))","v":""},"","","","","","","",{"$f":"IF(OR(ZU36=\"No\",ZU37=\"No\"),\"Fail\",IF(AND(ZU36=\"Yes\",ZU37=\"Yes\"),\"Pass\",IF(AND(ZU36=\"Yes\",ZU37=\"\"),\"Pass\",IF(AND(ZU36=\"\",ZU37=\"Yes\"),\"Pass\",\"\"))))","v":""},{"$f":"IF(OR(ZV36=\"No\",ZV37=\"No\"),\"Fail\",IF(AND(ZV36=\"Yes\",ZV37=\"Yes\"),\"Pass\",IF(AND(ZV36=\"Yes\",ZV37=\"\"),\"--\",IF(AND(ZV36=\"\",ZV37=\"Yes\"),\"--\",\"\"))))","v":""},"","","","","","","",{"$f":"IF(OR(AAD36=\"No\",AAD37=\"No\"),\"Fail\",IF(AND(AAD36=\"Yes\",AAD37=\"Yes\"),\"Pass\",IF(AND(AAD36=\"Yes\",AAD37=\"\"),\"Pass\",IF(AND(AAD36=\"\",AAD37=\"Yes\"),\"Pass\",\"\"))))","v":""},{"$f":"IF(OR(AAE36=\"No\",AAE37=\"No\"),\"Fail\",IF(AND(AAE36=\"Yes\",AAE37=\"Yes\"),\"Pass\",IF(AND(AAE36=\"Yes\",AAE37=\"\"),\"--\",IF(AND(AAE36=\"\",AAE37=\"Yes\"),\"--\",\"\"))))","v":""},"","","","","","","",{"$f":"IF(OR(AAM36=\"No\",AAM37=\"No\"),\"Fail\",IF(AND(AAM36=\"Yes\",AAM37=\"Yes\"),\"Pass\",IF(AND(AAM36=\"Yes\",AAM37=\"\"),\"Pass\",IF(AND(AAM36=\"\",AAM37=\"Yes\"),\"Pass\",\"\"))))","v":""},{"$f":"IF(OR(AAN36=\"No\",AAN37=\"No\"),\"Fail\",IF(AND(AAN36=\"Yes\",AAN37=\"Yes\"),\"Pass\",IF(AND(AAN36=\"Yes\",AAN37=\"\"),\"--\",IF(AND(AAN36=\"\",AAN37=\"Yes\"),\"--\",\"\"))))","v":""},"","","","","","","",{"$f":"IF(OR(AAV36=\"No\",AAV37=\"No\"),\"Fail\",IF(AND(AAV36=\"Yes\",AAV37=\"Yes\"),\"Pass\",IF(AND(AAV36=\"Yes\",AAV37=\"\"),\"Pass\",IF(AND(AAV36=\"\",AAV37=\"Yes\"),\"Pass\",\"\"))))","v":""},{"$f":"IF(OR(AAW36=\"No\",AAW37=\"No\"),\"Fail\",IF(AND(AAW36=\"Yes\",AAW37=\"Yes\"),\"Pass\",IF(AND(AAW36=\"Yes\",AAW37=\"\"),\"--\",IF(AND(AAW36=\"\",AAW37=\"Yes\"),\"--\",\"\"))))","v":""},"","","","","","","",{"$f":"IF(OR(ABE36=\"No\",ABE37=\"No\"),\"Fail\",IF(AND(ABE36=\"Yes\",ABE37=\"Yes\"),\"Pass\",IF(AND(ABE36=\"Yes\",ABE37=\"\"),\"Pass\",IF(AND(ABE36=\"\",ABE37=\"Yes\"),\"Pass\",\"\"))))","v":""},{"$f":"IF(OR(ABF36=\"No\",ABF37=\"No\"),\"Fail\",IF(AND(ABF36=\"Yes\",ABF37=\"Yes\"),\"Pass\",IF(AND(ABF36=\"Yes\",ABF37=\"\"),\"--\",IF(AND(ABF36=\"\",ABF37=\"Yes\"),\"--\",\"\"))))","v":""},"","","","","","",""]
["  10.1  Complies With All Policies, Rules & Laws",null,{"$f":"IF((COUNTIF($E$36:$AY$36,\"Yes\")+COUNTIF($E$36:$AY$36,\"No\"))>0,IF(COUNTIF($E$36:$AY$36,\"No\")>0,\"Fail\",\"Pass\"),\"\")","v":""},{"$f":"IF((COUNTIF($E$36:$AY$36,\"Yes\")+COUNTIF($E$36:$AY$36,\"No\"))>0,IF(COUNTIF($E$36:$AY$36,\"No\")>0,\"Fail\",\"Pass\"),\"\")","v":""},{"$f":"IF(COUNTA('Cycle 1'!F130)<>0,'Cycle 1'!F130,\"\")","v":""},{"$f":"IF(COUNTA('Cycle 2'!$F130)<>0,'Cycle 2'!$F130,\"\")","v":""},{"$f":"IF(COUNTA('Cycle 3'!$F130)<>0,'Cycle 3'!$F130,\"\")","v":""},{"$f":"IF(COUNTA('Cycle 4'!$F130)<>0,'Cycle 4'!$F130,\"\")","v":""}]
["  10.2  Complies with State Board of Education Rule R277-530",null,{"$f":"IF((COUNTIF($E$37:$AY$37,\"Yes\")+COUNTIF($E$37:$AY$37,\"No\"))>0,IF(COUNTIF($E$37:$AY$37,\"No\")>0,\"Fail\",\"Pass\"),\"\")","v":""},{"$f":"IF((COUNTIF($E$37:$AY$37,\"Yes\")+COUNTIF($E$37:$AY$37,\"No\"))>0,IF(COUNTIF($E$37:$AY$37,\"No\")>0,\"Fail\",\"Pass\"),\"\")","v":""},{"$f":"IF(COUNTA('Cycle 1'!F133)<>0,'Cycle 1'!F133,\"\")","v":""},{"$f":"IF(COUNTA('Cycle 2'!$F133)<>0,'Cycle 2'!$F133,\"\")","v":""},{"$f":"IF(COUNTA('Cycle 3'!$F133)<>0,'Cycle 3'!$F133,\"\")","v":""},{"$f":"IF(COUNTA('Cycle 4'!$F133)<>0,'Cycle 4'!$F133,\"\")","v":""}]
["Observation Average:",null,{"$f":"IF(COUNT(C5:C6,C8,C10:C12,C15:C15,C17:C19,C21:C22,C24:C28,C31,C33:C34)<>0,AVERAGE(C5:C6,C8,C10:C12,C15:C15,C17:C19,C21:C22,C24:C28,C31,C33:C34),\"\")","v":""},{"$f":"IF(COUNT(C38)<>0,ROUND(AVERAGE(C38),0),\"\")","v":""},{"$f":"IF(COUNT(E5:E6,E8,E10:E12,E15:E15,E17:E19,E21:E22,E24:E28,E31,E33:E34)<>0,AVERAGE(E5:E6,E8,E10:E12,E15:E15,E17:E19,E21:E22,E24:E28,E31,E33:E34),\"\")","v":""},"","","","","","","","","","","","","","","","","","","","","","","","","","","","","","","","","","","","","","","","","","","","","","","","","","","","","","","","","","","","","","","","",{"$f":"IF(COUNT(BR5:BR6,BR8,BR10:BR12,BR15:BR15,BR17:BR19,BR21:BR22,BR24:BR28,BR31,BR33:BR34)<>0,AVERAGE(BR5:BR6,BR8,BR10:BR12,BR15:BR15,BR17:BR19,BR21:BR22,BR24:BR28,BR31,BR33:BR34),\"\")","v":""},"","","","","","","","","","","","","","","","","","","","","","","","","","","","","","","","","","","","","","","","","","","","","","","","","","","","","","","","","","","","","","","",{"$f":"IF(COUNT(ED5:ED6,ED8,ED10:ED12,ED15:ED15,ED17:ED19,ED21:ED22,ED24:ED28,ED31,ED33:ED34)<>0,AVERAGE(ED5:ED6,ED8,ED10:ED12,ED15:ED15,ED17:ED19,ED21:ED22,ED24:ED28,ED31,ED33:ED34),\"\")","v":""},"","","","","","","","","","","","","","","","","","","","","","","","","","","","","","","","","","","","","","","","","","","","","","","","","","","","","","","","","","","","","","","",{"$f":"IF(COUNT(GP5:GP6,GP8,GP10:GP12,GP15:GP15,GP17:GP19,GP21:GP22,GP24:GP28,GP31,GP33:GP34)<>0,AVERAGE(GP5:GP6,GP8,GP10:GP12,GP15:GP15,GP17:GP19,GP21:GP22,GP24:GP28,GP31,GP33:GP34),\"\")","v":""},"","","","","","","","","","","","","","","","","","","","","","","","","","","","","","","","","","","","","","","","","","","","","","","","","","","","","","","","","","","","","","","",{"$f":"IF(COUNT(JB5:JB6,JB8,JB10:JB12,JB15:JB15,JB17:JB19,JB21:JB22,JB24:JB28,JB31,JB33:JB34)<>0,AVERAGE(JB5:JB6,JB8,JB10:JB12,JB15:JB15,JB17:JB19,JB21:JB22,JB24:JB28,JB31,JB33:JB34),\"\")","v":""},"","","","","","","","","","","","","","","","","","","","","","","","","","","","","","","","","","","","","","","","","","","","","","","","","","","","","","","","","","","","","","","",{"$f":"IF(COUNT(LN5:LN6,LN8,LN10:LN12,LN15:LN15,LN17:LN19,LN21:LN22,LN24:LN28,LN31,LN33:LN34)<>0,AVERAGE(LN5:LN6,LN8,LN10:LN12,LN15:LN15,LN17:LN19,LN21:LN22,LN24:LN28,LN31,LN33:LN34),\"\")","v":""},"","","","","","","","","","","","","","","","","","","","","","","","","","","","","","","","","","","","","","","","","","","","","","","","","","","","","","","","","","","","","","","",{"$f":"IF(COUNT(NZ5:NZ6,NZ8,NZ10:NZ12,NZ15:NZ15,NZ17:NZ19,NZ21:NZ22,NZ24:NZ28,NZ31,NZ33:NZ34)<>0,AVERAGE(NZ5:NZ6,NZ8,NZ10:NZ12,NZ15:NZ15,NZ17:NZ19,NZ21:NZ22,NZ24:NZ28,NZ31,NZ33:NZ34),\"\")","v":""},"","","","","","","","","","","","","","","","","","","","","","","","","","","","","","","","","","","","","","","","","","","","","","","","","","","","","","","","","","","","","","","",{"$f":"IF(COUNT(QL5:QL6,QL8,QL10:QL12,QL15:QL15,QL17:QL19,QL21:QL22,QL24:QL28,QL31,QL33:QL34)<>0,AVERAGE(QL5:QL6,QL8,QL10:QL12,QL15:QL15,QL17:QL19,QL21:QL22,QL24:QL28,QL31,QL33:QL34),\"\")","v":""},"","","","","","","","","","","","","","","","","","","","","","","","","","","","","","","","","","","","","","","","","","","","","","","","","","","","","","","","","","","","","","","",{"$f":"IF(COUNT(SX5:SX6,SX8,SX10:SX12,SX15:SX15,SX17:SX19,SX21:SX22,SX24:SX28,SX31,SX33:SX34)<>0,AVERAGE(SX5:SX6,SX8,SX10:SX12,SX15:SX15,SX17:SX19,SX21:SX22,SX24:SX28,SX31,SX33:SX34),\"\")","v":""},"","","","","","","","","","","","","","","","","","","","","","","","","","","","","","","","","","","","","","","","","","","","","","","","","","","","","","","","","","","","","","","",{"$f":"IF(COUNT(VJ5:VJ6,VJ8,VJ10:VJ12,VJ15:VJ15,VJ17:VJ19,VJ21:VJ22,VJ24:VJ28,VJ31,VJ33:VJ34)<>0,AVERAGE(VJ5:VJ6,VJ8,VJ10:VJ12,VJ15:VJ15,VJ17:VJ19,VJ21:VJ22,VJ24:VJ28,VJ31,VJ33:VJ34),\"\")","v":""},"","","","","","","","","","","","","","","","","","","","","","","","","","","","","","","","","","","","","","","","","","","","","","","","","","","","","","","","","","","","","","","",{"$f":"IF(COUNT(XV5:XV6,XV8,XV10:XV12,XV15:XV15,XV17:XV19,XV21:XV22,XV24:XV28,XV31,XV33:XV34)<>0,AVERAGE(XV5:XV6,XV8,XV10:XV12,XV15:XV15,XV17:XV19,XV21:XV22,XV24:XV28,XV31,XV33:XV34),\"\")","v":""},"","","","","","","","","","","","","","","","","","","","","","","","","","","","","","","","","","","","","","","","","","","","",{"$f":"IF(COUNT(ZO5:ZO6,ZO8:ZO8,ZO10:ZO12,ZO15:ZO15,ZO17:ZO19,ZO21:ZO22,ZO24:ZO27,ZO31:ZO31,ZO33:ZO34,ZO36:ZO37)<>0,AVERAGE(ZO5:ZO6,ZO8:ZO8,ZO10:ZO12,ZO15:ZO15,ZO17:ZO19,ZO21:ZO22,ZO24:ZO27,ZO31:ZO31,ZO33:ZO34,ZO36:ZO37),\"\")","v":""},"","","","","","","","","","","","","","","","","","","","","","","","","","","","","","","",{"$f":"IF(COUNT(AAU5:AAU6,AAU8:AAU8,AAU10:AAU12,AAU15:AAU15,AAU17:AAU19,AAU21:AAU22,AAU24:AAU27,AAU31:AAU31,AAU33:AAU34,AAU36:AAU37)<>0,AVERAGE(AAU5:AAU6,AAU8:AAU8,AAU10:AAU12,AAU15:AAU15,AAU17:AAU19,AAU21:AAU22,AAU24:AAU27,AAU31:AAU31,AAU33:AAU34,AAU36:AAU37),\"\")","v":""},"","","","","","","","","","","","","","","","","",""]
["Overall Pass/Fail",null,null,null,{"$f":"IFERROR(IF(AND(E36=\"yes\",E37=\"yes\"),IF('Cycle 1'!$B$6=\"Practicum I\",IF(SUM('Summary Sheet'!E$5:E$6,'Summary Sheet'!E$8,'Summary Sheet'!E$10:E$12,'Summary Sheet'!E$15,'Summary Sheet'!E$17:E$19,'Summary Sheet'!E$21:E$22,'Summary Sheet'!E$24:E$28,'Summary Sheet'!E$31,'Summary Sheet'!E$33:E$34)>=16,\"Pass\",\"Fail\"),IF('Cycle 1'!$B$6=\"Practicum II\",IF(SUM('Summary Sheet'!E$5:E$6,'Summary Sheet'!E$8,'Summary Sheet'!E$10:E$12,'Summary Sheet'!E$15,'Summary Sheet'!E$17:E$19,'Summary Sheet'!E$21:E$22,'Summary Sheet'!E$24:E$28,'Summary Sheet'!E$31,'Summary Sheet'!E$33:E$34)>=32,\"Pass\",\"Fail\"),IF('Cycle 1'!$B$6=\"Student Teaching\",IF(SUM('Summary Sheet'!E$5:E$6,'Summary Sheet'!E$8,'Summary Sheet'!E$10:E$12,'Summary Sheet'!E$15,'Summary Sheet'!E$17:E$19,'Summary Sheet'!E$21:E$22,'Summary Sheet'!E$24:E$28,'Summary Sheet'!E$31,'Summary Sheet'!E$33:E$34)>=48,\"Pass\",\"Fail\"),IF('Cycle 1'!$B$6=\"Internship\",IF(SUM('Summary Sheet'!E$5:E$6,'Summary Sheet'!E$8,'Summary Sheet'!E$10:E$12,'Summary Sheet'!E$15,'Summary Sheet'!E$17:E$19,'Summary Sheet'!E$21:E$22,'Summary Sheet'!E$24:E$28,'Summary Sheet'!E$31,'Summary Sheet'!E$33:E$34)>=48,\"Pass\",\"Fail\"),\"--\")))),IF(AND(E36=\"\",E37=\"\"),\"--\",\"Fail\")),\"--\")","v":"--"},{"$f":"IFERROR(IF(AND(F36=\"yes\",F37=\"yes\"),IF('Cycle 2'!$B$6=\"Practicum I\",IF(SUM('Summary Sheet'!F$5:F$6,'Summary Sheet'!F$8,'Summary Sheet'!F$10:F$12,'Summary Sheet'!F$15,'Summary Sheet'!F$17:F$19,'Summary Sheet'!F$21:F$22,'Summary Sheet'!F$24:F$28,'Summary Sheet'!F$31,'Summary Sheet'!F$33:F$34)>=16,\"Pass\",\"Fail\"),IF('Cycle 2'!$B$6=\"Practicum II\",IF(SUM('Summary Sheet'!F$5:F$6,'Summary Sheet'!F$8,'Summary Sheet'!F$10:F$12,'Summary Sheet'!F$15,'Summary Sheet'!F$17:F$19,'Summary Sheet'!F$21:F$22,'Summary Sheet'!F$24:F$28,'Summary Sheet'!F$31,'Summary Sheet'!F$33:F$34)>=32,\"Pass\",\"Fail\"),IF('Cycle 1'!$B$6=\"Student Teaching\",IF(SUM('Summary Sheet'!F$5:F$6,'Summary Sheet'!F$8,'Summary Sheet'!F$10:F$12,'Summary Sheet'!F$15,'Summary Sheet'!F$17:F$19,'Summary Sheet'!F$21:F$22,'Summary Sheet'!F$24:F$28,'Summary Sheet'!F$31,'Summary Sheet'!F$33:F$34)>=48,\"Pass\",\"Fail\"),IF('Cycle 2'!$B$6=\"Internship\",IF(SUM('Summary Sheet'!F$5:F$6,'Summary Sheet'!F$8,'Summary Sheet'!F$10:F$12,'Summary Sheet'!F$15,'Summary Sheet'!F$17:F$19,'Summary Sheet'!F$21:F$22,'Summary Sheet'!F$24:F$28,'Summary Sheet'!F$31,'Summary Sheet'!F$33:F$34)>=48,\"Pass\",\"Fail\"),\"--\")))),IF(AND(F36=\"\",F37=\"\"),\"--\",\"Fail\")),\"--\")","v":"--"},{"$f":"IFERROR(IF(AND(G36=\"yes\",G37=\"yes\"),IF('Cycle 3'!$B$6=\"Practicum I\",IF(SUM('Summary Sheet'!G$5:G$6,'Summary Sheet'!G$8,'Summary Sheet'!G$10:G$12,'Summary Sheet'!G$15,'Summary Sheet'!G$17:G$19,'Summary Sheet'!G$21:G$22,'Summary Sheet'!G$24:G$28,'Summary Sheet'!G$31,'Summary Sheet'!G$33:G$34)>=16,\"Pass\",\"Fail\"),IF('Cycle 3'!$B$6=\"Practicum II\",IF(SUM('Summary Sheet'!G$5:G$6,'Summary Sheet'!G$8,'Summary Sheet'!G$10:G$12,'Summary Sheet'!G$15,'Summary Sheet'!G$17:G$19,'Summary Sheet'!G$21:G$22,'Summary Sheet'!G$24:G$28,'Summary Sheet'!G$31,'Summary Sheet'!G$33:G$34)>=32,\"Pass\",\"Fail\"),IF('Cycle 1'!$B$6=\"Student Teaching\",IF(SUM('Summary Sheet'!G$5:G$6,'Summary Sheet'!G$8,'Summary Sheet'!G$10:G$12,'Summary Sheet'!G$15,'Summary Sheet'!G$17:G$19,'Summary Sheet'!G$21:G$22,'Summary Sheet'!G$24:G$28,'Summary Sheet'!G$31,'Summary Sheet'!G$33:G$34)>=48,\"Pass\",\"Fail\"),IF('Cycle 3'!$B$6=\"Internship\",IF(SUM('Summary Sheet'!G$5:G$6,'Summary Sheet'!G$8,'Summary Sheet'!G$10:G$12,'Summary Sheet'!G$15,'Summary Sheet'!G$17:G$19,'Summary Sheet'!G$21:G$22,'Summary Sheet'!G$24:G$28,'Summary Sheet'!G$31,'Summary Sheet'!G$33:G$34)>=48,\"Pass\",\"Fail\"),\"--\")))),IF(AND(G36=\"\",G37=\"\"),\"--\",\"Fail\")),\"--\")","v":"--"},{"$f":"IFERROR(IF(AND(H36=\"yes\",H37=\"yes\"),IF('Cycle 4'!$B$6=\"Practicum I\",IF(SUM('Summary Sheet'!H$5:H$6,'Summary Sheet'!H$8,'Summary Sheet'!H$10:H$12,'Summary Sheet'!H$15,'Summary Sheet'!H$17:H$19,'Summary Sheet'!H$21:H$22,'Summary Sheet'!H$24:H$28,'Summary Sheet'!H$31,'Summary Sheet'!H$33:H$34)>=16,\"Pass\",\"Fail\"),IF('Cycle 4'!$B$6=\"Practicum II\",IF(SUM('Summary Sheet'!H$5:H$6,'Summary Sheet'!H$8,'Summary Sheet'!H$10:H$12,'Summary Sheet'!H$15,'Summary Sheet'!H$17:H$19,'Summary Sheet'!H$21:H$22,'Summary Sheet'!H$24:H$28,'Summary Sheet'!H$31,'Summary Sheet'!H$33:H$34)>=32,\"Pass\",\"Fail\"),IF('Cycle 1'!$B$6=\"Student Teaching\",IF(SUM('Summary Sheet'!H$5:H$6,'Summary Sheet'!H$8,'Summary Sheet'!H$10:H$12,'Summary Sheet'!H$15,'Summary Sheet'!H$17:H$19,'Summary Sheet'!H$21:H$22,'Summary Sheet'!H$24:H$28,'Summary Sheet'!H$31,'Summary Sheet'!H$33:H$34)>=48,\"Pass\",\"Fail\"),IF('Cycle 4'!$B$6=\"Internship\",IF(SUM('Summary Sheet'!H$5:H$6,'Summary Sheet'!H$8,'Summary Sheet'!H$10:H$12,'Summary Sheet'!H$15,'Summary Sheet'!H$17:H$19,'Summary Sheet'!H$21:H$22,'Summary Sheet'!H$24:H$28,'Summary Sheet'!H$31,'Summary Sheet'!H$33:H$34)>=48,\"Pass\",\"Fail\"),\"--\")))),IF(AND(H36=\"\",H37=\"\"),\"--\",\"Fail\")),\"--\")","v":"--"}]
["Total Observation Minutes:",null,{"$f":"IF(COUNT(E40:IV40)<>0,SUM(E40:IV40),\"\")","v":""},null,{"$f":"IF(COUNT('Cycle 1'!$B$9)<>0,'Cycle 1'!$B$9,\"\")","v":""},{"$f":"IF(COUNT('Cycle 2'!$B$9)<>0,'Cycle 2'!$B$9,\"\")","v":""},{"$f":"IF(COUNT('Cycle 3'!$B$9)<>0,'Cycle 3'!$B$9,\"\")","v":""},{"$f":"IF(COUNT('Cycle 4'!$B$9)<>0,'Cycle 4'!$B$9,\"\")","v":""}]
["   Total Debrief/Consultation Minutes:",null,{"$f":"IF(COUNT(E41:IV41)<>0,SUM(E41:IV41),\"\")","v":""},null,{"$f":"IF(COUNT('Cycle 1'!$B$10)<>0,'Cycle 1'!$B$10,\"\")","v":""},{"$f":"IF(COUNT('Cycle 2'!$B$10)<>0,'Cycle 2'!$B$10,\"\")","v":""},{"$f":"IF(COUNT('Cycle 3'!$B$10)<>0,'Cycle 3'!$B$10,\"\")","v":""},{"$f":"IF(COUNT('Cycle 4'!$B$10)<>0,'Cycle 4'!$B$10,\"\")","v":""}]
["Strengths:"]
["Suggestions:"]
["Other:"]

{"sheet":"Cycle 1","index":4,"n_rows":140,"n_cols":8,"rows_kept":140,"cut":false,"hidden":false,"merged":[[137,1,137,6],[59,2,60,5],[59,6,60,6],[64,2,65,5],[64,6,65,6],[75,2,76,5],[69,6,70,6],[75,6,76,6],[80,2,81,5],[80,6,81,6],[88,0,89,0],[80,0,81,1],[58,0,58,4],[121,0,122,0],[113,0,114,1],[64,0,65,1],[77,0,78,0],[75,0,76,1],[69,0,70,1],[124,0,125,1],[123,0,123,4],[123,5,123,6],[118,5,118,6],[105,0,105,4],[105,5,105,6],[86,0,87,1],[69,2,70,5],[113,2,114,5],[113,6,114,6],[130,0,131,0],[90,0,90,4],[134,2,134,3],[139,1,139,6],[135,1,135,6],[136,1,136,6],[91,0,92,1],[118,0,118,4],[126,0,127,0],[115,0,116,0],[82,0,83,0],[110,5,110,6],[95,0,95,4],[108,0,109,0],[95,5,95,6],[100,0,100,4],[100,5,100,6],[130,4,130,6],[133,2,133,3],[133,4,133,6],[131,2,131,3],[131,4,131,6],[133,0,134,0],[132,0,132,4],[132,5,132,6],[134,4,134,6],[85,0,85,4],[85,5,85,6],[129,0,129,4],[103,0,104,0],[130,2,130,3],[129,5,129,6],[117,5,117,6],[128,0,128,4],[128,5,128,6],[1,1,1,2],[8,1,8,6],[6,0,6,6],[7,1,7,6],[2,1,2,2],[3,1,3,2],[4,1,4,2],[5,1,5,2],[15,0,15,6],[17,0,17,4],[17,5,17,6],[18,0,18,4],[32,0,33,0],[40,0,40,4],[40,5,40,6],[16,5,16,6],[23,0,23,4],[23,5,23,6],[36,2,37,5],[36,6,37,6],[13,1,13,6],[14,1,14,6],[19,0,20,1],[11,1,11,6],[19,2,20,5],[19,6,20,6],[24,6,25,6],[12,1,12,6],[16,0,16,3],[9,0,10,0],[9,1,10,6],[51,0,51,4],[52,0,52,4],[52,5,52,6],[73,0,73,4],[73,5,73,6],[64,7,65,7],[46,6,47,6],[53,2,54,5],[53,6,54,6],[68,0,68,4],[68,5,68,6],[41,2,42,5],[41,6,42,6],[55,0,56,0],[61,0,62,0],[58,5,58,6],[69,7,70,7],[57,0,57,4],[50,5,50,6],[66,0,67,0],[46,0,47,1],[50,0,50,3],[19,7,20,7],[24,7,25,7],[30,7,31,7],[28,0,28,4],[28,5,28,6],[24,2,25,5],[30,2,31,5],[30,6,31,6],[38,86,38,87],[38,9,39,9],[18,5,18,6],[21,0,22,0],[26,0,27,0],[45,0,45,4],[45,5,45,6],[36,0,37,1],[34,0,34,4],[34,5,34,6],[35,0,35,4],[35,5,35,6],[43,0,44,0],[24,0,25,1],[30,0,31,1],[41,0,42,1],[38,14,38,15],[38,18,39,18],[38,23,38,24],[38,27,39,27],[38,32,38,33],[38,36,39,36],[38,41,38,42],[119,0,120,1],[38,50,38,51],[38,54,39,54],[63,0,63,4],[63,5,63,6],[53,0,54,1],[59,0,60,1],[71,0,72,0],[106,2,107,5],[106,6,107,6],[98,0,99,0],[101,0,102,1],[57,5,57,6],[79,5,79,6],[74,0,74,4],[74,5,74,6],[84,0,84,4],[84,5,84,6],[41,7,42,7],[46,8,47,8],[46,7,47,7],[59,7,60,7],[53,8,54,8],[59,8,60,8],[53,7,54,7],[51,5,51,6],[48,0,49,0],[79,0,79,4],[46,2,47,5],[64,8,65,8],[69,8,70,8],[112,5,112,6],[38,149,38,150],[38,153,39,153],[38,158,38,159],[38,162,39,162],[38,167,38,168],[38,90,39,90],[38,95,38,96],[38,99,39,99],[38,104,38,105],[38,108,39,108],[38,113,38,114],[38,117,39,117],[38,122,38,123],[38,126,39,126],[36,7,37,7],[29,0,29,4],[29,5,29,6],[38,77,38,78],[38,81,39,81],[38,59,38,60],[38,63,39,63],[38,68,38,69],[38,72,39,72],[38,0,39,0],[38,131,38,132],[38,135,39,135],[38,140,38,141],[38,144,39,144],[38,45,39,45],[38,243,39,243],[38,248,38,249],[39,212,39,213],[39,221,39,222],[39,230,39,231],[39,239,39,240],[39,248,39,249],[38,171,39,171],[38,176,38,177],[38,180,39,180],[38,185,38,186],[38,189,39,189],[38,194,38,195],[38,198,39,198],[38,203,38,204],[38,207,39,207],[39,203,39,204],[38,212,38,213],[38,216,39,216],[38,221,38,222],[38,225,39,225],[38,230,38,231],[38,234,39,234],[38,239,38,240],[38,293,38,294],[38,297,39,297],[38,302,38,303],[38,306,39,306],[38,311,38,312],[38,315,39,315],[38,320,38,321],[38,324,39,324],[38,329,38,330],[39,293,39,294],[39,302,39,303],[39,311,39,312],[39,320,39,321],[39,329,39,330],[38,252,39,252],[38,257,38,258],[38,261,39,261],[38,266,38,267],[38,270,39,270],[38,275,38,276],[38,279,39,279],[38,284,38,285],[38,288,39,288],[39,257,39,258],[39,266,39,267],[39,275,39,276],[39,284,39,285],[38,374,38,375],[38,378,39,378],[38,383,38,384],[38,387,39,387],[38,392,38,393],[38,396,39,396],[38,401,38,402],[38,405,39,405],[38,410,38,411],[39,374,39,375],[39,383,39,384],[39,392,39,393],[39,401,39,402],[39,410,39,411],[38,333,39,333],[38,338,38,339],[38,342,39,342],[38,347,38,348],[38,351,39,351],[38,356,38,357],[38,360,39,360],[38,365,38,366],[38,369,39,369],[39,338,39,339],[39,347,39,348],[39,356,39,357],[39,365,39,366],[38,455,38,456],[38,459,39,459],[38,464,38,465],[38,468,39,468],[38,473,38,474],[38,477,39,477],[38,482,38,483],[38,486,39,486],[38,491,38,492],[39,455,39,456],[39,464,39,465],[39,473,39,474],[39,482,39,483],[39,491,39,492],[38,414,39,414],[38,419,38,420],[38,423,39,423],[38,428,38,429],[38,432,39,432],[38,437,38,438],[38,441,39,441],[38,446,38,447],[38,450,39,450],[39,419,39,420],[39,428,39,429],[39,437,39,438],[39,446,39,447],[38,536,38,537],[38,540,39,540],[38,545,38,546],[38,549,39,549],[38,554,38,555],[38,558,39,558],[38,563,38,564],[38,567,39,567],[38,572,38,573],[39,536,39,537],[39,545,39,546],[39,554,39,555],[39,563,39,564],[39,572,39,573],[38,495,39,495],[38,500,38,501],[38,504,39,504],[38,509,38,510],[38,513,39,513],[38,518,38,519],[38,522,39,522],[38,527,38,528],[38,531,39,531],[39,500,39,501],[39,509,39,510],[39,518,39,519],[39,527,39,528],[38,617,38,618],[38,621,39,621],[38,626,38,627],[38,630,39,630],[38,635,38,636],[38,639,39,639],[38,644,38,645],[38,648,39,648],[38,653,38,654],[39,617,39,618],[39,626,39,627],[39,635,39,636],[39,644,39,645],[39,653,39,654],[38,576,39,576],[38,581,38,582],[38,585,39,585],[38,590,38,591],[38,594,39,594],[38,599,38,600],[38,603,39,603],[38,608,38,609],[38,612,39,612],[39,581,39,582],[39,590,39,591],[39,599,39,600],[39,608,39,609],[38,698,38,699],[38,702,39,702],[38,707,38,708],[38,711,39,711],[38,716,38,717],[38,720,39,720],[38,725,38,726],[38,729,39,729],[38,734,38,735],[39,698,39,699],[39,707,39,708],[39,716,39,717],[39,725,39,726],[39,734,39,735],[38,657,39,657],[38,662,38,663],[38,666,39,666],[38,671,38,672],[38,675,39,675],[38,680,38,681],[38,684,39,684],[38,689,38,690],[38,693,39,693],[39,662,39,663],[39,671,39,672],[39,680,39,681],[39,689,39,690],[38,779,38,780],[38,783,39,783],[38,788,38,789],[38,792,39,792],[38,797,38,798],[38,801,39,801],[38,806,38,807],[38,810,39,810],[38,815,38,816],[39,779,39,780],[39,788,39,789],[39,797,39,798],[39,806,39,807],[39,815,39,816],[38,738,39,738],[38,743,38,744],[38,747,39,747],[38,752,38,753],[38,756,39,756],[38,761,38,762],[38,765,39,765],[38,770,38,771],[38,774,39,774],[39,743,39,744],[39,752,39,753],[39,761,39,762],[39,770,39,771],[38,860,38,861],[38,864,39,864],[38,869,38,870],[38,873,39,873],[38,878,38,879],[38,882,39,882],[38,887,38,888],[38,891,39,891],[38,896,38,897],[39,860,39,861],[39,869,39,870],[39,878,39,879],[39,887,39,888],[39,896,39,897],[38,819,39,819],[38,824,38,825],[38,828,39,828],[38,833,38,834],[38,837,39,837],[38,842,38,843],[38,846,39,846],[38,851,38,852],[38,855,39,855],[39,824,39,825],[39,833,39,834],[39,842,39,843],[39,851,39,852],[38,941,38,942],[38,945,39,945],[38,950,38,951],[38,954,39,954],[38,959,38,960],[38,963,39,963],[38,968,38,969],[38,972,39,972],[38,977,38,978],[39,941,39,942],[39,950,39,951],[39,959,39,960],[39,968,39,969],[39,977,39,978],[38,900,39,900],[38,905,38,906],[38,909,39,909],[38,914,38,915],[38,918,39,918],[38,923,38,924],[38,927,39,927],[38,932,38,933],[38,936,39,936],[39,905,39,906],[39,914,39,915],[39,923,39,924],[39,932,39,933],[38,1022,38,1023],[38,1026,39,1026],[38,1031,38,1032],[38,1035,39,1035],[38,1040,38,1041],[38,1044,39,1044],[38,1049,38,1050],[38,1053,39,1053],[38,1058,38,1059],[39,1022,39,1023],[39,1031,39,1032],[39,1040,39,1041],[39,1049,39,1050],[39,1058,39,1059],[38,981,39,981],[38,986,38,987],[38,990,39,990],[38,995,38,996],[38,999,39,999],[38,1004,38,1005],[38,1008,39,1008],[38,1013,38,1014],[38,1017,39,1017],[39,986,39,987],[39,995,39,996],[39,1004,39,1005],[39,1013,39,1014],[38,1103,38,1104],[38,1107,39,1107],[38,1112,38,1113],[38,1116,39,1116],[38,1121,38,1122],[38,1125,39,1125],[38,1130,38,1131],[38,1134,39,1134],[38,1139,38,1140],[39,1103,39,1104],[39,1112,39,1113],[39,1121,39,1122],[39,1130,39,1131],[39,1139,39,1140],[38,1062,39,1062],[38,1067,38,1068],[38,1071,39,1071],[38,1076,38,1077],[38,1080,39,1080],[38,1085,38,1086],[38,1089,39,1089],[38,1094,38,1095],[38,1098,39,1098],[39,1067,39,1068],[39,1076,39,1077],[39,1085,39,1086],[39,1094,39,1095],[38,1184,38,1185],[38,1188,39,1188],[38,1193,38,1194],[38,1197,39,1197],[38,1202,38,1203],[38,1206,39,1206],[38,1211,38,1212],[38,1215,39,1215],[38,1220,38,1221],[39,1184,39,1185],[39,1193,39,1194],[39,1202,39,1203],[39,1211,39,1212],[39,1220,39,1221],[38,1143,39,1143],[38,1148,38,1149],[38,1152,39,1152],[38,1157,38,1158],[38,1161,39,1161],[38,1166,38,1167],[38,1170,39,1170],[38,1175,38,1176],[38,1179,39,1179],[39,1148,39,1149],[39,1157,39,1158],[39,1166,39,1167],[39,1175,39,1176],[38,1265,38,1266],[38,1269,39,1269],[38,1274,38,1275],[38,1278,39,1278],[38,1283,38,1284],[38,1287,39,1287],[38,1292,38,1293],[38,1296,39,1296],[38,1301,38,1302],[39,1265,39,1266],[39,1274,39,1275],[39,1283,39,1284],[39,1292,39,1293],[39,1301,39,1302],[38,1224,39,1224],[38,1229,38,1230],[38,1233,39,1233],[38,1238,38,1239],[38,1242,39,1242],[38,1247,38,1248],[38,1251,39,1251],[38,1256,38,1257],[38,1260,39,1260],[39,1229,39,1230],[39,1238,39,1239],[39,1247,39,1248],[39,1256,39,1257],[38,1346,38,1347],[38,1350,39,1350],[38,1355,38,1356],[38,1359,39,1359],[38,1364,38,1365],[38,1368,39,1368],[38,1373,38,1374],[38,1377,39,1377],[38,1382,38,1383],[39,1346,39,1347],[39,1355,39,1356],[39,1364,39,1365],[39,1373,39,1374],[39,1382,39,1383],[38,1305,39,1305],[38,1310,38,1311],[38,1314,39,1314],[38,1319,38,1320],[38,1323,39,1323],[38,1328,38,1329],[38,1332,39,1332],[38,1337,38,1338],[38,1341,39,1341],[39,1310,39,1311],[39,1319,39,1320],[39,1328,39,1329],[39,1337,39,1338],[38,1427,38,1428],[38,1431,39,1431],[38,1436,38,1437],[38,1440,39,1440],[38,1445,38,1446],[38,1449,39,1449],[38,1454,38,1455],[38,1458,39,1458],[38,1463,38,1464],[39,1427,39,1428],[39,1436,39,1437],[39,1445,39,1446],[39,1454,39,1455],[39,1463,39,1464],[38,1386,39,1386],[38,1391,38,1392],[38,1395,39,1395],[38,1400,38,1401],[38,1404,39,1404],[38,1409,38,1410],[38,1413,39,1413],[38,1418,38,1419],[38,1422,39,1422],[39,1391,39,1392],[39,1400,39,1401],[39,1409,39,1410],[39,1418,39,1419],[38,1508,38,1509],[38,1512,39,1512],[38,1517,38,1518],[38,1521,39,1521],[38,1526,38,1527],[38,1530,39,1530],[38,1535,38,1536],[38,1539,39,1539],[38,1544,38,1545],[39,1508,39,1509],[39,1517,39,1518],[39,1526,39,1527],[39,1535,39,1536],[39,1544,39,1545],[38,1467,39,1467],[38,1472,38,1473],[38,1476,39,1476],[38,1481,38,1482],[38,1485,39,1485],[38,1490,38,1491],[38,1494,39,1494],[38,1499,38,1500],[38,1503,39,1503],[39,1472,39,1473],[39,1481,39,1482],[39,1490,39,1491],[39,1499,39,1500],[38,1589,38,1590],[38,1593,39,1593],[38,1598,38,1599],[38,1602,39,1602],[38,1607,38,1608],[38,1611,39,1611],[38,1616,38,1617],[38,1620,39,1620],[38,1625,38,1626],[39,1589,39,1590],[39,1598,39,1599],[39,1607,39,1608],[39,1616,39,1617],[39,1625,39,1626],[38,1548,39,1548],[38,1553,38,1554],[38,1557,39,1557],[38,1562,38,1563],[38,1566,39,1566],[38,1571,38,1572],[38,1575,39,1575],[38,1580,38,1581],[38,1584,39,1584],[39,1553,39,1554],[39,1562,39,1563],[39,1571,39,1572],[39,1580,39,1581],[38,1670,38,1671],[38,1674,39,1674],[38,1679,38,1680],[38,1683,39,1683],[38,1688,38,1689],[38,1692,39,1692],[38,1697,38,1698],[38,1701,39,1701],[38,1706,38,1707],[39,1670,39,1671],[39,1679,39,1680],[39,1688,39,1689],[39,1697,39,1698],[39,1706,39,1707],[38,1629,39,1629],[38,1634,38,1635],[38,1638,39,1638],[38,1643,38,1644],[38,1647,39,1647],[38,1652,38,1653],[38,1656,39,1656],[38,1661,38,1662],[38,1665,39,1665],[39,1634,39,1635],[39,1643,39,1644],[39,1652,39,1653],[39,1661,39,1662],[38,1751,38,1752],[38,1755,39,1755],[38,1760,38,1761],[38,1764,39,1764],[38,1769,38,1770],[38,1773,39,1773],[38,1778,38,1779],[38,1782,39,1782],[38,1787,38,1788],[39,1751,39,1752],[39,1760,39,1761],[39,1769,39,1770],[39,1778,39,1779],[39,1787,39,1788],[38,1710,39,1710],[38,1715,38,1716],[38,1719,39,1719],[38,1724,38,1725],[38,1728,39,1728],[38,1733,38,1734],[38,1737,39,1737],[38,1742,38,1743],[38,1746,39,1746],[39,1715,39,1716],[39,1724,39,1725],[39,1733,39,1734],[39,1742,39,1743],[38,1832,38,1833],[38,1836,39,1836],[38,1841,38,1842],[38,1845,39,1845],[38,1850,38,1851],[38,1854,39,1854],[38,1859,38,1860],[38,1863,39,1863],[38,1868,38,1869],[39,1832,39,1833],[39,1841,39,1842],[39,1850,39,1851],[39,1859,39,1860],[39,1868,39,1869],[38,1791,39,1791],[38,1796,38,1797],[38,1800,39,1800],[38,1805,38,1806],[38,1809,39,1809],[38,1814,38,1815],[38,1818,39,1818],[38,1823,38,1824],[38,1827,39,1827],[39,1796,39,1797],[39,1805,39,1806],[39,1814,39,1815],[39,1823,39,1824],[38,1913,38,1914],[38,1917,39,1917],[38,1922,38,1923],[38,1926,39,1926],[38,1931,38,1932],[38,1935,39,1935],[38,1940,38,1941],[38,1944,39,1944],[38,1949,38,1950],[39,1913,39,1914],[39,1922,39,1923],[39,1931,39,1932],[39,1940,39,1941],[39,1949,39,1950],[38,1872,39,1872],[38,1877,38,1878],[38,1881,39,1881],[38,1886,38,1887],[38,1890,39,1890],[38,1895,38,1896],[38,1899,39,1899],[38,1904,38,1905],[38,1908,39,1908],[39,1877,39,1878],[39,1886,39,1887],[39,1895,39,1896],[39,1904,39,1905],[38,1994,38,1995],[38,1998,39,1998],[38,2003,38,2004],[38,2007,39,2007],[38,2012,38,2013],[38,2016,39,2016],[38,2021,38,2022],[38,2025,39,2025],[38,2030,38,2031],[39,1994,39,1995],[39,2003,39,2004],[39,2012,39,2013],[39,2021,39,2022],[39,2030,39,2031],[38,1953,39,1953],[38,1958,38,1959],[38,1962,39,1962],[38,1967,38,1968],[38,1971,39,1971],[38,1976,38,1977],[38,1980,39,1980],[38,1985,38,1986],[38,1989,39,1989],[39,1958,39,1959],[39,1967,39,1968],[39,1976,39,1977],[39,1985,39,1986],[38,2075,38,2076],[38,2079,39,2079],[38,2084,38,2085],[38,2088,39,2088],[38,2093,38,2094],[38,2097,39,2097],[38,2102,38,2103],[38,2106,39,2106],[38,2111,38,2112],[39,2075,39,2076],[39,2084,39,2085],[39,2093,39,2094],[39,2102,39,2103],[39,2111,39,2112],[38,2034,39,2034],[38,2039,38,2040],[38,2043,39,2043],[38,2048,38,2049],[38,2052,39,2052],[38,2057,38,2058],[38,2061,39,2061],[38,2066,38,2067],[38,2070,39,2070],[39,2039,39,2040],[39,2048,39,2049],[39,2057,39,2058],[39,2066,39,2067],[38,2156,38,2157],[38,2160,39,2160],[38,2165,38,2166],[38,2169,39,2169],[38,2174,38,2175],[38,2178,39,2178],[38,2183,38,2184],[38,2187,39,2187],[38,2192,38,2193],[39,2156,39,2157],[39,2165,39,2166],[39,2174,39,2175],[39,2183,39,2184],[39,2192,39,2193],[38,2115,39,2115],[38,2120,38,2121],[38,2124,39,2124],[38,2129,38,2130],[38,2133,39,2133],[38,2138,38,2139],[38,2142,39,2142],[38,2147,38,2148],[38,2151,39,2151],[39,2120,39,2121],[39,2129,39,2130],[39,2138,39,2139],[39,2147,39,2148],[38,2237,38,2238],[38,2241,39,2241],[38,2246,38,2247],[38,2250,39,2250],[38,2255,38,2256],[38,2259,39,2259],[38,2264,38,2265],[38,2268,39,2268],[38,2273,38,2274],[39,2237,39,2238],[39,2246,39,2247],[39,2255,39,2256],[39,2264,39,2265],[39,2273,39,2274],[38,2196,39,2196],[38,2201,38,2202],[38,2205,39,2205],[38,2210,38,2211],[38,2214,39,2214],[38,2219,38,2220],[38,2223,39,2223],[38,2228,38,2229],[38,2232,39,2232],[39,2201,39,2202],[39,2210,39,2211],[39,2219,39,2220],[39,2228,39,2229],[38,2318,38,2319],[38,2322,39,2322],[38,2327,38,2328],[38,2331,39,2331],[38,2336,38,2337],[38,2340,39,2340],[38,2345,38,2346],[38,2349,39,2349],[38,2354,38,2355],[39,2318,39,2319],[39,2327,39,2328],[39,2336,39,2337],[39,2345,39,2346],[39,2354,39,2355],[38,2277,39,2277],[38,2282,38,2283],[38,2286,39,2286],[38,2291,38,2292],[38,2295,39,2295],[38,2300,38,2301],[38,2304,39,2304],[38,2309,38,2310],[38,2313,39,2313],[39,2282,39,2283],[39,2291,39,2292],[39,2300,39,2301],[39,2309,39,2310],[38,2399,38,2400],[38,2403,39,2403],[38,2408,38,2409],[38,2412,39,2412],[38,2417,38,2418],[38,2421,39,2421],[38,2426,38,2427],[38,2430,39,2430],[38,2435,38,2436],[39,2399,39,2400],[39,2408,39,2409],[39,2417,39,2418],[39,2426,39,2427],[39,2435,39,2436],[38,2358,39,2358],[38,2363,38,2364],[38,2367,39,2367],[38,2372,38,2373],[38,2376,39,2376],[38,2381,38,2382],[38,2385,39,2385],[38,2390,38,2391],[38,2394,39,2394],[39,2363,39,2364],[39,2372,39,2373],[39,2381,39,2382],[39,2390,39,2391],[38,2480,38,2481],[38,2484,39,2484],[38,2489,38,2490],[38,2493,39,2493],[38,2498,38,2499],[38,2502,39,2502],[38,2507,38,2508],[38,2511,39,2511],[38,2516,38,2517],[39,2480,39,2481],[39,2489,39,2490],[39,2498,39,2499],[39,2507,39,2508],[39,2516,39,2517],[38,2439,39,2439],[38,2444,38,2445],[38,2448,39,2448],[38,2453,38,2454],[38,2457,39,2457],[38,2462,38,2463],[38,2466,39,2466],[38,2471,38,2472],[38,2475,39,2475],[39,2444,39,2445],[39,2453,39,2454],[39,2462,39,2463],[39,2471,39,2472],[38,2561,38,2562],[38,2565,39,2565],[38,2570,38,2571],[38,2574,39,2574],[38,2579,38,2580],[38,2583,39,2583],[38,2588,38,2589],[38,2592,39,2592],[38,2597,38,2598],[39,2561,39,2562],[39,2570,39,2571]],"merged_total":5665,"flags":["merged_cut"]}
[]
["Candidate",null,null,"Major",null,"Date"]
["School",null,null,"Course",null,"District"]
["Mentor Teacher",null,null,"Grade",null,"Principal"]
["Evaluator",null,null,"Semester",null,"Position"]
["Field Experience",null,null,"Term",null,"Subject"]
["Cycle #1 Notes"]
["Lesson Topic"]
["Observation Minutes"]
["Debrief/Consultation Minutes"]
[]
["Notes:"]
["Notes:"]
["Notes:"]
["Notes:"]
["Cycle #1 Scores"]
["THE LEARNER & LEARNING\nTeaching begins with the learner. To ensure that each student learns new knowledge and skills, teachers must understand that learning and developmental patterns vary among individuals, that learners bring unique individual differences to the learning process, and that learners need supportive and safe learning environments to thrive. ",null,null,null,"Total Average Score:",{"$f":"IFERROR(ROUND(AVERAGE($F$19,$F$24,$F$30,$F$36,$F$41,$F$46,$F$53,$F$59,$F$64,$F$69,$F$75,$F$80,$F$86,$F$91,$F$96,$F$101,$F$106,$F$113,$F$119,$F$124,$F$130,$F$133),2),\"--\")","v":"--"}]
["STANDARD 1: Learner Development",null,null,null,null,"SCORE"]
["  1.1  (O)  Appropriate Learning Experiences"]
[null,null,"Preservice (Practicum)",null,null,null,"Student Teaching/Intern","Career Teacher"]
[]
["1.1 \n\nO\nB\nS\nE\nR\nV\nA\nT\nI\nO\nN","Performance Expectation","Not Scored\n\n(NS)","Not Effective\n\n(0)","Beginning\n\n(1)","Developing\n\n(2)","Preservice Effective/\nUSBE Emerging Effective\n(3)","Inservice Effective\n\n(3)"]
[null,"Creates developmentally appropriate and challenging learning experiences based on each learner’s strengths, interests, and needs\n\nUETS 1a, 2e\nInTASC 1\nCAEP 1.1, 3.5","• The evaluator selected not to gather evidence and score this item for this formative assessment","• Provides developmentally inappropriate instruction\n• Lacks awareness of developmental needs\n\n\n","• Creates lessons according to grade level Utah Core Standards\n","…and\n• Add to or modifies lessons to provide varied learning experiences","…and\n• Implements learning experiences based on specific learners developmental levels","…and\n• Identifies appropriate developmental levels of individual learners and consistently and appropriately differentiates instruction learning experiences\n• Incorporates methods of language development into planning and instruction"]
["  1.2  (C) Collaborates with Others"]
[null,null,"Preservice (Practicum)",null,null,null,"Student Teaching/Intern","Career Teacher"]
[]
["1.2 \n\nC\nO\nN\nS\nU\nL\nT\nA\nT\nI\nO\nN","Performance Expectation","Not Scored\n\n(NS)","Not Effective\n\n(0)","Beginning\n\n(1)","Developing\n\n(2)","Preservice Effective/\nUSBE Emerging Effective\n(3)","Inservice Effective\n\n(3)"]
[null,"Collaborates with families, colleagues, and other professionals to promote student growth and development.\n\nUETS 1b\nInTASC 1\nCAEP 1.1, 3.5","• The evaluator selected not to gather evidence and score this item for this formative assessment","• Works in isolation \n• Avoids communication or communicates ineffectively\n• Does not focus on learner needs","• Communicates about procedural issues, schedules, and requirements.","…and \n• Responds to mentor inquires/concerns about learner development and progress. \n• Communicates about curriculum and instruction.\n","…and \n• Interacts with colleagues or families related to learner growth and development","…and\n• Collaborates with family members and a full range of colleagues to help meet the unique needs of all learners\n"]
["STANDARD 2:  Learning Differences",null,null,null,null,"SCORE"]
["  2.1  (O) Diverse Experiences"]
[null,null,"Preservice (Practicum)",null,null,null,"Student Teaching/Intern","Career Teacher"]
[]
["2.1 \n\nO\nB\nS\nE\nR\nV\nA\nT\nI\nO\nN","Performance Expectation","Not Scored\n\n(NS)","Not Effective\n\n(0)","Beginning\n\n(1)","Developing\n\n(2)","Preservice Effective/\nUSBE Emerging Effective\n(3)","Inservice Effective\n\n(3)"]
[null,"Allows learners multiple ways to demonstrate learning sensitive to diverse experiences, while holding high expectations for all.\n\nUETS 2a, 2b, 2c, 2d\nInTASC 2\nCAEP 1.1, 3.5\nCross-cutting Diversity","• The evaluator selected not to gather evidence and score this item for this formative assessment","• Not aware of learner differences\n• Not accepting of differences\n• Does not hold high expectations for learners","• Demonstrates awareness of learner diversity \n• Respects individual differences\n","..and\n• Applies general strategies for diverse learners","…and\n• Applies understanding of specific strategies for learner diversity to encourage all learners to reach their full potential","…and\n• Uses learner differences as an asset to adapt and deliver instruction for all learners\n• Provides students multiple ways to demonstrate learning"]
["STANDARD 3:  Learning Environment",null,null,null,null,"SCORE"]
["3.1  (O)  Engage and Support Students"]
[null,null,"Preservice (Practicum)",null,null,null,"Student Teaching/Intern","Career Teacher"]
[]
["3.1 \n\nO\nB\nS\nE\nR\nV\nA\nT\nI\nO\nN","Performance Expectation","Not Scored\n\n(NS)","Not Present \n\n(0)","Beginning\n\n(1)","Emerging\n\n(2)","Preservice Effective/\nUSBE Emerging Effective\n(3)","Inservice Effective\n\n(3)"]
[null,"Develops learning experiences that engage and support students as self-directed learners who internalize classroom routines, expectations, and procedures.\n\nUETS 3a\nInTASC 3\nCAEP 1.1, 3.5","• The evaluator selected not to gather evidence and score this item for this formative assessment","• Does not have a schedule planned\n• Has unorganized and lengthy transitions \n• Loses Instructional time\n\n","• Plans a schedule, routines, and behavioral expectations\n\n\n","…and \n• Communicates schedule, routines, and behavioral expectations to students\n \n","…and\n• Implements the daily schedule \n• Holds students accountable to follow routines and behavioral expectations\n","…and\n• Provides explicit direction so that learners know what to do and when to do it\n• Supports each learner as he/she establishes expectations and develops responsibility for his/her own behavior\n\n"]
["3.2  (O) Collaborates with Students"]
[null,null,"Preservice (Practicum)",null,null,null,"Student Teaching/Intern","Career Teacher"]
[]
["\n3.2 \n\nO\nB\nS\nE\nR\nV\nA\nT\nI\nO\nN\n","Performance Expectation","Not Scored\n\n(NS)","Not Effective\n\n(0)","Beginning\n\n(1)","Developing\n\n(2)","Preservice Effective/\nUSBE Emerging Effective\n(3)","Inservice Effective\n\n(3)"]
[null,"Collaborates with students to establish a positive learning climate of openness, respectful interactions, support, and inquiry.\n\nUETS 3b\nInTASC 3\nCAEP 1.1, 3.5","• The evaluator selected not to gather evidence and score this item for this formative assessment","• Demonstrates negative demeanor \n• Reprimands frequently \n• Leaves students unattended \n\n","• Communicates with students using developmentally appropriate language \n\n","…and \n• Communicates explicitly the expectations for classroom interactions\n• Provides opportunities for teacher-student interactions\n• Provides opportunities for student interactions\n \n","…and\n• Maintains positive interactions with and among students\n\n","…and\n• Collaborates with students to establish a positive learning climate of openness, respectful interactions, support, and inquiry\n• Organizes student learning teams for the purpose of developing cooperation, collaboration, and student leadership\n\n"]
["3.3  (O) Classroom Management Strategies"]
[null,null,"Preservice (Practicum)",null,null,null,"Student Teaching/Intern","Career Teacher"]
[]
["3.3 \n\nO\nB\nS\nE\nR\nV\nA\nT\nI\nO\nN","Performance Expectation","Not Scored\n\n(NS)","Not Effective\n\n(0)","Beginning\n\n(1)","Developing\n\n(2)","Preservice Effective/\nUSBE Emerging Effective\n(3)","Inservice Effective\n\n(3)"]
[null,"Utilizes positive classroom management strategies, including the resources of time, space, and attention, effectively.\n\nUETS 3c, 3d\nInTASC 3\nCAEP 1.1, 3.5\n\n\n","• The evaluator selected not to gather evidence and score this item for this formative assessment","• Uses time, space, and attention ineffectively\n• Does not use management plan\n","• Plans classroom management strategies\n• Plans instruction for the allotted time\n\n\n","…and\n• Paces instruction appropriate for student learning\n• Addresses inappropriate student behavior","…and \n• Implements classroom management strategies \n• Encourages learners to be engaged with the content \n• Manages time, space, and attention to increase participation","…and\n• Uses differentiated management strategies focusing on individual learner need\n• Gains and maintains student attention through active participation\n• Adjusts instructional pacing and transitions to maintain learner participation and support learning\n\n"]
["INSTRUCTIONAL PRACTICE\nEffective instructional practice requires that teachers have a deep and flexible understanding of their content areas and be able to draw upon content knowledge as they work with learners to access information, apply knowledge in real-world settings, and address meaningful issues. They must also understand and integrate assessment, planning, and instructional strategies in coordinated and engaging ways to assure learner mastery of the content."]
["STANDARD 4:  Content Knowledge",null,null,null,null,"SCORE"]
["  4.1  (O) Accurate, Multiple Representations"]
[null,null,"Preservice (Practicum)",null,null,null,"Student Teaching/Intern","Career Teacher"]
[]
["4.1\n\nO\nB\nS\nE\nR\nV\nA\nT\nI\nO\nN","Performance Expectation","Not Scored\n\n(NS)","Not Effective\n\n(0)","Beginning\n\n(1)","Developing\n\n(2)","Preservice Effective/\nUSBE Emerging Effective\n(3)","Inservice Effective\n\n(3)"]
[null,"Bases instruction on accurate content knowledge using multiple representations of concepts and appropriate academic language.\n \nUETS 4a, 4c, 4d, 4e, 7c\nInTASC 4 and 5\nCAEP 1.1, 1.3, 1.4, 3.4, 3.5\n\n","• The evaluator selected not to gather evidence and score this item for this formative assessment","• Provides inaccurate lesson content\n\n","• Demonstrate content knowledge\n\n","…and \n• Uses more than one way to explain concepts\n• Uses accurate academic language\n","…and \n• Models critical and/or creative thinking in the content area\n• Supports learner use of content-specific academic language\n\n","…and\n• Uses multiple representations and explanations of concepts to deepen each learner’s understanding\n• Models and expects learners to evaluate, create, and think critically about the content\n• Analyzes learner errors and misconceptions in order to redirect, focus, and deepen learning\n\n"]
["STANDARD 5:  Assessment",null,null,null,null,"SCORE"]
["5.1  (C) Assesses Effectiveness of Instruction"]
[null,null,"Preservice (Practicum)",null,null,null,"Student Teaching/Intern","Career Teacher"]
[]
["5.1\n\nC\nO\nN\nS\nU\nL\nT\nA\nT\nI\nO\nN","Performance Expectation","Not Scored\n\n(NS)","Not Effective\n\n(0)","Beginning\n\n(1)","Developing\n\n(2)","Preservice Effective/\nUSBE Emerging Effective\n(3)","Inservice Effective\n\n(3)"]
[null,"Uses data sources to assess the effectiveness of instruction and to make adjustments in planning and instruction.\n\nUETS 5a, 5c, 5d, 8a\nINTASC 6 \nCAEP 1.1, 1.2, 3.5\n\n\n\n","• The evaluator selected not to gather evidence and score this item for this formative assessment","• Does not collect or use data \n\n","• Collects data \n","…and\n• Analyzes data to document student learning \n• Uses formative assessment during instruction\n\n","…and\n• Uses data to evaluate the outcomes of teaching\n• Monitors learning and adjusts instruction during the lesson\n","…and \n• Targets instructional, intervention, and enrichment strategies based on data\n• Uses multiple formative and summative assessments to make ongoing adjustments in instruction based on a wide range of individual learner needs\n\n"]
["5.2  (C) Elements of Quality Work"]
[null,null,"Preservice (Practicum)",null,null,null,"Student Teaching/Intern","Career Teacher"]
[]
["5.2\n\nC\nO\nN\nS\nU\nL\nT\nA\nT\nI\nO\nN","Performance Expectation","Not Scored\n\n(NS)","Not Effective\n\n(0)","Beginning\n\n(1)","Developing\n\n(2)","Preservice Effective/\nUSBE Emerging Effective\n(3)","Inservice Effective\n\n(3)"]
[null,"Documents student progress and provides descriptive feedback to student, parent/guardian, and other stakeholders in a variety of ways.\n\nUETS 5b, 5e\nINTASC 6\nCAEP 1.1, 3.5\n\n\n","• The evaluator selected not to gather evidence and score this item for this formative assessment","• Does not document learner progress\n•Does not provide feedback\n\n","• Documents learner progress\n• Provides general feedback\n\n","…and \n• Provides specific and timely feedback","…and \n• Provides feedback to individuals and groups based on identified elements of quality work (e.g. rubrics, checklists, exemplars)\n• Shares assessment feedback with parents/guardians under the direction of the mentor teacher","…and\n• Uses a variety of effective formats to document and provide feedback on learner progress\n• Initiates ongoing, open communication between home and school about learner progress\n• Provides timely descriptive, and specific feedback to individuals and groups\n"]
["5.3  (C) Documents Progress, Provides Feedback"]
[null,null,"Preservice (Practicum)",null,null,null,"Student Teaching/Intern","Career Teacher"]
[]
["5.3\n\nC\nO\nN\nS\nU\nL\nT\nA\nT\nI\nO\nN","Performance Expectation","Not Scored\n\n(NS)","Not Effective\n\n(0)","Beginning\n\n(1)","Developing\n\n(2)","Preservice Effective/\nUSBE Emerging Effective\n(3)","Inservice Effective\n\n(3)"]
[null,"Designs or selects pre-assessments, formative, and summative assessments in a variety of formats that align to learning objectives and engage the learner in demonstrating knowledge and skills. \n\nUETS 5a\nInTASC 6\nCAEP 1.1, 3.5\n\n","• The evaluator selected not to gather evidence and score this item for this formative assessment","• Does not assess student learning \n• Assessment is inappropriate \n\n","• Lesson plan includes an assessment\n","…and\n• Designs, selects, or adapts assessments that align with learning objectives\n","…and \n• Uses a variety of assessment formats to evaluate student learning\n","…and\n• Designs assessments in a variety of formats that match learning objectives and Utah Common Core standards\n• Selected assessment(s) differentiate levels of student learning allowing the teacher to reteach missed concepts \n•  Selected assessment(s) accounts for individual learning styles and multicultural differences of learners minimizing bias\n"]
["STANDARD 6:  Instructional Planning",null,null,null,null,"SCORE"]
["6.1  (C) Knowledge and Reference  of Utah Core Standards"]
[null,null,"Preservice (Practicum)",null,null,null,"Student Teaching/Intern","Career Teacher"]
[]
["6.1\n\nC\nO\nN\nS\nU\nL\nT\nA\nT\nI\nO\nN","Performance Expectation","Not Scored\n\n(NS)","Not Effective\n\n(0)","Beginning\n\n(1)","Developing\n\n(2)","Preservice Effective/\nUSBE Emerging Effective\n(3)","Inservice Effective\n\n(3)"]
[null,"Demonstrates knowledge of the Utah Core Standards and references them in short- and long-term planning.\n\nUETS 4b, 6a\nInTASC 7\nCAEP 1.1, 1.3, 1.4, 3.4, 3.5\n\n\n\n","• The evaluator selected not to gather evidence and score this item for this formative assessment","• Unfamiliar with Utah Core Standards\n• Instructional materials do not align with standards \n• No evidence of learning objectives \n• No evidence of planning\n\n\n\n","• Includes Utah Core Standards in lesson plans\n\n\n","…and \n• Includes appropriate learning objectives based on Utah Core Standards\n\n","…and \n• Aligns daily instruction with Utah Core Standards \n• Selects instructional materials that support standards \n","…and\n• Plans and implements short- and long-term learning experiences that reference Utah Core Standards learning objectives and content\n• Organizes and adapts learning experiences and materials to align with the Utah Core Standards\n\n\n"]
["6.2  (C) Integrates Cross-disciplinary Skills"]
[null,null,"Preservice (Practicum)",null,null,null,"Student Teaching/Intern","Career Teacher"]
[]
["6.2\n\nC\nO\nN\nS\nU\nL\nT\nA\nT\nI\nO\nN","Performance Expectation","Not Scored\n\n(NS)","Not Effective\n\n(0)","Beginning\n\n(1)","Developing\n\n(2)","Preservice Effective/\nUSBE Emerging Effective\n(3)","Inservice Effective\n\n(3)"]
[null,"Integrates cross-disciplinary skills into instruction to purposefully engage learners in applying content knowledge.\n\nUETS 6b, 6e\nInTASC 7\nCAEP 1.1, 1.4, 3.4, 3.5","• The evaluator selected not to gather evidence and score this item for this formative assessment","• Does not acknowledge the importance of integrating cross-disciplinary skills (e.g., critical thinking, problem solving, creativity, communication)\n\n\n\n","• Acknowledges the importance of integrating cross-disciplinary skills\n\n","…and\n• Plans lessons in which cross-disciplinary skills are modeled\n\n","…and\n• Plans lessons that engage students in using cross-disciplinary skills\n","…and\n• Plans lessons that demonstrate how knowledge and skills transfer to other content areas\n• Designs learning experiences that promote the application of knowledge in multiple content areas\n\n\n"]
["STANDARD 7:  Instructional Strategies",null,null,null,null,"SCORE"]
["7.1  (O) Range of Appropriate Instructional Strategies"]
[null,null,"Preservice (Practicum)",null,null,null,"Student Teaching/Intern","Career Teacher"]
[]
["7.1\n\nO\nB\nS\nE\nR\nV\nA\nT\nI\nO\nN","Performance Expectation","Not Scored\n\n(NS)","Not Effective\n\n(0)","Beginning\n\n(1)","Developing\n\n(2)","Preservice Effective/\nUSBE Emerging Effective\n(3)","Inservice Effective\n\n(3)"]
[null,"Practices a range of developmentally, culturally, and linguistically appropriate instructional strategies to meet the needs of individuals and groups of learners.\n\nUETS 2b, 2e, 6c, 7a, 7b\nInTASC 8\nCAEP 1.1, 1.2, 1.4, 3.5\nCross-cutting diversity","• The evaluator selected not to gather evidence and score this item for this formative assessment","• Inappropriate strategies\n• No variety of strategies\n• Insensitivity to individual differences\n• No adjustments to instruction\n\n\n\n\n\n\n","• Uses instructional strategies focused on lesson objectives\n\n\n","…and \n• Incorporates various instructional strategies\n\n\n\n","…and \n• Identifies each learner's diverse learning strengths and needs\n• Attempts to adjust instruction based on the developmental, culture, or linguistic needs of the students in individual or small group settings\n","…and\n• Monitors and adjusts instruction in response to developmental, cultural, and linguistic needs of individuals and groups of learners\n• Enhances instruction by using a variety of appropriate strategies\n\n\n"]
["7.2  (O) Opportunities for Students to Develop Skills"]
[null,null,"Preservice (Practicum)",null,null,null,"Student Teaching/Intern","Career Teacher"]
[]
["7.2\n\nO\nB\nS\nE\nR\nV\nA\nT\nI\nO\nN","Performance Expectation","Not Scored\n\n(NS)","Not Effective\n\n(0)","Beginning\n\n(1)","Developing\n\n(2)","Preservice Effective/\nUSBE Emerging Effective\n(3)","Inservice Effective\n\n(3)"]
[null,"Provides multiple opportunities for students to develop higher-order and meta-cognitive skills.\n\nUETS 3f, 6d, 7e\nInTASC 8\nCAEP 1.1, 1.2, 1.4, 3.4, 3.5","• The evaluator selected not to gather evidence and score this item for this formative assessment","• Is not familiar with higher-order and meta-cognitive skills \n\n\n","• Uses instructional strategies focused on lower-order thinking skills (e.g., uses memorization, recall, and rote knowledge for most assessments/ tasks)\n\n","…and \n• Uses instructional strategies in which higher-order thinking skills are modeled \n\n","…and \n• Uses instructional strategies that engage learners in higher-order thinking","…and\n• Provides learners with explicit instruction to analyze, synthesize, and make decisions\n• Provides opportunities for learners to reflect on their own learning\n• Provides opportunities for student to generate and evaluate new ideas\n\n\n"]
["7.3  (O) Expands Learner's Communication Skills"]
[null,null,"Preservice (Practicum)",null,null,null,"Student Teaching/Intern","Career Teacher"]
[]
["7.3\n\nO\nB\nS\nE\nR\nV\nA\nT\nI\nO\nN","Performance Expectation","Not Scored\n\n(NS)","Not Effective\n\n(0)","Beginning\n\n(1)","Developing\n\n(2)","Preservice Effective/\nUSBE Emerging Effective\n(3)","Inservice Effective\n\n(3)"]
[null,"Supports and expands each learner’s communication skills through reading, writing, listening, and speaking.\n\nUETS 3f, 7d\nInTASC 8\nCAEP 1.1, 1.4, 3.4, 3.5","• The evaluator selected not to gather evidence and score this item for this formative assessment","• Communication skills are not taught or developed specifically\n• No opportunities for learner communication\n\n\n\n","• Engages learners in listening and/or reading during instruction ","…and \n• Allows learners to contribute through speaking or writing as part of instruction\n","…and \n• Provides opportunities for learners to practice communication skills, including reading, writing, listening, and speaking","…and\n• Teaches content-specific reading, writing, listening, and speaking skills for effective communication\n• Provides opportunities for learners to expand communication skills to articulate thoughts and ideas \n\n\n"]
["7.4  (O) Variety of Effective Technology and Resources"]
[null,null,"Preservice (Practicum)",null,null,null,"Student Teaching/Intern","Career Teacher"]
[]
["7.4\n\nO\nB\nS\nE\nR\nV\nA\nT\nI\nO\nN","Performance Expectation","Not Scored\n\n(NS)","Not Effective\n\n(0)","Beginning\n\n(1)","Developing\n\n(2)","Preservice Effective/\nUSBE Emerging Effective\n(3)","Inservice Effective\n\n(3)"]
[null,"Uses a variety of available and appropriate technology and/or resources to support learning.\n\nUETS 3e, 7f, 7g\nInTASC 8\nCAEP 1.1, 1.3, 1.5, 3.4, 3.5\nCross-cutting technology","• The evaluator selected not to gather evidence and score this item for this formative assessment","• Does not use available technology \n\n\n","• Uses teacher-centered technologies\n\n\n","…and \n• Uses technology to engage students\n\n","…and\n• Uses student-centered technologies in ways that promote learning","…and\n• Evaluates and uses various appropriate technologies to support content and skill development\n• Incorporates appropriate technology and/or resources to extend learner content knowledge and skill development\n\n\n"]
["7.5  (O) Finding and Using Information to Solve Problems"]
[null,null,"Preservice (Practicum)",null,null,null,"Student Teaching/Intern","Career Teacher"]
[]
["7.5\n\nO\nB\nS\nE\nR\nV\nA\nT\nI\nO\nN","Performance Expectation","Not Scored\n\n(NS)","Not Effective\n\n(0)","Beginning\n\n(1)","Developing\n\n(2)","Preservice Effective/\nUSBE Emerging Effective\n(3)","Inservice Effective\n\n(3)"]
[null,"Develops learners’ abilities to find and use information to solve real-world problems.\n\nUETS 7f, 7g\nInTASC 8\nCAEP 1.1, 1.3, 1.4, 3.4, 3.5","• The evaluator selected not to gather evidence and score this item for this formative assessment","• Sources not appropriate for instruction \n\n\n","• Provides multiple, appropriate sources of information","…and \n• Uses multiple, appropriate sources of information during instruction ","…and \n• Engages learners in using multiple, appropriate sources of information","…and\n• Develops each learner’s ability to find, understand, and analyze diverse sources of information\n• Provides opportunities for learners to use multiple sources of information for quality and accuracy\n\n"]
["PROFESSIONAL RESPONSIBILITY\nCreating and supporting safe, productive learning environments that result in learners achieving at the highest levels is a teacher's primary responsibility. To do this well, teachers must engage in meaningful, intensive professional learning by regularly examining practice through ongoing study, self-reflection, and collaboration. They must be aware of legal and ethical requirements and engage in the highest levels of professional and ethical conduct."]
["STANDARD 8:  Reflection and Continuous Growth",null,null,null,null,"SCORE"]
["8.1 (C) Adapts and Improves Practice"]
[null,null,"Preservice (Practicum)",null,null,null,"Student Teaching/Intern","Career Teacher"]
[]
["8.1\n\nC\nO\nN\nS\nU\nL\nT\nA\nT\nI\nO\nN","Performance Expectation","Not Scored\n\n(NS)","Not Effective\n\n(0)","Beginning\n\n(1)","Developing\n\n(2)","Preservice Effective/\nUSBE Emerging Effective\n(3)","Inservice Effective\n\n(3)"]
[null,"Adapts and improves practice based on reflection and new learning.\n\nUETS 8b, 8c, 8d, 8e\nInTASC 9\nCAEP 1.1, 1.2, 3.3, 3.4, 3.5","• The evaluator selected not to gather evidence and score this item for this formative assessment","• Does not reflect on instruction \n• Does not accept feedback","• Attends to feedback from mentor teacher and supervisor ","…and \n• Develops a plan to improve practice in response to feedback\n• Self-reflects on lesson effectiveness \n","…and \n• Applies feedback from mentor teachers, supervisors, and self-reflection to improve teaching and learning in the classroom","…and\n• Applies current professional learning to classroom practice, consistent with its intent\n• Acknowledges the impact of bias on own teaching\n• Collaborates with supervisor to develop a professional learning plan based on data and the Utah Effective Teaching Standards\n"]
["STANDARD 9:  Leadership and Collaboration",null,null,null,null,"SCORE"]
["  9.1  (C) Participates and Collaborates in Decision Making"]
[null,null,"Preservice (Practicum)",null,null,null,"Student Teaching/Intern","Career Teacher"]
[]
["9.1\n\nC\nO\nN\nS\nU\nL\nT\nA\nT\nI\nO\nN","Performance Expectation","Not Scored\n\n(NS)","Not Effective\n\n(0)","Beginning\n\n(1)","Developing\n\n(2)","Preservice Effective/\nUSBE Emerging Effective\n(3)","Inservice Effective\n\n(3)"]
[null,"Participates actively in decision-making processes, while building a shared culture that affects the school and larger educational community.\n\nUETS 9a, 9b, 9d, 9e\nInTASC 10\nCAEP 1.1, 3.3, 3.5\n\n\n\n","• The evaluator selected not to gather evidence and score this item for this formative assessment","• Fails to fulfill required duties (e.g., contracted school day, etc.)\n• Displays lack of respect for colleagues/ classmates\n• Blames others, including students, for lack of success\n\n\n","• Participates in required school activities \n• Communicates with colleagues/ classmates when required \n\n\n\n","…and \n• Attends and participates in team meetings and other collaborative opportunities, when invited\n","…and \n• Acknowledges own actions that lead to success of all learners\n• Maintains cordial professional relationships with colleagues/classmates\n\n","…and\n• Participates with colleagues and collaborates in decision making\n• Accepts responsibility for the success of all learners\n\n"]
["  9.2  (C) Student is an Advocate"]
[null,null,"Preservice (Practicum)",null,null,null,"Student Teaching/Intern","Career Teacher"]
[]
["9.2\n\nC\nO\nN\nS\nU\nL\nT\nA\nT\nI\nO\nN","Performance Expectation","Not Scored\n\n(NS)","Not Effective\n\n(0)","Beginning\n\n(1)","Developing\n\n(2)","Preservice Effective/\nUSBE Emerging Effective\n(3)","Inservice Effective\n\n(3)"]
[null,"Advocates for the learners, the school, the community, and the profession.\n\nUETS 9c\nInTASC 9\nCAEP 1.1, 3.3, 3.5","• The evaluator selected not to gather evidence and score this item for this formative assessment","• Lacks respect for learners and families\n• Communicates negatively about learners, families, or the profession\n• Interacts inappropriately with learners, families, or colleagues/ classmates\n\n\n\n","• Respects learners, families, and the profession\n• Communicates positively about learners, families, and the profession\n• Interacts appropriately with learners, classmates, colleagues, and families\n\n","…and\n• Positively represents the profession, school, and university \n\n","…and \n• Contributes to learner success by responding to learner and/or family/community concerns ","…and\n• Advocates for all students to be prepared for high school graduation and future school work success\n• Seeks opportunities to make a positive impact on teaching quality, school improvement, and student achievement \n\n\n"]
["STANDARD 10: Professional Learning and Ethical Practices",null,null,null,null,"SCORE"]
["  10.1  (C) Complies With All Policies, Rules & Laws"]
["10.1\n\nC\nO\nN\nS\nU\nL\nT\nA\nT\nI\nO\nN","Performance Expectation","NO",null,"YES"]
[null,"Is responsible for compliance with university policies, federal and state laws, State Board of Education administrative rules, state assessment policies, local board policies, and supervisory directives.\n\nUETS 10a, 5f\nInTASC 9\nCAEP 1.1, 1.4, 3.3, 3.5, 3.6\n\n\n","• Does not understand nor adheres to university policies, federal and state laws, State Board of Education rules, state and local policies, supervisory directives, professional, moral, and ethical conduct and does not hold others accountable to do the same ",null," • Understands, adheres to, and upholds university polices, federal and state laws, State Board of Education rules, state and local policies, supervisory directives, professional, moral, and ethical conduct and holds others accountable to do the same\n"]
["  10.2  (C) Complies with State Board of Education Rule R277-530"]
["10.2\n\nC\nO\nN\nS\nU\nL\nT\nA\nT\nI\nO\nN","Performance Expectation","NO",null,"YES"]
[null,"Is responsible for compliance with all requirements of State Board of Education Rule R277-515 at all levels of teacher development.\n\nUETS 10b\nInTASC 9\nCAEP 1.1, 1.4, 3.3, 3.5, 3.6","• Does not avoid actions that may adversely affect ability to perform assigned duties and carry out the responsibilities of the profession, including role-model responsibilities\n• Does not know or understand professional requirements\n• Does not complete all requirements for clinical experiences\n• Does not maintain instructional and non-instructional records\n• Does not maintain integrity and confidentiality in matters concerning student records and collegial consultation\n• Develops inappropriate student-teacher relationships as defined in rules, law, and policy\n• Does not maintain professional demeanor and appearance as defined by university and the local education agency (LEA)\n",null,"• Avoids actions that may adversely affect ability to perform assigned duties and carry out the responsibilities of the profession, including role-model responsibilities\n• Takes responsibility to understand professional requirements and to complete all requirements for clinical experience\n• Takes responsibility to understand professional requirements, to maintain a current Utah Educator License, and to complete license upgrades, renewals, and additional requirements in a timely way\n• Maintains accurate instructional and non-instructional records\n• Maintains integrity and confidentiality in matters concerning student records and collegial consultation\n• Develops appropriate student-teacher relationships as defined in rules, law, and policy\n• Maintains professional demeanor and appearance as defined by university and the local education agency (LEA)\n"]
["Strengths:"]
["Suggestions:"]
["Candidate's Goal(s):"]
["Evaluator's Goal(s):"]
["Other:"]

{"sheet":"Cycle 2","index":5,"n_rows":140,"n_cols":8,"rows_kept":140,"cut":false,"hidden":false,"merged":[[136,1,136,6],[137,1,137,6],[138,1,138,6],[139,1,139,6],[133,0,134,0],[133,2,133,3],[133,4,133,6],[134,2,134,3],[134,4,134,6],[135,1,135,6],[130,0,131,0],[130,2,130,3],[130,4,130,6],[131,2,131,3],[131,4,131,6],[132,0,132,4],[132,5,132,6],[124,7,125,7],[126,0,127,0],[128,0,128,4],[128,5,128,6],[129,0,129,4],[129,5,129,6],[121,0,122,0],[123,0,123,4],[123,5,123,6],[124,0,125,1],[124,2,125,5],[124,6,125,6],[118,0,118,4],[118,5,118,6],[119,0,120,1],[119,2,120,5],[119,6,120,6],[119,7,120,7],[113,0,114,1],[113,2,114,5],[113,6,114,6],[113,7,114,7],[115,0,116,0],[117,0,117,4],[117,5,117,6],[108,0,109,0],[110,0,110,3],[110,5,110,6],[111,0,111,4],[111,5,111,6],[112,0,112,4],[112,5,112,6],[101,7,102,7],[103,0,104,0],[105,0,105,4],[105,5,105,6],[106,0,107,1],[106,2,107,5],[106,6,107,6],[106,7,107,7],[98,0,99,0],[100,0,100,4],[100,5,100,6],[101,0,102,1],[101,2,102,5],[101,6,102,6],[91,7,92,7],[93,0,94,0],[95,0,95,4],[95,5,95,6],[96,0,97,1],[96,2,97,5],[96,6,97,6],[96,7,97,7],[88,0,89,0],[90,0,90,4],[90,5,90,6],[91,0,92,1],[91,2,92,5],[91,6,92,6],[85,0,85,4],[85,5,85,6],[86,0,87,1],[86,2,87,5],[86,6,87,6],[86,7,87,7],[80,0,81,1],[80,2,81,5],[80,6,81,6],[80,7,81,7],[82,0,83,0],[84,0,84,4],[84,5,84,6],[75,0,76,1],[75,2,76,5],[75,6,76,6],[75,7,76,7],[77,0,78,0],[79,0,79,4],[79,5,79,6],[69,7,70,7],[71,0,72,0],[73,0,73,4],[73,5,73,6],[74,0,74,4],[74,5,74,6],[66,0,67,0],[68,0,68,4],[68,5,68,6],[69,0,70,1],[69,2,70,5],[69,6,70,6],[59,7,60,7],[61,0,62,0],[63,0,63,4],[63,5,63,6],[64,0,65,1],[64,2,65,5],[64,6,65,6],[64,7,65,7],[55,0,56,0],[57,0,57,4],[57,5,57,6],[58,0,58,4],[58,5,58,6],[59,0,60,1],[59,2,60,5],[59,6,60,6],[52,0,52,4],[52,5,52,6],[53,0,54,1],[53,2,54,5],[53,6,54,6],[53,7,54,7],[46,7,47,7],[48,0,49,0],[50,0,50,3],[50,5,50,6],[51,0,51,4],[51,5,51,6],[43,0,44,0],[45,0,45,4],[45,5,45,6],[46,0,47,1],[46,2,47,5],[46,6,47,6],[39,16367,39,16368],[39,16376,39,16377],[40,0,40,4],[40,5,40,6],[41,0,42,1],[41,2,42,5],[41,6,42,6],[41,7,42,7],[38,16367,38,16368],[38,16371,39,16371],[38,16376,38,16377],[38,16380,39,16380],[39,14,39,15],[39,23,39,24],[39,32,39,33],[39,41,39,42],[39,50,39,51],[39,59,39,60],[38,16340,38,16341],[38,16344,39,16344],[38,16349,38,16350],[38,16353,39,16353],[38,16358,38,16359],[38,16362,39,16362],[39,16340,39,16341],[39,16349,39,16350],[39,16358,39,16359],[38,16313,38,16314],[38,16317,39,16317],[38,16322,38,16323],[38,16326,39,16326],[38,16331,38,16332],[38,16335,39,16335],[39,16313,39,16314],[39,16322,39,16323],[39,16331,39,16332],[38,16286,38,16287],[38,16290,39,16290],[38,16295,38,16296],[38,16299,39,16299],[38,16304,38,16305],[38,16308,39,16308],[39,16286,39,16287],[39,16295,39,16296],[39,16304,39,16305],[38,16259,38,16260],[38,16263,39,16263],[38,16268,38,16269],[38,16272,39,16272],[38,16277,38,16278],[38,16281,39,16281],[39,16259,39,16260],[39,16268,39,16269],[39,16277,39,16278],[38,16232,38,16233],[38,16236,39,16236],[38,16241,38,16242],[38,16245,39,16245],[38,16250,38,16251],[38,16254,39,16254],[39,16232,39,16233],[39,16241,39,16242],[39,16250,39,16251],[38,16205,38,16206],[38,16209,39,16209],[38,16214,38,16215],[38,16218,39,16218],[38,16223,38,16224],[38,16227,39,16227],[39,16205,39,16206],[39,16214,39,16215],[39,16223,39,16224],[38,16178,38,16179],[38,16182,39,16182],[38,16187,38,16188],[38,16191,39,16191],[38,16196,38,16197],[38,16200,39,16200],[39,16178,39,16179],[39,16187,39,16188],[39,16196,39,16197],[38,16151,38,16152],[38,16155,39,16155],[38,16160,38,16161],[38,16164,39,16164],[38,16169,38,16170],[38,16173,39,16173],[39,16151,39,16152],[39,16160,39,16161],[39,16169,39,16170],[38,16124,38,16125],[38,16128,39,16128],[38,16133,38,16134],[38,16137,39,16137],[38,16142,38,16143],[38,16146,39,16146],[39,16124,39,16125],[39,16133,39,16134],[39,16142,39,16143],[38,16097,38,16098],[38,16101,39,16101],[38,16106,38,16107],[38,16110,39,16110],[38,16115,38,16116],[38,16119,39,16119],[39,16097,39,16098],[39,16106,39,16107],[39,16115,39,16116],[38,16070,38,16071],[38,16074,39,16074],[38,16079,38,16080],[38,16083,39,16083],[38,16088,38,16089],[38,16092,39,16092],[39,16070,39,16071],[39,16079,39,16080],[39,16088,39,16089],[38,16043,38,16044],[38,16047,39,16047],[38,16052,38,16053],[38,16056,39,16056],[38,16061,38,16062],[38,16065,39,16065],[39,16043,39,16044],[39,16052,39,16053],[39,16061,39,16062],[38,16016,38,16017],[38,16020,39,16020],[38,16025,38,16026],[38,16029,39,16029],[38,16034,38,16035],[38,16038,39,16038],[39,16016,39,16017],[39,16025,39,16026],[39,16034,39,16035],[38,15989,38,15990],[38,15993,39,15993],[38,15998,38,15999],[38,16002,39,16002],[38,16007,38,16008],[38,16011,39,16011],[39,15989,39,15990],[39,15998,39,15999],[39,16007,39,16008],[38,15962,38,15963],[38,15966,39,15966],[38,15971,38,15972],[38,15975,39,15975],[38,15980,38,15981],[38,15984,39,15984],[39,15962,39,15963],[39,15971,39,15972],[39,15980,39,15981],[38,15935,38,15936],[38,15939,39,15939],[38,15944,38,15945],[38,15948,39,15948],[38,15953,38,15954],[38,15957,39,15957],[39,15935,39,15936],[39,15944,39,15945],[39,15953,39,15954],[38,15908,38,15909],[38,15912,39,15912],[38,15917,38,15918],[38,15921,39,15921],[38,15926,38,15927],[38,15930,39,15930],[39,15908,39,15909],[39,15917,39,15918],[39,15926,39,15927],[38,15881,38,15882],[38,15885,39,15885],[38,15890,38,15891],[38,15894,39,15894],[38,15899,38,15900],[38,15903,39,15903],[39,15881,39,15882],[39,15890,39,15891],[39,15899,39,15900],[38,15854,38,15855],[38,15858,39,15858],[38,15863,38,15864],[38,15867,39,15867],[38,15872,38,15873],[38,15876,39,15876],[39,15854,39,15855],[39,15863,39,15864],[39,15872,39,15873],[38,15827,38,15828],[38,15831,39,15831],[38,15836,38,15837],[38,15840,39,15840],[38,15845,38,15846],[38,15849,39,15849],[39,15827,39,15828],[39,15836,39,15837],[39,15845,39,15846],[38,15800,38,15801],[38,15804,39,15804],[38,15809,38,15810],[38,15813,39,15813],[38,15818,38,15819],[38,15822,39,15822],[39,15800,39,15801],[39,15809,39,15810],[39,15818,39,15819],[38,15773,38,15774],[38,15777,39,15777],[38,15782,38,15783],[38,15786,39,15786],[38,15791,38,15792],[38,15795,39,15795],[39,15773,39,15774],[39,15782,39,15783],[39,15791,39,15792],[38,15746,38,15747],[38,15750,39,15750],[38,15755,38,15756],[38,15759,39,15759],[38,15764,38,15765],[38,15768,39,15768],[39,15746,39,15747],[39,15755,39,15756],[39,15764,39,15765],[38,15719,38,15720],[38,15723,39,15723],[38,15728,38,15729],[38,15732,39,15732],[38,15737,38,15738],[38,15741,39,15741],[39,15719,39,15720],[39,15728,39,15729],[39,15737,39,15738],[38,15692,38,15693],[38,15696,39,15696],[38,15701,38,15702],[38,15705,39,15705],[38,15710,38,15711],[38,15714,39,15714],[39,15692,39,15693],[39,15701,39,15702],[39,15710,39,15711],[38,15665,38,15666],[38,15669,39,15669],[38,15674,38,15675],[38,15678,39,15678],[38,15683,38,15684],[38,15687,39,15687],[39,15665,39,15666],[39,15674,39,15675],[39,15683,39,15684],[38,15638,38,15639],[38,15642,39,15642],[38,15647,38,15648],[38,15651,39,15651],[38,15656,38,15657],[38,15660,39,15660],[39,15638,39,15639],[39,15647,39,15648],[39,15656,39,15657],[38,15611,38,15612],[38,15615,39,15615],[38,15620,38,15621],[38,15624,39,15624],[38,15629,38,15630],[38,15633,39,15633],[39,15611,39,15612],[39,15620,39,15621],[39,15629,39,15630],[38,15584,38,15585],[38,15588,39,15588],[38,15593,38,15594],[38,15597,39,15597],[38,15602,38,15603],[38,15606,39,15606],[39,15584,39,15585],[39,15593,39,15594],[39,15602,39,15603],[38,15557,38,15558],[38,15561,39,15561],[38,15566,38,15567],[38,15570,39,15570],[38,15575,38,15576],[38,15579,39,15579],[39,15557,39,15558],[39,15566,39,15567],[39,15575,39,15576],[38,15530,38,15531],[38,15534,39,15534],[38,15539,38,15540],[38,15543,39,15543],[38,15548,38,15549],[38,15552,39,15552],[39,15530,39,15531],[39,15539,39,15540],[39,15548,39,15549],[38,15503,38,15504],[38,15507,39,15507],[38,15512,38,15513],[38,15516,39,15516],[38,15521,38,15522],[38,15525,39,15525],[39,15503,39,15504],[39,15512,39,15513],[39,15521,39,15522],[38,15476,38,15477],[38,15480,39,15480],[38,15485,38,15486],[38,15489,39,15489],[38,15494,38,15495],[38,15498,39,15498],[39,15476,39,15477],[39,15485,39,15486],[39,15494,39,15495],[38,15449,38,15450],[38,15453,39,15453],[38,15458,38,15459],[38,15462,39,15462],[38,15467,38,15468],[38,15471,39,15471],[39,15449,39,15450],[39,15458,39,15459],[39,15467,39,15468],[38,15422,38,15423],[38,15426,39,15426],[38,15431,38,15432],[38,15435,39,15435],[38,15440,38,15441],[38,15444,39,15444],[39,15422,39,15423],[39,15431,39,15432],[39,15440,39,15441],[38,15395,38,15396],[38,15399,39,15399],[38,15404,38,15405],[38,15408,39,15408],[38,15413,38,15414],[38,15417,39,15417],[39,15395,39,15396],[39,15404,39,15405],[39,15413,39,15414],[38,15368,38,15369],[38,15372,39,15372],[38,15377,38,15378],[38,15381,39,15381],[38,15386,38,15387],[38,15390,39,15390],[39,15368,39,15369],[39,15377,39,15378],[39,15386,39,15387],[38,15341,38,15342],[38,15345,39,15345],[38,15350,38,15351],[38,15354,39,15354],[38,15359,38,15360],[38,15363,39,15363],[39,15341,39,15342],[39,15350,39,15351],[39,15359,39,15360],[38,15314,38,15315],[38,15318,39,15318],[38,15323,38,15324],[38,15327,39,15327],[38,15332,38,15333],[38,15336,39,15336],[39,15314,39,15315],[39,15323,39,15324],[39,15332,39,15333],[38,15287,38,15288],[38,15291,39,15291],[38,15296,38,15297],[38,15300,39,15300],[38,15305,38,15306],[38,15309,39,15309],[39,15287,39,15288],[39,15296,39,15297],[39,15305,39,15306],[38,15260,38,15261],[38,15264,39,15264],[38,15269,38,15270],[38,15273,39,15273],[38,15278,38,15279],[38,15282,39,15282],[39,15260,39,15261],[39,15269,39,15270],[39,15278,39,15279],[38,15233,38,15234],[38,15237,39,15237],[38,15242,38,15243],[38,15246,39,15246],[38,15251,38,15252],[38,15255,39,15255],[39,15233,39,15234],[39,15242,39,15243],[39,15251,39,15252],[38,15206,38,15207],[38,15210,39,15210],[38,15215,38,15216],[38,15219,39,15219],[38,15224,38,15225],[38,15228,39,15228],[39,15206,39,15207],[39,15215,39,15216],[39,15224,39,15225],[38,15179,38,15180],[38,15183,39,15183],[38,15188,38,15189],[38,15192,39,15192],[38,15197,38,15198],[38,15201,39,15201],[39,15179,39,15180],[39,15188,39,15189],[39,15197,39,15198],[38,15152,38,15153],[38,15156,39,15156],[38,15161,38,15162],[38,15165,39,15165],[38,15170,38,15171],[38,15174,39,15174],[39,15152,39,15153],[39,15161,39,15162],[39,15170,39,15171],[38,15125,38,15126],[38,15129,39,15129],[38,15134,38,15135],[38,15138,39,15138],[38,15143,38,15144],[38,15147,39,15147],[39,15125,39,15126],[39,15134,39,15135],[39,15143,39,15144],[38,15098,38,15099],[38,15102,39,15102],[38,15107,38,15108],[38,15111,39,15111],[38,15116,38,15117],[38,15120,39,15120],[39,15098,39,15099],[39,15107,39,15108],[39,15116,39,15117],[38,15071,38,15072],[38,15075,39,15075],[38,15080,38,15081],[38,15084,39,15084],[38,15089,38,15090],[38,15093,39,15093],[39,15071,39,15072],[39,15080,39,15081],[39,15089,39,15090],[38,15044,38,15045],[38,15048,39,15048],[38,15053,38,15054],[38,15057,39,15057],[38,15062,38,15063],[38,15066,39,15066],[39,15044,39,15045],[39,15053,39,15054],[39,15062,39,15063],[38,15017,38,15018],[38,15021,39,15021],[38,15026,38,15027],[38,15030,39,15030],[38,15035,38,15036],[38,15039,39,15039],[39,15017,39,15018],[39,15026,39,15027],[39,15035,39,15036],[38,14990,38,14991],[38,14994,39,14994],[38,14999,38,15000],[38,15003,39,15003],[38,15008,38,15009],[38,15012,39,15012],[39,14990,39,14991],[39,14999,39,15000],[39,15008,39,15009],[38,14963,38,14964],[38,14967,39,14967],[38,14972,38,14973],[38,14976,39,14976],[38,14981,38,14982],[38,14985,39,14985],[39,14963,39,14964],[39,14972,39,14973],[39,14981,39,14982],[38,14936,38,14937],[38,14940,39,14940],[38,14945,38,14946],[38,14949,39,14949],[38,14954,38,14955],[38,14958,39,14958],[39,14936,39,14937],[39,14945,39,14946],[39,14954,39,14955],[38,14909,38,14910],[38,14913,39,14913],[38,14918,38,14919],[38,14922,39,14922],[38,14927,38,14928],[38,14931,39,14931],[39,14909,39,14910],[39,14918,39,14919],[39,14927,39,14928],[38,14882,38,14883],[38,14886,39,14886],[38,14891,38,14892],[38,14895,39,14895],[38,14900,38,14901],[38,14904,39,14904],[39,14882,39,14883],[39,14891,39,14892],[39,14900,39,14901],[38,14855,38,14856],[38,14859,39,14859],[38,14864,38,14865],[38,14868,39,14868],[38,14873,38,14874],[38,14877,39,14877],[39,14855,39,14856],[39,14864,39,14865],[39,14873,39,14874],[38,14828,38,14829],[38,14832,39,14832],[38,14837,38,14838],[38,14841,39,14841],[38,14846,38,14847],[38,14850,39,14850],[39,14828,39,14829],[39,14837,39,14838],[39,14846,39,14847],[38,14801,38,14802],[38,14805,39,14805],[38,14810,38,14811],[38,14814,39,14814],[38,14819,38,14820],[38,14823,39,14823],[39,14801,39,14802],[39,14810,39,14811],[39,14819,39,14820],[38,14774,38,14775],[38,14778,39,14778],[38,14783,38,14784],[38,14787,39,14787],[38,14792,38,14793],[38,14796,39,14796],[39,14774,39,14775],[39,14783,39,14784],[39,14792,39,14793],[38,14747,38,14748],[38,14751,39,14751],[38,14756,38,14757],[38,14760,39,14760],[38,14765,38,14766],[38,14769,39,14769],[39,14747,39,14748],[39,14756,39,14757],[39,14765,39,14766],[38,14720,38,14721],[38,14724,39,14724],[38,14729,38,14730],[38,14733,39,14733],[38,14738,38,14739],[38,14742,39,14742],[39,14720,39,14721],[39,14729,39,14730],[39,14738,39,14739],[38,14693,38,14694],[38,14697,39,14697],[38,14702,38,14703],[38,14706,39,14706],[38,14711,38,14712],[38,14715,39,14715],[39,14693,39,14694],[39,14702,39,14703],[39,14711,39,14712],[38,14666,38,14667],[38,14670,39,14670],[38,14675,38,14676],[38,14679,39,14679],[38,14684,38,14685],[38,14688,39,14688],[39,14666,39,14667],[39,14675,39,14676],[39,14684,39,14685],[38,14639,38,14640],[38,14643,39,14643],[38,14648,38,14649],[38,14652,39,14652],[38,14657,38,14658],[38,14661,39,14661],[39,14639,39,14640],[39,14648,39,14649],[39,14657,39,14658],[38,14612,38,14613],[38,14616,39,14616],[38,14621,38,14622],[38,14625,39,14625],[38,14630,38,14631],[38,14634,39,14634],[39,14612,39,14613],[39,14621,39,14622],[39,14630,39,14631],[38,14585,38,14586],[38,14589,39,14589],[38,14594,38,14595],[38,14598,39,14598],[38,14603,38,14604],[38,14607,39,14607],[39,14585,39,14586],[39,14594,39,14595],[39,14603,39,14604],[38,14558,38,14559],[38,14562,39,14562],[38,14567,38,14568],[38,14571,39,14571],[38,14576,38,14577],[38,14580,39,14580],[39,14558,39,14559],[39,14567,39,14568],[39,14576,39,14577],[38,14531,38,14532],[38,14535,39,14535],[38,14540,38,14541],[38,14544,39,14544],[38,14549,38,14550],[38,14553,39,14553],[39,14531,39,14532],[39,14540,39,14541],[39,14549,39,14550],[38,14504,38,14505],[38,14508,39,14508],[38,14513,38,14514],[38,14517,39,14517],[38,14522,38,14523],[38,14526,39,14526],[39,14504,39,14505],[39,14513,39,14514],[39,14522,39,14523],[38,14477,38,14478],[38,14481,39,14481],[38,14486,38,14487],[38,14490,39,14490],[38,14495,38,14496],[38,14499,39,14499],[39,14477,39,14478],[39,14486,39,14487],[39,14495,39,14496],[38,14450,38,14451],[38,14454,39,14454],[38,14459,38,14460],[38,14463,39,14463],[38,14468,38,14469],[38,14472,39,14472],[39,14450,39,14451],[39,14459,39,14460],[39,14468,39,14469],[38,14423,38,14424],[38,14427,39,14427],[38,14432,38,14433],[38,14436,39,14436],[38,14441,38,14442],[38,14445,39,14445],[39,14423,39,14424],[39,14432,39,14433],[39,14441,39,14442],[38,14396,38,14397],[38,14400,39,14400],[38,14405,38,14406],[38,14409,39,14409],[38,14414,38,14415],[38,14418,39,14418],[39,14396,39,14397],[39,14405,39,14406],[39,14414,39,14415],[38,14369,38,14370],[38,14373,39,14373],[38,14378,38,14379],[38,14382,39,14382],[38,14387,38,14388],[38,14391,39,14391],[39,14369,39,14370],[39,14378,39,14379],[39,14387,39,14388],[38,14342,38,14343],[38,14346,39,14346],[38,14351,38,14352],[38,14355,39,14355],[38,14360,38,14361],[38,14364,39,14364],[39,14342,39,14343],[39,14351,39,14352],[39,14360,39,14361],[38,14315,38,14316],[38,14319,39,14319],[38,14324,38,14325],[38,14328,39,14328],[38,14333,38,14334],[38,14337,39,14337],[39,14315,39,14316],[39,14324,39,14325],[39,14333,39,14334],[38,14288,38,14289],[38,14292,39,14292],[38,14297,38,14298],[38,14301,39,14301],[38,14306,38,14307],[38,14310,39,14310],[39,14288,39,14289],[39,14297,39,14298],[39,14306,39,14307],[38,14261,38,14262],[38,14265,39,14265],[38,14270,38,14271],[38,14274,39,14274],[38,14279,38,14280],[38,14283,39,14283],[39,14261,39,14262],[39,14270,39,14271],[39,14279,39,14280],[38,14234,38,14235],[38,14238,39,14238],[38,14243,38,14244],[38,14247,39,14247],[38,14252,38,14253],[38,14256,39,14256],[39,14234,39,14235],[39,14243,39,14244],[39,14252,39,14253],[38,14207,38,14208],[38,14211,39,14211],[38,14216,38,14217],[38,14220,39,14220],[38,14225,38,14226],[38,14229,39,14229],[39,14207,39,14208],[39,14216,39,14217],[39,14225,39,14226],[38,14180,38,14181],[38,14184,39,14184],[38,14189,38,14190],[38,14193,39,14193],[38,14198,38,14199],[38,14202,39,14202],[39,14180,39,14181],[39,14189,39,14190],[39,14198,39,14199],[38,14153,38,14154],[38,14157,39,14157],[38,14162,38,14163],[38,14166,39,14166],[38,14171,38,14172],[38,14175,39,14175],[39,14153,39,14154],[39,14162,39,14163],[39,14171,39,14172],[38,14126,38,14127],[38,14130,39,14130],[38,14135,38,14136],[38,14139,39,14139],[38,14144,38,14145],[38,14148,39,14148],[39,14126,39,14127],[39,14135,39,14136],[39,14144,39,14145],[38,14099,38,14100],[38,14103,39,14103],[38,14108,38,14109],[38,14112,39,14112],[38,14117,38,14118],[38,14121,39,14121],[39,14099,39,14100],[39,14108,39,14109],[39,14117,39,14118],[38,14072,38,14073],[38,14076,39,14076],[38,14081,38,14082],[38,14085,39,14085],[38,14090,38,14091],[38,14094,39,14094],[39,14072,39,14073],[39,14081,39,14082],[39,14090,39,14091],[38,14045,38,14046],[38,14049,39,14049],[38,14054,38,14055],[38,14058,39,14058],[38,14063,38,14064],[38,14067,39,14067],[39,14045,39,14046],[39,14054,39,14055],[39,14063,39,14064],[38,14018,38,14019],[38,14022,39,14022],[38,14027,38,14028],[38,14031,39,14031],[38,14036,38,14037],[38,14040,39,14040],[39,14018,39,14019],[39,14027,39,14028],[39,14036,39,14037],[38,13991,38,13992],[38,13995,39,13995],[38,14000,38,14001],[38,14004,39,14004],[38,14009,38,14010],[38,14013,39,14013],[39,13991,39,13992],[39,14000,39,14001],[39,14009,39,14010],[38,13964,38,13965],[38,13968,39,13968],[38,13973,38,13974],[38,13977,39,13977],[38,13982,38,13983],[38,13986,39,13986],[39,13964,39,13965],[39,13973,39,13974],[39,13982,39,13983],[38,13937,38,13938],[38,13941,39,13941],[38,13946,38,13947],[38,13950,39,13950],[38,13955,38,13956],[38,13959,39,13959],[39,13937,39,13938],[39,13946,39,13947],[39,13955,39,13956],[38,13910,38,13911],[38,13914,39,13914],[38,13919,38,13920],[38,13923,39,13923],[38,13928,38,13929],[38,13932,39,13932],[39,13910,39,13911],[39,13919,39,13920],[39,13928,39,13929],[38,13883,38,13884],[38,13887,39,13887],[38,13892,38,13893],[38,13896,39,13896],[38,13901,38,13902],[38,13905,39,13905],[39,13883,39,13884],[39,13892,39,13893],[39,13901,39,13902],[38,13856,38,13857],[38,13860,39,13860],[38,13865,38,13866],[38,13869,39,13869],[38,13874,38,13875],[38,13878,39,13878],[39,13856,39,13857],[39,13865,39,13866],[39,13874,39,13875],[38,13829,38,13830],[38,13833,39,13833]],"merged_total":5658,"flags":["merged_cut"]}
[]
["Candidate",{"$f":"IF(COUNTA('Cycle 1'!B2:C2)<>0,'Cycle 1'!B2:C2,\"\")","v":""},null,"Major",{"$f":"IF(COUNTA('Cycle 1'!E2)<>0,'Cycle 1'!E2,\"\")","v":""},"Date"]
["School",{"$f":"IF(COUNTA('Cycle 1'!B3:C3)<>0,'Cycle 1'!B3:C3,\"\")","v":""},null,"Course",{"$f":"IF(COUNTA('Cycle 1'!E3)<>0,'Cycle 1'!E3,\"\")","v":""},"District",{"$f":"IF(COUNTA('Cycle 1'!G3)<>0,'Cycle 1'!G3,\"\")","v":""}]
["Mentor Teacher",{"$f":"IF(COUNTA('Cycle 1'!B4:C4)<>0,'Cycle 1'!B4:C4,\"\")","v":""},null,"Grade",{"$f":"IF(COUNTA('Cycle 1'!E4)<>0,'Cycle 1'!E4,\"\")","v":""},"Principal",{"$f":"IF(COUNTA('Cycle 1'!G4)<>0,'Cycle 1'!G4,\"\")","v":""}]
["Evaluator",null,null,"Semester",{"$f":"IF(COUNTA('Cycle 1'!E5)<>0,'Cycle 1'!E5,\"\")","v":""},"Position",{"$f":"IF(COUNTA('Cycle 1'!G5)<>0,'Cycle 1'!G5,\"\")","v":""}]
["Field Experience",null,null,"Term",{"$f":"IF(COUNTA('Cycle 1'!E6)<>0,'Cycle 1'!E6,\"\")","v":""},"Subject"]
["Cycle #2 Notes"]
["Lesson Topic"]
["Observation Minutes"]
["Debrief/Consultation Minutes"]
[]
["Notes:"]
["Notes:"]
["Notes:"]
["Notes:"]
["Cycle #2 Scores "]
["THE LEARNER & LEARNING\nTeaching begins with the learner. To ensure that each student learns new knowledge and skills, teachers must understand that learning and developmental patterns vary among individuals, that learners bring unique individual differences to the learning process, and that learners need supportive and safe learning environments to thrive. ",null,null,null,"Total Average Score:",{"$f":"IFERROR(ROUND(AVERAGE($F$19,$F$24,$F$30,$F$36,$F$41,$F$46,$F$53,$F$59,$F$64,$F$69,$F$75,$F$80,$F$86,$F$91,$F$96,$F$101,$F$106,$F$113,$F$119,$F$124,$F$130,$F$133),2),\"--\")","v":"--"}]
["STANDARD 1: Learner Development",null,null,null,null,"SCORE"]
["  1.1  (O)  Appropriate Learning Experiences"]
[null,null,"Preservice (Practicum)",null,null,null,"Student Teaching/Intern","Career Teacher"]
[]
["1.1 \n\nO\nB\nS\nE\nR\nV\nA\nT\nI\nO\nN","Performance Expectation","Not Scored\n\n(NS)","Not Effective\n\n(0)","Beginning\n\n(1)","Developing\n\n(2)","Preservice Effective/\nUSBE Emerging Effective\n(3)","Inservice Effective\n\n(3)"]
[null,"Creates developmentally appropriate and challenging learning experiences based on each learner’s strengths, interests, and needs\n\nUETS 1a, 2e\nInTASC 1\nCAEP 1.1, 3.5","• The evaluator selected not to gather evidence and score this item for this formative assessment","• Provides developmentally inappropriate instruction\n• Lacks awareness of developmental needs\n\n\n","• Creates lessons according to grade level Utah Core Standards\n","…and\n• Add to or modifies lessons to provide varied learning experiences","…and\n• Implements learning experiences based on specific learners developmental levels","…and\n• Identifies appropriate developmental levels of individual learners and consistently and appropriately differentiates instruction learning experiences\n• Incorporates methods of language development into planning and instruction"]
["  1.2  (C) Collaborates with Others"]
[null,null,"Preservice (Practicum)",null,null,null,"Student Teaching/Intern","Career Teacher"]
[]
["1.2 \n\nC\nO\nN\nS\nU\nL\nT\nA\nT\nI\nO\nN","Performance Expectation","Not Scored\n\n(NS)","Not Effective\n\n(0)","Beginning\n\n(1)","Developing\n\n(2)","Preservice Effective/\nUSBE Emerging Effective\n(3)","Inservice Effective\n\n(3)"]
[null,"Collaborates with families, colleagues, and other professionals to promote student growth and development.\n\nUETS 1b\nInTASC 1\nCAEP 1.1, 3.5","• The evaluator selected not to gather evidence and score this item for this formative assessment","• Works in isolation \n• Avoids communication or communicates ineffectively\n• Does not focus on learner needs","• Communicates about procedural issues, schedules, and requirements.","…and \n• Responds to mentor inquires/concerns about learner development and progress. \n• Communicates about curriculum and instruction.\n","…and \n• Interacts with colleagues or families related to learner growth and development","…and\n• Collaborates with family members and a full range of colleagues to help meet the unique needs of all learners\n"]
["STANDARD 2:  Learning Differences",null,null,null,null,"SCORE"]
["  2.1  (O) Diverse Experiences"]
[null,null,"Preservice (Practicum)",null,null,null,"Student Teaching/Intern","Career Teacher"]
[]
["2.1 \n\nO\nB\nS\nE\nR\nV\nA\nT\nI\nO\nN","Performance Expectation","Not Scored\n\n(NS)","Not Effective\n\n(0)","Beginning\n\n(1)","Developing\n\n(2)","Preservice Effective/\nUSBE Emerging Effective\n(3)","Inservice Effective\n\n(3)"]
[null,"Allows learners multiple ways to demonstrate learning sensitive to diverse experiences, while holding high expectations for all.\n\nUETS 2a, 2b, 2c, 2d\nInTASC 2\nCAEP 1.1, 3.5\nCross-cutting Diversity","• The evaluator selected not to gather evidence and score this item for this formative assessment","• Not aware of learner differences\n• Not accepting of differences\n• Does not hold high expectations for learners","• Demonstrates awareness of learner diversity \n• Respects individual differences\n","..and\n• Applies general strategies for diverse learners","…and\n• Applies understanding of specific strategies for learner diversity to encourage all learners to reach their full potential","…and\n• Uses learner differences as an asset to adapt and deliver instruction for all learners\n• Provides students multiple ways to demonstrate learning"]
["STANDARD 3:  Learning Environment",null,null,null,null,"SCORE"]
["3.1  (O)  Engage and Support Students"]
[null,null,"Preservice (Practicum)",null,null,null,"Student Teaching/Intern","Career Teacher"]
[]
["3.1 \n\nO\nB\nS\nE\nR\nV\nA\nT\nI\nO\nN","Performance Expectation","Not Scored\n\n(NS)","Not Effective\n\n(0)","Beginning\n\n(1)","Developing\n\n(2)","Preservice Effective/\nUSBE Emerging Effective\n(3)","Inservice Effective\n\n(3)"]
[null,"Develops learning experiences that engage and support students as self-directed learners who internalize classroom routines, expectations, and procedures.\n\nUETS 3a\nInTASC 3\nCAEP 1.1, 3.5","• The evaluator selected not to gather evidence and score this item for this formative assessment","• Does not have a schedule planned\n• Has unorganized and lengthy transitions \n• Loses Instructional time\n\n","• Plans a schedule, routines, and behavioral expectations\n\n\n","…and \n• Communicates schedule, routines, and behavioral expectations to students\n \n","…and\n• Implements the daily schedule \n• Holds students accountable to follow routines and behavioral expectations\n","…and\n• Provides explicit direction so that learners know what to do and when to do it\n• Supports each learner as he/she establishes expectations and develops responsibility for his/her own behavior\n\n"]
["3.2  (O) Collaborates with Students"]
[null,null,"Preservice (Practicum)",null,null,null,"Student Teaching/Intern","Career Teacher"]
[]
["\n3.2 \n\nO\nB\nS\nE\nR\nV\nA\nT\nI\nO\nN\n","Performance Expectation","Not Scored\n\n(NS)","Not Effective\n\n(0)","Beginning\n\n(1)","Developing\n\n(2)","Preservice Effective/\nUSBE Emerging Effective\n(3)","Inservice Effective\n\n(3)"]
[null,"Collaborates with students to establish a positive learning climate of openness, respectful interactions, support, and inquiry.\n\nUETS 3b\nInTASC 3\nCAEP 1.1, 3.5","• The evaluator selected not to gather evidence and score this item for this formative assessment","• Demonstrates negative demeanor \n• Reprimands frequently \n• Leaves students unattended \n\n","• Communicates with students using developmentally appropriate language \n\n","…and \n• Communicates explicitly the expectations for classroom interactions\n• Provides opportunities for teacher-student interactions\n• Provides opportunities for student interactions\n \n","…and\n• Maintains positive interactions with and among students\n\n","…and\n• Collaborates with students to establish a positive learning climate of openness, respectful interactions, support, and inquiry\n• Organizes student learning teams for the purpose of developing cooperation, collaboration, and student leadership\n\n"]
["3.3  (O) Classroom Management Strategies"]
[null,null,"Preservice (Practicum)",null,null,null,"Student Teaching/Intern","Career Teacher"]
[]
["3.3 \n\nO\nB\nS\nE\nR\nV\nA\nT\nI\nO\nN","Performance Expectation","Not Scored\n\n(NS)","Not Effective\n\n(0)","Beginning\n\n(1)","Developing\n\n(2)","Preservice Effective/\nUSBE Emerging Effective\n(3)","Inservice Effective\n\n(3)"]
[null,"Utilizes positive classroom management strategies, including the resources of time, space, and attention, effectively.\n\nUETS 3c, 3d\nInTASC 3\nCAEP 1.1, 3.5","• The evaluator selected not to gather evidence and score this item for this formative assessment","• Uses time, space, and attention ineffectively\n• Does not use management plan\n","• Plans classroom management strategies\n• Plans instruction for the allotted time\n\n\n","…and\n• Paces instruction appropriate for student learning\n• Addresses inappropriate student behavior","…and \n• Implements classroom management strategies \n• Encourages learners to be engaged with the content \n• Manages time, space, and attention to increase participation","…and\n• Uses differentiated management strategies focusing on individual learner need\n• Gains and maintains student attention through active participation\n• Adjusts instructional pacing and transitions to maintain learner participation and support learning\n\n"]
["INSTRUCTIONAL PRACTICE\nEffective instructional practice requires that teachers have a deep and flexible understanding of their content areas and be able to draw upon content knowledge as they work with learners to access information, apply knowledge in real-world settings, and address meaningful issues. They must also understand and integrate assessment, planning, and instructional strategies in coordinated and engaging ways to assure learner mastery of the content."]
["STANDARD 4:  Content Knowledge",null,null,null,null,"SCORE"]
["  4.1  (O) Accurate, Multiple Representations"]
[null,null,"Preservice (Practicum)",null,null,null,"Student Teaching/Intern","Career Teacher"]
[]
["4.1\n\nO\nB\nS\nE\nR\nV\nA\nT\nI\nO\nN","Performance Expectation","Not Scored\n\n(NS)","Not Effective\n\n(0)","Beginning\n\n(1)","Developing\n\n(2)","Preservice Effective/\nUSBE Emerging Effective\n(3)","Inservice Effective\n\n(3)"]
[null,"Bases instruction on accurate content knowledge using multiple representations of concepts and appropriate academic language.\n \nUETS 4a, 4c, 4d, 4e, 7c\nInTASC 4 and 5\nCAEP 1.1, 1.3, 1.4, 3.4, 3.5\n\n","• The evaluator selected not to gather evidence and score this item for this formative assessment","• Provides inaccurate lesson content\n\n","• Demonstrate content knowledge\n\n","…and \n• Uses more than one way to explain concepts\n• Uses accurate academic language\n","…and \n• Models critical and/or creative thinking in the content area\n• Supports learner use of content-specific academic language\n\n","…and\n• Uses multiple representations and explanations of concepts to deepen each learner’s understanding\n• Models and expects learners to evaluate, create, and think critically about the content\n• Analyzes learner errors and misconceptions in order to redirect, focus, and deepen learning\n\n"]
["STANDARD 5:  Assessment",null,null,null,null,"SCORE"]
["5.1  (C) Assesses Effectiveness of Instruction"]
[null,null,"Preservice (Practicum)",null,null,null,"Student Teaching/Intern","Career Teacher"]
[]
["5.1\n\nC\nO\nN\nS\nU\nL\nT\nA\nT\nI\nO\nN","Performance Expectation","Not Scored\n\n(NS)","Not Effective\n\n(0)","Beginning\n\n(1)","Developing\n\n(2)","Preservice Effective/\nUSBE Emerging Effective\n(3)","Inservice Effective\n\n(3)"]
[null,"Uses data sources to assess the effectiveness of instruction and to make adjustments in planning and instruction.\n\nUETS 5a, 5c, 5d, 8a\nINTASC 6 \nCAEP 1.1, 1.2, 3.5\n\n\n\n","• The evaluator selected not to gather evidence and score this item for this formative assessment","• Does not collect or use data \n\n","• Collects data \n","…and\n• Analyzes data to document student learning \n• Uses formative assessment during instruction\n\n","…and\n• Uses data to evaluate the outcomes of teaching\n• Monitors learning and adjusts instruction during the lesson\n","…and \n• Targets instructional, intervention, and enrichment strategies based on data\n• Uses multiple formative and summative assessments to make ongoing adjustments in instruction based on a wide range of individual learner needs\n"]
["5.2  (C) Elements of Quality Work"]
[null,null,"Preservice (Practicum)",null,null,null,"Student Teaching/Intern","Career Teacher"]
[]
["5.2\n\nC\nO\nN\nS\nU\nL\nT\nA\nT\nI\nO\nN","Performance Expectation","Not Scored\n\n(NS)","Not Effective\n\n(0)","Beginning\n\n(1)","Developing\n\n(2)","Preservice Effective/\nUSBE Emerging Effective\n(3)","Inservice Effective\n\n(3)"]
[null,"Documents student progress and provides descriptive feedback to student, parent/guardian, and other stakeholders in a variety of ways.\n\nUETS 5b, 5e\nINTASC 6\nCAEP 1.1, 3.5","• The evaluator selected not to gather evidence and score this item for this formative assessment","• Does not document learner progress\n•Does not provide feedback\n\n","• Documents learner progress\n• Provides general feedback\n\n","…and \n• Provides specific and timely feedback","…and \n• Provides feedback to individuals and groups based on identified elements of quality work (e.g. rubrics, checklists, exemplars)\n• Shares assessment feedback with parents/guardians under the direction of the mentor teacher","…and\n• Uses a variety of effective formats to document and provide feedback on learner progress\n• Initiates ongoing, open communication between home and school about learner progress\n• Provides timely descriptive, and specific feedback to individuals and groups\n"]
["5.3  (C) Documents Progress, Provides Feedback"]
[null,null,"Preservice (Practicum)",null,null,null,"Student Teaching/Intern","Career Teacher"]
[]
["5.3\n\nC\nO\nN\nS\nU\nL\nT\nA\nT\nI\nO\nN","Performance Expectation","Not Scored\n\n(NS)","Not Effective\n\n(0)","Beginning\n\n(1)","Developing\n\n(2)","Preservice Effective/\nUSBE Emerging Effective\n(3)","Inservice Effective\n\n(3)"]
[null,"Designs or selects pre-assessments, formative, and summative assessments in a variety of formats that align to learning objectives and engage the learner in demonstrating knowledge and skills. \n\nUETS 5a\nInTASC 6\nCAEP 1.1, 3.5\n\n","• The evaluator selected not to gather evidence and score this item for this formative assessment","• Does not assess student learning \n• Assessment is inappropriate \n\n","• Lesson plan includes an assessment\n","…and\n• Designs, selects, or adapts assessments that align with learning objectives\n","…and \n• Uses a variety of assessment formats to evaluate student learning\n","…and\n• Designs assessments in a variety of formats that match learning objectives and Utah Common Core standards\n• Selected assessment(s) differentiate levels of student learning allowing the teacher to reteach missed concepts \n•  Selected assessment(s) accounts for individual learning styles and multicultural differences of learners minimizing bias\n"]
["STANDARD 6:  Instructional Planning",null,null,null,null,"SCORE"]
["6.1  (C) Knowledge and Reference  of Utah Core Standards"]
[null,null,"Preservice (Practicum)",null,null,null,"Student Teaching/Intern","Career Teacher"]
[]
["6.1\n\nC\nO\nN\nS\nU\nL\nT\nA\nT\nI\nO\nN","Performance Expectation","Not Scored\n\n(NS)","Not Effective\n\n(0)","Beginning\n\n(1)","Developing\n\n(2)","Preservice Effective/\nUSBE Emerging Effective\n(3)","Inservice Effective\n\n(3)"]
[null,"Demonstrates knowledge of the Utah Core Standards and references them in short- and long-term planning.\n\nUETS 4b, 6a\nInTASC 7\nCAEP 1.1, 1.3, 1.4, 3.4, 3.5\n","• The evaluator selected not to gather evidence and score this item for this formative assessment","• Unfamiliar with Utah Core Standards\n• Instructional materials do not align with standards \n• No evidence of learning objectives \n• No evidence of planning\n\n\n\n","• Includes Utah Core Standards in lesson plans\n\n\n","…and \n• Includes appropriate learning objectives based on Utah Core Standards\n\n","…and \n• Aligns daily instruction with Utah Core Standards \n• Selects instructional materials that support standards \n","…and\n• Plans and implements short- and long-term learning experiences that reference Utah Core Standards learning objectives and content\n• Organizes and adapts learning experiences and materials to align with the Utah Core Standards\n\n\n"]
["6.2  (C) Integrates Cross-disciplinary Skills"]
[null,null,"Preservice (Practicum)",null,null,null,"Student Teaching/Intern","Career Teacher"]
[]
["6.2\n\nC\nO\nN\nS\nU\nL\nT\nA\nT\nI\nO\nN","Performance Expectation","Not Scored\n\n(NS)","Not Effective\n\n(0)","Beginning\n\n(1)","Developing\n\n(2)","Preservice Effective/\nUSBE Emerging Effective\n(3)","Inservice Effective\n\n(3)"]
[null,"Integrates cross-disciplinary skills into instruction to purposefully engage learners in applying content knowledge.\n\nUETS 6b, 6e\nInTASC 7\nCAEP 1.1, 1.4, 3.4, 3.5","• The evaluator selected not to gather evidence and score this item for this formative assessment","• Does not acknowledge the importance of integrating cross-disciplinary skills (e.g., critical thinking, problem solving, creativity, communication)\n\n\n\n","• Acknowledges the importance of integrating cross-disciplinary skills\n\n","…and\n• Plans lessons in which cross-disciplinary skills are modeled\n\n","…and\n• Plans lessons that engage students in using cross-disciplinary skills\n","…and\n• Plans lessons that demonstrate how knowledge and skills transfer to other content areas\n• Designs learning experiences that promote the application of knowledge in multiple content areas\n\n\n"]
["STANDARD 7:  Instructional Strategies",null,null,null,null,"SCORE"]
["7.1  (O) Range of Appropriate Instructional Strategies"]
[null,null,"Preservice (Practicum)",null,null,null,"Student Teaching/Intern","Career Teacher"]
[]
["7.1\n\nO\nB\nS\nE\nR\nV\nA\nT\nI\nO\nN","Performance Expectation","Not Scored\n\n(NS)","Not Effective\n\n(0)","Beginning\n\n(1)","Developing\n\n(2)","Preservice Effective/\nUSBE Emerging Effective\n(3)","Inservice Effective\n\n(3)"]
[null,"Practices a range of developmentally, culturally, and linguistically appropriate instructional strategies to meet the needs of individuals and groups of learners.\n\nUETS 2b, 2e, 6c, 7a, 7b\nInTASC 8\nCAEP 1.1, 1.2, 1.4, 3.5\nCross-cutting diversity","• The evaluator selected not to gather evidence and score this item for this formative assessment","• Inappropriate strategies\n• No variety of strategies\n• Insensitivity to individual differences\n• No adjustments to instruction\n\n\n\n\n\n\n","• Uses instructional strategies focused on lesson objectives\n\n\n","…and \n• Incorporates various instructional strategies\n\n\n\n","…and \n• Identifies each learner's diverse learning strengths and needs\n• Attempts to adjust instruction based on the developmental, culture, or linguistic needs of the students in individual or small group settings\n","…and\n• Monitors and adjusts instruction in response to developmental, cultural, and linguistic needs of individuals and groups of learners\n• Enhances instruction by using a variety of appropriate strategies\n\n\n"]
["7.2  (O) Opportunities for Students to Develop Skills"]
[null,null,"Preservice (Practicum)",null,null,null,"Student Teaching/Intern","Career Teacher"]
[]
["7.2\n\nO\nB\nS\nE\nR\nV\nA\nT\nI\nO\nN","Performance Expectation","Not Scored\n\n(NS)","Not Effective\n\n(0)","Beginning\n\n(1)","Developing\n\n(2)","Preservice Effective/\nUSBE Emerging Effective\n(3)","Inservice Effective\n\n(3)"]
[null,"Provides multiple opportunities for students to develop higher-order and meta-cognitive skills.\n\nUETS 3f, 6d, 7e\nInTASC 8\nCAEP 1.1, 1.2, 1.4, 3.4, 3.5","• The evaluator selected not to gather evidence and score this item for this formative assessment","• Is not familiar with higher-order and meta-cognitive skills \n\n\n","• Uses instructional strategies focused on lower-order thinking skills (e.g., uses memorization, recall, and rote knowledge for most assessments/ tasks)\n\n","…and \n• Uses instructional strategies in which higher-order thinking skills are modeled \n\n","…and \n• Uses instructional strategies that engage learners in higher-order thinking","…and\n• Provides learners with explicit instruction to analyze, synthesize, and make decisions\n• Provides opportunities for learners to reflect on their own learning\n• Provides opportunities for student to generate and evaluate new ideas\n\n\n"]
["7.3  (O) Expands Learner's Communication Skills"]
[null,null,"Preservice (Practicum)",null,null,null,"Student Teaching/Intern","Career Teacher"]
[]
["7.3\n\nO\nB\nS\nE\nR\nV\nA\nT\nI\nO\nN","Performance Expectation","Not Scored\n\n(NS)","Not Effective\n\n(0)","Beginning\n\n(1)","Developing\n\n(2)","Preservice Effective/\nUSBE Emerging Effective\n(3)","Inservice Effective\n\n(3)"]
[null,"Supports and expands each learner’s communication skills through reading, writing, listening, and speaking.\n\nUETS 3f, 7d\nInTASC 8\nCAEP 1.1, 1.4, 3.4, 3.5","• The evaluator selected not to gather evidence and score this item for this formative assessment","• Communication skills are not taught or developed specifically\n• No opportunities for learner communication\n\n\n\n","• Engages learners in listening and/or reading during instruction ","…and \n• Allows learners to contribute through speaking or writing as part of instruction\n","…and \n• Provides opportunities for learners to practice communication skills, including reading, writing, listening, and speaking","…and\n• Teaches content-specific reading, writing, listening, and speaking skills for effective communication\n• Provides opportunities for learners to expand communication skills to articulate thoughts and ideas \n\n\n"]
["7.4  (O) Variety of Effective Technology and Resources"]
[null,null,"Preservice (Practicum)",null,null,null,"Student Teaching/Intern","Career Teacher"]
[]
["7.4\n\nO\nB\nS\nE\nR\nV\nA\nT\nI\nO\nN","Performance Expectation","Not Scored\n\n(NS)","Not Effective\n\n(0)","Beginning\n\n(1)","Developing\n\n(2)","Preservice Effective/\nUSBE Emerging Effective\n(3)","Inservice Effective\n\n(3)"]
[null,"Uses a variety of available and appropriate technology and/or resources to support learning.\n\nUETS 3e, 7f, 7g\nInTASC 8\nCAEP 1.1, 1.3, 1.5, 3.4, 3.5\nCross-cutting technology","• The evaluator selected not to gather evidence and score this item for this formative assessment","• Does not use available technology \n\n\n","• Uses teacher-centered technologies\n\n\n","…and \n• Uses technology to engage students\n\n","…and\n• Uses student-centered technologies in ways that promote learning","…and\n• Evaluates and uses various appropriate technologies to support content and skill development\n• Incorporates appropriate technology and/or resources to extend learner content knowledge and skill development\n\n\n"]
["7.5  (O) Finding and Using Information to Solve Problems"]
[null,null,"Preservice (Practicum)",null,null,null,"Student Teaching/Intern","Career Teacher"]
[]
["7.5\n\nO\nB\nS\nE\nR\nV\nA\nT\nI\nO\nN","Performance Expectation","Not Scored\n\n(NS)","Not Effective\n\n(0)","Beginning\n\n(1)","Developing\n\n(2)","Preservice Effective/\nUSBE Emerging Effective\n(3)","Inservice Effective\n\n(3)"]
[null,"Develops learners’ abilities to find and use information to solve real-world problems.\n\nUETS 7f, 7g\nInTASC 8\nCAEP 1.1, 1.3, 1.4, 3.4, 3.5","• The evaluator selected not to gather evidence and score this item for this formative assessment","• Sources not appropriate for instruction \n\n\n","• Provides multiple, appropriate sources of  information","…and \n• Uses multiple, appropriate sources of information during instruction ","…and \n• Engages learners in using multiple, appropriate sources of information","…and\n• Develops each learner’s ability to find, understand, and analyze diverse sources of information\n• Provides opportunities for learners to use multiple sources of information for quality and accuracy\n\n"]
["PROFESSIONAL RESPONSIBILITY\nCreating and supporting safe, productive learning environments that result in learners achieving at the highest levels is a teacher's primary responsibility. To do this well, teachers must engage in meaningful, intensive professional learning by regularly examining practice through ongoing study, self-reflection, and collaboration. They must be aware of legal and ethical requirements and engage in the highest levels of professional and ethical conduct."]
["STANDARD 8:  Reflection and Continuous Growth",null,null,null,null,"SCORE"]
["8.1 (C) Adapts and Improves Practice"]
[null,null,"Preservice (Practicum)",null,null,null,"Student Teaching/Intern","Career Teacher"]
[]
["8.1\n\nC\nO\nN\nS\nU\nL\nT\nA\nT\nI\nO\nN","Performance Expectation","Not Scored\n\n(NS)","Not Effective\n\n(0)","Beginning\n\n(1)","Developing\n\n(2)","Preservice Effective/\nUSBE Emerging Effective\n(3)","Inservice Effective\n\n(3)"]
[null,"Adapts and improves practice based on reflection and new learning.\n\nUETS 8b, 8c, 8d, 8e\nInTASC 9\nCAEP 1.1, 1.2, 3.3, 3.4, 3.5","• The evaluator selected not to gather evidence and score this item for this formative assessment","• Does not reflect on instruction \n• Does not accept feedback","• Attends to feedback from mentor teacher and supervisor ","…and \n• Develops a plan to improve practice in response to feedback\n• Self-reflects on lesson effectiveness \n","…and \n• Applies feedback from mentor teachers, supervisors, and self-reflection to improve teaching and learning in the classroom","…and\n• Applies current professional learning to classroom practice, consistent with its intent\n• Acknowledges the impact of bias on own teaching\n• Collaborates with supervisor to develop a professional learning plan based on data and the Utah Effective Teaching Standards\n"]
["STANDARD 9:  Leadership and Collaboration",null,null,null,null,"SCORE"]
["  9.1  (C) Participates and Collaborates in Decision Making"]
[null,null,"Preservice (Practicum)",null,null,null,"Student Teaching/Intern","Career Teacher"]
[]
["9.1\n\nC\nO\nN\nS\nU\nL\nT\nA\nT\nI\nO\nN","Performance Expectation","Not Scored\n\n(NS)","Not Effective\n\n(0)","Beginning\n\n(1)","Developing\n\n(2)","Preservice Effective/\nUSBE Emerging Effective\n(3)","Inservice Effective\n\n(3)"]
[null,"Participates actively in decision-making processes, while building a shared culture that affects the school and larger educational community.\n\nUETS 9a, 9b, 9d, 9e\nInTASC 10\nCAEP 1.1, 3.3, 3.5\n\n\n\n","• The evaluator selected not to gather evidence and score this item for this formative assessment","• Fails to fulfill required duties (e.g., contracted school day, etc.)\n• Displays lack of respect for colleagues/ classmates\n• Blames others, including students, for lack of success\n\n\n","• Participates in required school activities \n• Communicates with colleagues/ classmates when required \n\n\n\n","…and \n• Attends and participates in team meetings and other collaborative opportunities, when invited\n","…and \n• Acknowledges own actions that lead to success of all learners\n• Maintains cordial professional relationships with colleagues/classmates\n\n","…and\n• Participates with colleagues and collaborates in decision making\n• Accepts responsibility for the success of all learners\n\n"]
["  9.2  (C) Student is an Advocate"]
[null,null,"Preservice (Practicum)",null,null,null,"Student Teaching/Intern","Career Teacher"]
[]
["9.2\n\nC\nO\nN\nS\nU\nL\nT\nA\nT\nI\nO\nN","Performance Expectation","Not Scored\n\n(NS)","Not Effective\n\n(0)","Beginning\n\n(1)","Developing\n\n(2)","Preservice Effective/\nUSBE Emerging Effective\n(3)","Inservice Effective\n\n(3)"]
[null,"Advocates for the learners, the school, the community, and the profession.\n\nUETS 9c\nInTASC 9\nCAEP 1.1, 3.3, 3.5","• The evaluator selected not to gather evidence and score this item for this formative assessment","• Lacks respect for learners and families\n• Communicates negatively about learners, families, or the profession\n• Interacts inappropriately with learners, families, or colleagues/ classmates\n\n\n\n","• Respects learners, families, and the profession\n• Communicates positively about learners, families, and the profession\n• Interacts appropriately with learners, classmates, colleagues, and families\n\n","…and\n• Positively represents the profession, school, and university \n\n","…and \n• Contributes to learner success by responding to learner and/or family/community concerns ","…and\n• Advocates for all students to be prepared for high school graduation and future school work success\n• Seeks opportunities to make a positive impact on teaching quality, school improvement, and student achievement \n\n\n"]
["STANDARD 10: Professional Learning and Ethical Practices",null,null,null,null,"SCORE"]
["  10.1  (C) Complies With All Policies, Rules & Laws"]
["10.1\n\nC\nO\nN\nS\nU\nL\nT\nA\nT\nI\nO\nN","Performance Expectation","NO",null,"YES"]
[null,"Is responsible for compliance with university policies, federal and state laws, State Board of Education administrative rules, state assessment policies, local board policies, and supervisory directives.\n\nUETS 10a, 5f\nInTASC 9\nCAEP 1.1, 1.4, 3.3, 3.5, 3.6\n\n\n","• Does not understand nor adheres to university policies, federal and state laws, State Board of Education rules, state and local policies, supervisory directives, professional, moral, and ethical conduct and does not hold others accountable to do the same ",null," • Understands, adheres to, and upholds university polices, federal and state laws, State Board of Education rules, state and local policies, supervisory directives, professional, moral, and ethical conduct and holds others accountable to do the same\n"]
["  10.2  (C) Complies with State Board of Education Rule R277-530"]
["10.2\n\nC\nO\nN\nS\nU\nL\nT\nA\nT\nI\nO\nN","Performance Expectation","NO",null,"YES"]
[null,"Is responsible for compliance with all requirements of State Board of Education Rule R277-515 at all levels of teacher development.\n\nUETS 10b\nInTASC 9\nCAEP 1.1, 1.4, 3.3, 3.5, 3.6","• Does not avoid actions that may adversely affect ability to perform assigned duties and carry out the responsibilities of the profession, including role-model responsibilities\n• Does not know or understand professional requirements\n• Does not complete all requirements for clinical experiences\n• Does not maintain instructional and non-instructional records\n• Does not maintain integrity and confidentiality in matters concerning student records and collegial consultation\n• Develops inappropriate student-teacher relationships as defined in rules, law, and policy\n• Does not maintain professional demeanor and appearance as defined by university and the local education agency (LEA)\n",null,"• Avoids actions that may adversely affect ability to perform assigned duties and carry out the responsibilities of the profession, including role-model responsibilities\n• Takes responsibility to understand professional requirements and to complete all requirements for clinical experience\n• Takes responsibility to understand professional requirements, to maintain a current Utah Educator License, and to complete license upgrades, renewals, and additional requirements in a timely way\n• Maintains accurate instructional and non-instructional records\n• Maintains integrity and confidentiality in matters concerning student records and collegial consultation\n• Develops appropriate student-teacher relationships as defined in rules, law, and policy\n• Maintains professional demeanor and appearance as defined by university and the local education agency (LEA)\n"]
["Strengths:"]
["Suggestions:"]
["Candidate's Goal(s):"]
["Evaluator's Goal(s):"]
["Other:"]

{"sheet":"Cycle 3","index":6,"n_rows":140,"n_cols":8,"rows_kept":140,"cut":false,"hidden":false,"merged":[[136,1,136,6],[137,1,137,6],[138,1,138,6],[139,1,139,6],[133,0,134,0],[133,2,133,3],[133,4,133,6],[134,2,134,3],[134,4,134,6],[135,1,135,6],[130,0,131,0],[130,2,130,3],[130,4,130,6],[131,2,131,3],[131,4,131,6],[132,0,132,4],[132,5,132,6],[124,7,125,7],[126,0,127,0],[128,0,128,4],[128,5,128,6],[129,0,129,4],[129,5,129,6],[121,0,122,0],[123,0,123,4],[123,5,123,6],[124,0,125,1],[124,2,125,5],[124,6,125,6],[118,0,118,4],[118,5,118,6],[119,0,120,1],[119,2,120,5],[119,6,120,6],[119,7,120,7],[113,0,114,1],[113,2,114,5],[113,6,114,6],[113,7,114,7],[115,0,116,0],[117,0,117,4],[117,5,117,6],[108,0,109,0],[110,0,110,3],[110,5,110,6],[111,0,111,4],[111,5,111,6],[112,0,112,4],[112,5,112,6],[101,7,102,7],[103,0,104,0],[105,0,105,4],[105,5,105,6],[106,0,107,1],[106,2,107,5],[106,6,107,6],[106,7,107,7],[98,0,99,0],[100,0,100,4],[100,5,100,6],[101,0,102,1],[101,2,102,5],[101,6,102,6],[91,7,92,7],[93,0,94,0],[95,0,95,4],[95,5,95,6],[96,0,97,1],[96,2,97,5],[96,6,97,6],[96,7,97,7],[88,0,89,0],[90,0,90,4],[90,5,90,6],[91,0,92,1],[91,2,92,5],[91,6,92,6],[85,0,85,4],[85,5,85,6],[86,0,87,1],[86,2,87,5],[86,6,87,6],[86,7,87,7],[80,0,81,1],[80,2,81,5],[80,6,81,6],[80,7,81,7],[82,0,83,0],[84,0,84,4],[84,5,84,6],[75,0,76,1],[75,2,76,5],[75,6,76,6],[75,7,76,7],[77,0,78,0],[79,0,79,4],[79,5,79,6],[69,7,70,7],[71,0,72,0],[73,0,73,4],[73,5,73,6],[74,0,74,4],[74,5,74,6],[66,0,67,0],[68,0,68,4],[68,5,68,6],[69,0,70,1],[69,2,70,5],[69,6,70,6],[59,7,60,7],[61,0,62,0],[63,0,63,4],[63,5,63,6],[64,0,65,1],[64,2,65,5],[64,6,65,6],[64,7,65,7],[55,0,56,0],[57,0,57,4],[57,5,57,6],[58,0,58,4],[58,5,58,6],[59,0,60,1],[59,2,60,5],[59,6,60,6],[52,0,52,4],[52,5,52,6],[53,0,54,1],[53,2,54,5],[53,6,54,6],[53,7,54,7],[46,7,47,7],[48,0,49,0],[50,0,50,3],[50,5,50,6],[51,0,51,4],[51,5,51,6],[43,0,44,0],[45,0,45,4],[45,5,45,6],[46,0,47,1],[46,2,47,5],[46,6,47,6],[39,16367,39,16368],[39,16376,39,16377],[40,0,40,4],[40,5,40,6],[41,0,42,1],[41,2,42,5],[41,6,42,6],[41,7,42,7],[38,16367,38,16368],[38,16371,39,16371],[38,16376,38,16377],[38,16380,39,16380],[39,14,39,15],[39,23,39,24],[39,32,39,33],[39,41,39,42],[39,50,39,51],[39,59,39,60],[38,16340,38,16341],[38,16344,39,16344],[38,16349,38,16350],[38,16353,39,16353],[38,16358,38,16359],[38,16362,39,16362],[39,16340,39,16341],[39,16349,39,16350],[39,16358,39,16359],[38,16313,38,16314],[38,16317,39,16317],[38,16322,38,16323],[38,16326,39,16326],[38,16331,38,16332],[38,16335,39,16335],[39,16313,39,16314],[39,16322,39,16323],[39,16331,39,16332],[38,16286,38,16287],[38,16290,39,16290],[38,16295,38,16296],[38,16299,39,16299],[38,16304,38,16305],[38,16308,39,16308],[39,16286,39,16287],[39,16295,39,16296],[39,16304,39,16305],[38,16259,38,16260],[38,16263,39,16263],[38,16268,38,16269],[38,16272,39,16272],[38,16277,38,16278],[38,16281,39,16281],[39,16259,39,16260],[39,16268,39,16269],[39,16277,39,16278],[38,16232,38,16233],[38,16236,39,16236],[38,16241,38,16242],[38,16245,39,16245],[38,16250,38,16251],[38,16254,39,16254],[39,16232,39,16233],[39,16241,39,16242],[39,16250,39,16251],[38,16205,38,16206],[38,16209,39,16209],[38,16214,38,16215],[38,16218,39,16218],[38,16223,38,16224],[38,16227,39,16227],[39,16205,39,16206],[39,16214,39,16215],[39,16223,39,16224],[38,16178,38,16179],[38,16182,39,16182],[38,16187,38,16188],[38,16191,39,16191],[38,16196,38,16197],[38,16200,39,16200],[39,16178,39,16179],[39,16187,39,16188],[39,16196,39,16197],[38,16151,38,16152],[38,16155,39,16155],[38,16160,38,16161],[38,16164,39,16164],[38,16169,38,16170],[38,16173,39,16173],[39,16151,39,16152],[39,16160,39,16161],[39,16169,39,16170],[38,16124,38,16125],[38,16128,39,16128],[38,16133,38,16134],[38,16137,39,16137],[38,16142,38,16143],[38,16146,39,16146],[39,16124,39,16125],[39,16133,39,16134],[39,16142,39,16143],[38,16097,38,16098],[38,16101,39,16101],[38,16106,38,16107],[38,16110,39,16110],[38,16115,38,16116],[38,16119,39,16119],[39,16097,39,16098],[39,16106,39,16107],[39,16115,39,16116],[38,16070,38,16071],[38,16074,39,16074],[38,16079,38,16080],[38,16083,39,16083],[38,16088,38,16089],[38,16092,39,16092],[39,16070,39,16071],[39,16079,39,16080],[39,16088,39,16089],[38,16043,38,16044],[38,16047,39,16047],[38,16052,38,16053],[38,16056,39,16056],[38,16061,38,16062],[38,16065,39,16065],[39,16043,39,16044],[39,16052,39,16053],[39,16061,39,16062],[38,16016,38,16017],[38,16020,39,16020],[38,16025,38,16026],[38,16029,39,16029],[38,16034,38,16035],[38,16038,39,16038],[39,16016,39,16017],[39,16025,39,16026],[39,16034,39,16035],[38,15989,38,15990],[38,15993,39,15993],[38,15998,38,15999],[38,16002,39,16002],[38,16007,38,16008],[38,16011,39,16011],[39,15989,39,15990],[39,15998,39,15999],[39,16007,39,16008],[38,15962,38,15963],[38,15966,39,15966],[38,15971,38,15972],[38,15975,39,15975],[38,15980,38,15981],[38,15984,39,15984],[39,15962,39,15963],[39,15971,39,15972],[39,15980,39,15981],[38,15935,38,15936],[38,15939,39,15939],[38,15944,38,15945],[38,15948,39,15948],[38,15953,38,15954],[38,15957,39,15957],[39,15935,39,15936],[39,15944,39,15945],[39,15953,39,15954],[38,15908,38,15909],[38,15912,39,15912],[38,15917,38,15918],[38,15921,39,15921],[38,15926,38,15927],[38,15930,39,15930],[39,15908,39,15909],[39,15917,39,15918],[39,15926,39,15927],[38,15881,38,15882],[38,15885,39,15885],[38,15890,38,15891],[38,15894,39,15894],[38,15899,38,15900],[38,15903,39,15903],[39,15881,39,15882],[39,15890,39,15891],[39,15899,39,15900],[38,15854,38,15855],[38,15858,39,15858],[38,15863,38,15864],[38,15867,39,15867],[38,15872,38,15873],[38,15876,39,15876],[39,15854,39,15855],[39,15863,39,15864],[39,15872,39,15873],[38,15827,38,15828],[38,15831,39,15831],[38,15836,38,15837],[38,15840,39,15840],[38,15845,38,15846],[38,15849,39,15849],[39,15827,39,15828],[39,15836,39,15837],[39,15845,39,15846],[38,15800,38,15801],[38,15804,39,15804],[38,15809,38,15810],[38,15813,39,15813],[38,15818,38,15819],[38,15822,39,15822],[39,15800,39,15801],[39,15809,39,15810],[39,15818,39,15819],[38,15773,38,15774],[38,15777,39,15777],[38,15782,38,15783],[38,15786,39,15786],[38,15791,38,15792],[38,15795,39,15795],[39,15773,39,15774],[39,15782,39,15783],[39,15791,39,15792],[38,15746,38,15747],[38,15750,39,15750],[38,15755,38,15756],[38,15759,39,15759],[38,15764,38,15765],[38,15768,39,15768],[39,15746,39,15747],[39,15755,39,15756],[39,15764,39,15765],[38,15719,38,15720],[38,15723,39,15723],[38,15728,38,15729],[38,15732,39,15732],[38,15737,38,15738],[38,15741,39,15741],[39,15719,39,15720],[39,15728,39,15729],[39,15737,39,15738],[38,15692,38,15693],[38,15696,39,15696],[38,15701,38,15702],[38,15705,39,15705],[38,15710,38,15711],[38,15714,39,15714],[39,15692,39,15693],[39,15701,39,15702],[39,15710,39,15711],[38,15665,38,15666],[38,15669,39,15669],[38,15674,38,15675],[38,15678,39,15678],[38,15683,38,15684],[38,15687,39,15687],[39,15665,39,15666],[39,15674,39,15675],[39,15683,39,15684],[38,15638,38,15639],[38,15642,39,15642],[38,15647,38,15648],[38,15651,39,15651],[38,15656,38,15657],[38,15660,39,15660],[39,15638,39,15639],[39,15647,39,15648],[39,15656,39,15657],[38,15611,38,15612],[38,15615,39,15615],[38,15620,38,15621],[38,15624,39,15624],[38,15629,38,15630],[38,15633,39,15633],[39,15611,39,15612],[39,15620,39,15621],[39,15629,39,15630],[38,15584,38,15585],[38,15588,39,15588],[38,15593,38,15594],[38,15597,39,15597],[38,15602,38,15603],[38,15606,39,15606],[39,15584,39,15585],[39,15593,39,15594],[39,15602,39,15603],[38,15557,38,15558],[38,15561,39,15561],[38,15566,38,15567],[38,15570,39,15570],[38,15575,38,15576],[38,15579,39,15579],[39,15557,39,15558],[39,15566,39,15567],[39,15575,39,15576],[38,15530,38,15531],[38,15534,39,15534],[38,15539,38,15540],[38,15543,39,15543],[38,15548,38,15549],[38,15552,39,15552],[39,15530,39,15531],[39,15539,39,15540],[39,15548,39,15549],[38,15503,38,15504],[38,15507,39,15507],[38,15512,38,15513],[38,15516,39,15516],[38,15521,38,15522],[38,15525,39,15525],[39,15503,39,15504],[39,15512,39,15513],[39,15521,39,15522],[38,15476,38,15477],[38,15480,39,15480],[38,15485,38,15486],[38,15489,39,15489],[38,15494,38,15495],[38,15498,39,15498],[39,15476,39,15477],[39,15485,39,15486],[39,15494,39,15495],[38,15449,38,15450],[38,15453,39,15453],[38,15458,38,15459],[38,15462,39,15462],[38,15467,38,15468],[38,15471,39,15471],[39,15449,39,15450],[39,15458,39,15459],[39,15467,39,15468],[38,15422,38,15423],[38,15426,39,15426],[38,15431,38,15432],[38,15435,39,15435],[38,15440,38,15441],[38,15444,39,15444],[39,15422,39,15423],[39,15431,39,15432],[39,15440,39,15441],[38,15395,38,15396],[38,15399,39,15399],[38,15404,38,15405],[38,15408,39,15408],[38,15413,38,15414],[38,15417,39,15417],[39,15395,39,15396],[39,15404,39,15405],[39,15413,39,15414],[38,15368,38,15369],[38,15372,39,15372],[38,15377,38,15378],[38,15381,39,15381],[38,15386,38,15387],[38,15390,39,15390],[39,15368,39,15369],[39,15377,39,15378],[39,15386,39,15387],[38,15341,38,15342],[38,15345,39,15345],[38,15350,38,15351],[38,15354,39,15354],[38,15359,38,15360],[38,15363,39,15363],[39,15341,39,15342],[39,15350,39,15351],[39,15359,39,15360],[38,15314,38,15315],[38,15318,39,15318],[38,15323,38,15324],[38,15327,39,15327],[38,15332,38,15333],[38,15336,39,15336],[39,15314,39,15315],[39,15323,39,15324],[39,15332,39,15333],[38,15287,38,15288],[38,15291,39,15291],[38,15296,38,15297],[38,15300,39,15300],[38,15305,38,15306],[38,15309,39,15309],[39,15287,39,15288],[39,15296,39,15297],[39,15305,39,15306],[38,15260,38,15261],[38,15264,39,15264],[38,15269,38,15270],[38,15273,39,15273],[38,15278,38,15279],[38,15282,39,15282],[39,15260,39,15261],[39,15269,39,15270],[39,15278,39,15279],[38,15233,38,15234],[38,15237,39,15237],[38,15242,38,15243],[38,15246,39,15246],[38,15251,38,15252],[38,15255,39,15255],[39,15233,39,15234],[39,15242,39,15243],[39,15251,39,15252],[38,15206,38,15207],[38,15210,39,15210],[38,15215,38,15216],[38,15219,39,15219],[38,15224,38,15225],[38,15228,39,15228],[39,15206,39,15207],[39,15215,39,15216],[39,15224,39,15225],[38,15179,38,15180],[38,15183,39,15183],[38,15188,38,15189],[38,15192,39,15192],[38,15197,38,15198],[38,15201,39,15201],[39,15179,39,15180],[39,15188,39,15189],[39,15197,39,15198],[38,15152,38,15153],[38,15156,39,15156],[38,15161,38,15162],[38,15165,39,15165],[38,15170,38,15171],[38,15174,39,15174],[39,15152,39,15153],[39,15161,39,15162],[39,15170,39,15171],[38,15125,38,15126],[38,15129,39,15129],[38,15134,38,15135],[38,15138,39,15138],[38,15143,38,15144],[38,15147,39,15147],[39,15125,39,15126],[39,15134,39,15135],[39,15143,39,15144],[38,15098,38,15099],[38,15102,39,15102],[38,15107,38,15108],[38,15111,39,15111],[38,15116,38,15117],[38,15120,39,15120],[39,15098,39,15099],[39,15107,39,15108],[39,15116,39,15117],[38,15071,38,15072],[38,15075,39,15075],[38,15080,38,15081],[38,15084,39,15084],[38,15089,38,15090],[38,15093,39,15093],[39,15071,39,15072],[39,15080,39,15081],[39,15089,39,15090],[38,15044,38,15045],[38,15048,39,15048],[38,15053,38,15054],[38,15057,39,15057],[38,15062,38,15063],[38,15066,39,15066],[39,15044,39,15045],[39,15053,39,15054],[39,15062,39,15063],[38,15017,38,15018],[38,15021,39,15021],[38,15026,38,15027],[38,15030,39,15030],[38,15035,38,15036],[38,15039,39,15039],[39,15017,39,15018],[39,15026,39,15027],[39,15035,39,15036],[38,14990,38,14991],[38,14994,39,14994],[38,14999,38,15000],[38,15003,39,15003],[38,15008,38,15009],[38,15012,39,15012],[39,14990,39,14991],[39,14999,39,15000],[39,15008,39,15009],[38,14963,38,14964],[38,14967,39,14967],[38,14972,38,14973],[38,14976,39,14976],[38,14981,38,14982],[38,14985,39,14985],[39,14963,39,14964],[39,14972,39,14973],[39,14981,39,14982],[38,14936,38,14937],[38,14940,39,14940],[38,14945,38,14946],[38,14949,39,14949],[38,14954,38,14955],[38,14958,39,14958],[39,14936,39,14937],[39,14945,39,14946],[39,14954,39,14955],[38,14909,38,14910],[38,14913,39,14913],[38,14918,38,14919],[38,14922,39,14922],[38,14927,38,14928],[38,14931,39,14931],[39,14909,39,14910],[39,14918,39,14919],[39,14927,39,14928],[38,14882,38,14883],[38,14886,39,14886],[38,14891,38,14892],[38,14895,39,14895],[38,14900,38,14901],[38,14904,39,14904],[39,14882,39,14883],[39,14891,39,14892],[39,14900,39,14901],[38,14855,38,14856],[38,14859,39,14859],[38,14864,38,14865],[38,14868,39,14868],[38,14873,38,14874],[38,14877,39,14877],[39,14855,39,14856],[39,14864,39,14865],[39,14873,39,14874],[38,14828,38,14829],[38,14832,39,14832],[38,14837,38,14838],[38,14841,39,14841],[38,14846,38,14847],[38,14850,39,14850],[39,14828,39,14829],[39,14837,39,14838],[39,14846,39,14847],[38,14801,38,14802],[38,14805,39,14805],[38,14810,38,14811],[38,14814,39,14814],[38,14819,38,14820],[38,14823,39,14823],[39,14801,39,14802],[39,14810,39,14811],[39,14819,39,14820],[38,14774,38,14775],[38,14778,39,14778],[38,14783,38,14784],[38,14787,39,14787],[38,14792,38,14793],[38,14796,39,14796],[39,14774,39,14775],[39,14783,39,14784],[39,14792,39,14793],[38,14747,38,14748],[38,14751,39,14751],[38,14756,38,14757],[38,14760,39,14760],[38,14765,38,14766],[38,14769,39,14769],[39,14747,39,14748],[39,14756,39,14757],[39,14765,39,14766],[38,14720,38,14721],[38,14724,39,14724],[38,14729,38,14730],[38,14733,39,14733],[38,14738,38,14739],[38,14742,39,14742],[39,14720,39,14721],[39,14729,39,14730],[39,14738,39,14739],[38,14693,38,14694],[38,14697,39,14697],[38,14702,38,14703],[38,14706,39,14706],[38,14711,38,14712],[38,14715,39,14715],[39,14693,39,14694],[39,14702,39,14703],[39,14711,39,14712],[38,14666,38,14667],[38,14670,39,14670],[38,14675,38,14676],[38,14679,39,14679],[38,14684,38,14685],[38,14688,39,14688],[39,14666,39,14667],[39,14675,39,14676],[39,14684,39,14685],[38,14639,38,14640],[38,14643,39,14643],[38,14648,38,14649],[38,14652,39,14652],[38,14657,38,14658],[38,14661,39,14661],[39,14639,39,14640],[39,14648,39,14649],[39,14657,39,14658],[38,14612,38,14613],[38,14616,39,14616],[38,14621,38,14622],[38,14625,39,14625],[38,14630,38,14631],[38,14634,39,14634],[39,14612,39,14613],[39,14621,39,14622],[39,14630,39,14631],[38,14585,38,14586],[38,14589,39,14589],[38,14594,38,14595],[38,14598,39,14598],[38,14603,38,14604],[38,14607,39,14607],[39,14585,39,14586],[39,14594,39,14595],[39,14603,39,14604],[38,14558,38,14559],[38,14562,39,14562],[38,14567,38,14568],[38,14571,39,14571],[38,14576,38,14577],[38,14580,39,14580],[39,14558,39,14559],[39,14567,39,14568],[39,14576,39,14577],[38,14531,38,14532],[38,14535,39,14535],[38,14540,38,14541],[38,14544,39,14544],[38,14549,38,14550],[38,14553,39,14553],[39,14531,39,14532],[39,14540,39,14541],[39,14549,39,14550],[38,14504,38,14505],[38,14508,39,14508],[38,14513,38,14514],[38,14517,39,14517],[38,14522,38,14523],[38,14526,39,14526],[39,14504,39,14505],[39,14513,39,14514],[39,14522,39,14523],[38,14477,38,14478],[38,14481,39,14481],[38,14486,38,14487],[38,14490,39,14490],[38,14495,38,14496],[38,14499,39,14499],[39,14477,39,14478],[39,14486,39,14487],[39,14495,39,14496],[38,14450,38,14451],[38,14454,39,14454],[38,14459,38,14460],[38,14463,39,14463],[38,14468,38,14469],[38,14472,39,14472],[39,14450,39,14451],[39,14459,39,14460],[39,14468,39,14469],[38,14423,38,14424],[38,14427,39,14427],[38,14432,38,14433],[38,14436,39,14436],[38,14441,38,14442],[38,14445,39,14445],[39,14423,39,14424],[39,14432,39,14433],[39,14441,39,14442],[38,14396,38,14397],[38,14400,39,14400],[38,14405,38,14406],[38,14409,39,14409],[38,14414,38,14415],[38,14418,39,14418],[39,14396,39,14397],[39,14405,39,14406],[39,14414,39,14415],[38,14369,38,14370],[38,14373,39,14373],[38,14378,38,14379],[38,14382,39,14382],[38,14387,38,14388],[38,14391,39,14391],[39,14369,39,14370],[39,14378,39,14379],[39,14387,39,14388],[38,14342,38,14343],[38,14346,39,14346],[38,14351,38,14352],[38,14355,39,14355],[38,14360,38,14361],[38,14364,39,14364],[39,14342,39,14343],[39,14351,39,14352],[39,14360,39,14361],[38,14315,38,14316],[38,14319,39,14319],[38,14324,38,14325],[38,14328,39,14328],[38,14333,38,14334],[38,14337,39,14337],[39,14315,39,14316],[39,14324,39,14325],[39,14333,39,14334],[38,14288,38,14289],[38,14292,39,14292],[38,14297,38,14298],[38,14301,39,14301],[38,14306,38,14307],[38,14310,39,14310],[39,14288,39,14289],[39,14297,39,14298],[39,14306,39,14307],[38,14261,38,14262],[38,14265,39,14265],[38,14270,38,14271],[38,14274,39,14274],[38,14279,38,14280],[38,14283,39,14283],[39,14261,39,14262],[39,14270,39,14271],[39,14279,39,14280],[38,14234,38,14235],[38,14238,39,14238],[38,14243,38,14244],[38,14247,39,14247],[38,14252,38,14253],[38,14256,39,14256],[39,14234,39,14235],[39,14243,39,14244],[39,14252,39,14253],[38,14207,38,14208],[38,14211,39,14211],[38,14216,38,14217],[38,14220,39,14220],[38,14225,38,14226],[38,14229,39,14229],[39,14207,39,14208],[39,14216,39,14217],[39,14225,39,14226],[38,14180,38,14181],[38,14184,39,14184],[38,14189,38,14190],[38,14193,39,14193],[38,14198,38,14199],[38,14202,39,14202],[39,14180,39,14181],[39,14189,39,14190],[39,14198,39,14199],[38,14153,38,14154],[38,14157,39,14157],[38,14162,38,14163],[38,14166,39,14166],[38,14171,38,14172],[38,14175,39,14175],[39,14153,39,14154],[39,14162,39,14163],[39,14171,39,14172],[38,14126,38,14127],[38,14130,39,14130],[38,14135,38,14136],[38,14139,39,14139],[38,14144,38,14145],[38,14148,39,14148],[39,14126,39,14127],[39,14135,39,14136],[39,14144,39,14145],[38,14099,38,14100],[38,14103,39,14103],[38,14108,38,14109],[38,14112,39,14112],[38,14117,38,14118],[38,14121,39,14121],[39,14099,39,14100],[39,14108,39,14109],[39,14117,39,14118],[38,14072,38,14073],[38,14076,39,14076],[38,14081,38,14082],[38,14085,39,14085],[38,14090,38,14091],[38,14094,39,14094],[39,14072,39,14073],[39,14081,39,14082],[39,14090,39,14091],[38,14045,38,14046],[38,14049,39,14049],[38,14054,38,14055],[38,14058,39,14058],[38,14063,38,14064],[38,14067,39,14067],[39,14045,39,14046],[39,14054,39,14055],[39,14063,39,14064],[38,14018,38,14019],[38,14022,39,14022],[38,14027,38,14028],[38,14031,39,14031],[38,14036,38,14037],[38,14040,39,14040],[39,14018,39,14019],[39,14027,39,14028],[39,14036,39,14037],[38,13991,38,13992],[38,13995,39,13995],[38,14000,38,14001],[38,14004,39,14004],[38,14009,38,14010],[38,14013,39,14013],[39,13991,39,13992],[39,14000,39,14001],[39,14009,39,14010],[38,13964,38,13965],[38,13968,39,13968],[38,13973,38,13974],[38,13977,39,13977],[38,13982,38,13983],[38,13986,39,13986],[39,13964,39,13965],[39,13973,39,13974],[39,13982,39,13983],[38,13937,38,13938],[38,13941,39,13941],[38,13946,38,13947],[38,13950,39,13950],[38,13955,38,13956],[38,13959,39,13959],[39,13937,39,13938],[39,13946,39,13947],[39,13955,39,13956],[38,13910,38,13911],[38,13914,39,13914],[38,13919,38,13920],[38,13923,39,13923],[38,13928,38,13929],[38,13932,39,13932],[39,13910,39,13911],[39,13919,39,13920],[39,13928,39,13929],[38,13883,38,13884],[38,13887,39,13887],[38,13892,38,13893],[38,13896,39,13896],[38,13901,38,13902],[38,13905,39,13905],[39,13883,39,13884],[39,13892,39,13893],[39,13901,39,13902],[38,13856,38,13857],[38,13860,39,13860],[38,13865,38,13866],[38,13869,39,13869],[38,13874,38,13875],[38,13878,39,13878],[39,13856,39,13857],[39,13865,39,13866],[39,13874,39,13875],[38,13829,38,13830],[38,13833,39,13833]],"merged_total":5658,"flags":["merged_cut"]}
[]
["Candidate",{"$f":"IF(COUNTA('Cycle 1'!B2:C2)<>0,'Cycle 1'!B2:C2,\"\")","v":""},null,"Major",{"$f":"IF(COUNTA('Cycle 1'!E2)<>0,'Cycle 1'!E2,\"\")","v":""},"Date"]
["School",{"$f":"IF(COUNTA('Cycle 1'!B3:C3)<>0,'Cycle 1'!B3:C3,\"\")","v":""},null,"Course",{"$f":"IF(COUNTA('Cycle 1'!E3)<>0,'Cycle 1'!E3,\"\")","v":""},"District",{"$f":"IF(COUNTA('Cycle 1'!G3)<>0,'Cycle 1'!G3,\"\")","v":""}]
["Mentor Teacher",{"$f":"IF(COUNTA('Cycle 1'!B4:C4)<>0,'Cycle 1'!B4:C4,\"\")","v":""},null,"Grade",{"$f":"IF(COUNTA('Cycle 1'!E4)<>0,'Cycle 1'!E4,\"\")","v":""},"Principal",{"$f":"IF(COUNTA('Cycle 1'!G4)<>0,'Cycle 1'!G4,\"\")","v":""}]
["Evaluator",null,null,"Semester",{"$f":"IF(COUNTA('Cycle 1'!E5)<>0,'Cycle 1'!E5,\"\")","v":""},"Position",{"$f":"IF(COUNTA('Cycle 1'!G5)<>0,'Cycle 1'!G5,\"\")","v":""}]
["Field Experience",null,null,"Term",{"$f":"IF(COUNTA('Cycle 1'!E6)<>0,'Cycle 1'!E6,\"\")","v":""},"Subject"]
["Cycle #3 Notes"]
["Lesson Topic"]
["Observation Minutes"]
["Debrief/Consultation Minutes"]
[]
["Notes:"]
["Notes:"]
["Notes:"]
["Notes:"]
["Cycle #3 Scores "]
["THE LEARNER & LEARNING\nTeaching begins with the learner. To ensure that each student learns new knowledge and skills, teachers must understand that learning and developmental patterns vary among individuals, that learners bring unique individual differences to the learning process, and that learners need supportive and safe learning environments to thrive. ",null,null,null,"Total Average Score:",{"$f":"IFERROR(ROUND(AVERAGE($F$19,$F$24,$F$30,$F$36,$F$41,$F$46,$F$53,$F$59,$F$64,$F$69,$F$75,$F$80,$F$86,$F$91,$F$96,$F$101,$F$106,$F$113,$F$119,$F$124,$F$130,$F$133),2),\"--\")","v":"--"}]
["STANDARD 1: Learner Development",null,null,null,null,"SCORE"]
["  1.1  (O)  Appropriate Learning Experiences"]
[null,null,"Preservice (Practicum)",null,null,null,"Student Teaching/Intern","Career Teacher"]
[]
["1.1 \n\nO\nB\nS\nE\nR\nV\nA\nT\nI\nO\nN","Performance Expectation","Not Scored\n\n(NS)","Not Effective\n\n(0)","Beginning\n\n(1)","Developing\n\n(2)","Preservice Effective/\nUSBE Emerging Effective\n(3)","Inservice Effective\n\n(3)"]
[null,"Creates developmentally appropriate and challenging learning experiences based on each learner’s strengths, interests, and needs\n\nUETS 1a, 2e\nInTASC 1\nCAEP 1.1, 3.5","• The evaluator selected not to gather evidence and score this item for this formative assessment","• Provides developmentally inappropriate instruction\n• Lacks awareness of developmental needs\n\n\n","• Creates lessons according to grade level Utah Core Standards\n","…and\n• Add to or modifies lessons to provide varied learning experiences","…and\n• Implements learning experiences based on specific learners developmental levels","…and\n• Identifies appropriate developmental levels of individual learners and consistently and appropriately differentiates instruction learning experiences\n• Incorporates methods of language development into planning and instruction"]
["  1.2  (C) Collaborates with Others"]
[null,null,"Preservice (Practicum)",null,null,null,"Student Teaching/Intern","Career Teacher"]
[]
["1.2 \n\nC\nO\nN\nS\nU\nL\nT\nA\nT\nI\nO\nN","Performance Expectation","Not Scored\n\n(NS)","Not Effective\n\n(0)","Beginning\n\n(1)","Developing\n\n(2)","Preservice Effective/\nUSBE Emerging Effective\n(3)","Inservice Effective\n\n(3)"]
[null,"Collaborates with families, colleagues, and other professionals to promote student growth and development.\n\nUETS 1b\nInTASC 1\nCAEP 1.1, 3.5","• The evaluator selected not to gather evidence and score this item for this formative assessment","• Works in isolation \n• Avoids communication or communicates ineffectively\n• Does not focus on learner needs","• Communicates about procedural issues, schedules, and requirements.","…and \n• Responds to mentor inquires/concerns about learner development and progress. \n• Communicates about curriculum and instruction.\n","…and \n• Interacts with colleagues or families related to learner growth and development","…and\n• Collaborates with family members and a full range of colleagues to help meet the unique needs of all learners\n"]
["STANDARD 2:  Learning Differences",null,null,null,null,"SCORE"]
["  2.1  (O) Diverse Experiences"]
[null,null,"Preservice (Practicum)",null,null,null,"Student Teaching/Intern","Career Teacher"]
[]
["2.1 \n\nO\nB\nS\nE\nR\nV\nA\nT\nI\nO\nN","Performance Expectation","Not Scored\n\n(NS)","Not Effective\n\n(0)","Beginning\n\n(1)","Developing\n\n(2)","Preservice Effective/\nUSBE Emerging Effective\n(3)","Inservice Effective\n\n(3)"]
[null,"Allows learners multiple ways to demonstrate learning sensitive to diverse experiences, while holding high expectations for all.\n\nUETS 2a, 2b, 2c, 2d\nInTASC 2\nCAEP 1.1, 3.5\nCross-cutting Diversity","• The evaluator selected not to gather evidence and score this item for this formative assessment","• Not aware of learner differences\n• Not accepting of differences\n• Does not hold high expectations for learners","• Demonstrates awareness of learner diversity \n• Respects individual differences\n","..and\n• Applies general strategies for diverse learners","…and\n• Applies understanding of specific strategies for learner diversity to encourage all learners to reach their full potential","…and\n• Uses learner differences as an asset to adapt and deliver instruction for all learners\n• Provides students multiple ways to demonstrate learning"]
["STANDARD 3:  Learning Environment",null,null,null,null,"SCORE"]
["3.1  (O)  Engage and Support Students"]
[null,null,"Preservice (Practicum)",null,null,null,"Student Teaching/Intern","Career Teacher"]
[]
["3.1 \n\nO\nB\nS\nE\nR\nV\nA\nT\nI\nO\nN","Performance Expectation","Not Scored\n\n(NS)","Not Effective\n\n(0)","Beginning\n\n(1)","Developing\n\n(2)","Preservice Effective/\nUSBE Emerging Effective\n(3)","Inservice Effective\n\n(3)"]
[null,"Develops learning experiences that engage and support students as self-directed learners who internalize classroom routines, expectations, and procedures.\n\nUETS 3a\nInTASC 3\nCAEP 1.1, 3.5","• The evaluator selected not to gather evidence and score this item for this formative assessment","• Does not have a schedule planned\n• Has unorganized and lengthy transitions \n• Loses Instructional time\n\n","• Plans a schedule, routines, and behavioral expectations\n\n\n","…and \n• Communicates schedule, routines, and behavioral expectations to students\n \n","…and\n• Implements the daily schedule \n• Holds students accountable to follow routines and behavioral expectations\n","…and\n• Provides explicit direction so that learners know what to do and when to do it\n• Supports each learner as he/she establishes expectations and develops responsibility for his/her own behavior\n\n"]
["3.2  (O) Collaborates with Students"]
[null,null,"Preservice (Practicum)",null,null,null,"Student Teaching/Intern","Career Teacher"]
[]
["\n3.2 \n\nO\nB\nS\nE\nR\nV\nA\nT\nI\nO\nN\n","Performance Expectation","Not Scored\n\n(NS)","Not Effective\n\n(0)","Beginning\n\n(1)","Developing\n\n(2)","Preservice Effective/\nUSBE Emerging Effective\n(3)","Inservice Effective\n\n(3)"]
[null,"Collaborates with students to establish a positive learning climate of openness, respectful interactions, support, and inquiry.\n\nUETS 3b\nInTASC 3\nCAEP 1.1, 3.5","• The evaluator selected not to gather evidence and score this item for this formative assessment","• Demonstrates negative demeanor \n• Reprimands frequently \n• Leaves students unattended \n\n","• Communicates with students using developmentally appropriate language \n\n","…and \n• Communicates explicitly the expectations for classroom interactions\n• Provides opportunities for teacher-student interactions\n• Provides opportunities for student interactions\n \n","…and\n• Maintains positive interactions with and among students\n\n","…and\n• Collaborates with students to establish a positive learning climate of openness, respectful interactions, support, and inquiry\n• Organizes student learning teams for the purpose of developing cooperation, collaboration, and student leadership\n\n"]
["3.3  (O) Classroom Management Strategies"]
[null,null,"Preservice (Practicum)",null,null,null,"Student Teaching/Intern","Career Teacher"]
[]
["3.3 \n\nO\nB\nS\nE\nR\nV\nA\nT\nI\nO\nN","Performance Expectation","Not Scored\n\n(NS)","Not Effective\n\n(0)","Beginning\n\n(1)","Developing\n\n(2)","Preservice Effective/\nUSBE Emerging Effective\n(3)","Inservice Effective\n\n(3)"]
[null,"Utilizes positive classroom management strategies, including the resources of time, space, and attention, effectively.\n\nUETS 3c, 3d\nInTASC 3\nCAEP 1.1, 3.5","• The evaluator selected not to gather evidence and score this item for this formative assessment","• Uses time, space, and attention ineffectively\n• Does not use management plan\n","• Plans classroom management strategies\n• Plans instruction for the allotted time\n\n\n","…and\n• Paces instruction appropriate for student learning\n• Addresses inappropriate student behavior","…and \n• Implements classroom management strategies \n• Encourages learners to be engaged with the content \n• Manages time, space, and attention to increase participation","…and\n• Uses differentiated management strategies focusing on individual learner need\n• Gains and maintains student attention through active participation\n• Adjusts instructional pacing and transitions to maintain learner participation and support learning\n\n"]
["INSTRUCTIONAL PRACTICE\nEffective instructional practice requires that teachers have a deep and flexible understanding of their content areas and be able to draw upon content knowledge as they work with learners to access information, apply knowledge in real-world settings, and address meaningful issues. They must also understand and integrate assessment, planning, and instructional strategies in coordinated and engaging ways to assure learner mastery of the content."]
["STANDARD 4:  Content Knowledge",null,null,null,null,"SCORE"]
["  4.1  (O) Accurate, Multiple Representations"]
[null,null,"Preservice (Practicum)",null,null,null,"Student Teaching/Intern","Career Teacher"]
[]
["4.1\n\nO\nB\nS\nE\nR\nV\nA\nT\nI\nO\nN","Performance Expectation","Not Scored\n\n(NS)","Not Effective\n\n(0)","Beginning\n\n(1)","Developing\n\n(2)","Preservice Effective/\nUSBE Emerging Effective\n(3)","Inservice Effective\n\n(3)"]
[null,"Bases instruction on accurate content knowledge using multiple representations of concepts and appropriate academic language.\n \nUETS 4a, 4c, 4d, 4e, 7c\nInTASC 4 and 5\nCAEP 1.1, 1.3, 1.4, 3.4, 3.5\n\n","• The evaluator selected not to gather evidence and score this item for this formative assessment","• Provides inaccurate lesson content\n\n","• Demonstrate content knowledge\n\n","…and \n• Uses more than one way to explain concepts\n• Uses accurate academic language\n","…and \n• Models critical and/or creative thinking in the content area\n• Supports learner use of content-specific academic language\n\n","…and\n• Uses multiple representations and explanations of concepts to deepen each learner’s understanding\n• Models and expects learners to evaluate, create, and think critically about the content\n• Analyzes learner errors and misconceptions in order to redirect, focus, and deepen learning\n\n"]
["STANDARD 5:  Assessment",null,null,null,null,"SCORE"]
["5.1  (C) Assesses Effectiveness of Instruction"]
[null,null,"Preservice (Practicum)",null,null,null,"Student Teaching/Intern","Career Teacher"]
[]
["5.1\n\nC\nO\nN\nS\nU\nL\nT\nA\nT\nI\nO\nN","Performance Expectation","Not Scored\n\n(NS)","Not Effective\n\n(0)","Beginning\n\n(1)","Developing\n\n(2)","Preservice Effective/\nUSBE Emerging Effective\n(3)","Inservice Effective\n\n(3)"]
[null,"Uses data sources to assess the effectiveness of instruction and to make adjustments in planning and instruction.\n\nUETS 5a, 5c, 5d, 8a\nINTASC 6 \nCAEP 1.1, 1.2, 3.5\n\n\n\n","• The evaluator selected not to gather evidence and score this item for this formative assessment","• Does not collect or use data \n\n","• Collects data \n","…and\n• Analyzes data to document student learning \n• Uses formative assessment during instruction\n\n","…and\n• Uses data to evaluate the outcomes of teaching\n• Monitors learning and adjusts instruction during the lesson\n","…and \n• Targets instructional, intervention, and enrichment strategies based on data\n• Uses multiple formative and summative assessments to make ongoing adjustments in instruction based on a wide range of individual learner needs\n"]
["5.2  (C) Elements of Quality Work"]
[null,null,"Preservice (Practicum)",null,null,null,"Student Teaching/Intern","Career Teacher"]
[]
["5.2\n\nC\nO\nN\nS\nU\nL\nT\nA\nT\nI\nO\nN","Performance Expectation","Not Scored\n\n(NS)","Not Effective\n\n(0)","Beginning\n\n(1)","Developing\n\n(2)","Preservice Effective/\nUSBE Emerging Effective\n(3)","Inservice Effective\n\n(3)"]
[null,"Documents student progress and provides descriptive feedback to student, parent/guardian, and other stakeholders in a variety of ways.\n\nUETS 5b, 5e\nINTASC 6\nCAEP 1.1, 3.5","• The evaluator selected not to gather evidence and score this item for this formative assessment","• Does not document learner progress\n•Does not provide feedback\n\n","• Documents learner progress\n• Provides general feedback\n\n","…and \n• Provides specific and timely feedback","…and \n• Provides feedback to individuals and groups based on identified elements of quality work (e.g. rubrics, checklists, exemplars)\n• Shares assessment feedback with parents/guardians under the direction of the mentor teacher","…and\n• Uses a variety of effective formats to document and provide feedback on learner progress\n• Initiates ongoing, open communication between home and school about learner progress\n• Provides timely descriptive, and specific feedback to individuals and groups\n"]
["5.3  (C) Documents Progress, Provides Feedback"]
[null,null,"Preservice (Practicum)",null,null,null,"Student Teaching/Intern","Career Teacher"]
[]
["5.3\n\nC\nO\nN\nS\nU\nL\nT\nA\nT\nI\nO\nN","Performance Expectation","Not Scored\n\n(NS)","Not Effective\n\n(0)","Beginning\n\n(1)","Developing\n\n(2)","Preservice Effective/\nUSBE Emerging Effective\n(3)","Inservice Effective\n\n(3)"]
[null,"Designs or selects pre-assessments, formative, and summative assessments in a variety of formats that align to learning objectives and engage the learner in demonstrating knowledge and skills. \n\nUETS 5a\nInTASC 6\nCAEP 1.1, 3.5\n\n","• The evaluator selected not to gather evidence and score this item for this formative assessment","• Does not assess student learning \n• Assessment is inappropriate \n\n","• Lesson plan includes an assessment\n","…and\n• Designs, selects, or adapts assessments that align with learning objectives\n","…and \n• Uses a variety of assessment formats to evaluate student learning\n","…and\n• Designs assessments in a variety of formats that match learning objectives and Utah Common Core standards\n• Selected assessment(s) differentiate levels of student learning allowing the teacher to reteach missed concepts \n•  Selected assessment(s) accounts for individual learning styles and multicultural differences of learners minimizing bias\n"]
["STANDARD 6:  Instructional Planning",null,null,null,null,"SCORE"]
["6.1  (C) Knowledge and Reference  of Utah Core Standards"]
[null,null,"Preservice (Practicum)",null,null,null,"Student Teaching/Intern","Career Teacher"]
[]
["6.1\n\nC\nO\nN\nS\nU\nL\nT\nA\nT\nI\nO\nN","Performance Expectation","Not Scored\n\n(NS)","Not Effective\n\n(0)","Beginning\n\n(1)","Developing\n\n(2)","Preservice Effective/\nUSBE Emerging Effective\n(3)","Inservice Effective\n\n(3)"]
[null,"Demonstrates knowledge of the Utah Core Standards and references them in short- and long-term planning.\n\nUETS 4b, 6a\nInTASC 7\nCAEP 1.1, 1.3, 1.4, 3.4, 3.5\n","• The evaluator selected not to gather evidence and score this item for this formative assessment","• Unfamiliar with Utah Core Standards\n• Instructional materials do not align with standards \n• No evidence of learning objectives \n• No evidence of planning\n\n\n\n","• Includes Utah Core Standards in lesson plans\n\n\n","…and \n• Includes appropriate learning objectives based on Utah Core Standards\n\n","…and \n• Aligns daily instruction with Utah Core Standards \n• Selects instructional materials that support standards \n","…and\n• Plans and implements short- and long-term learning experiences that reference Utah Core Standards learning objectives and content\n• Organizes and adapts learning experiences and materials to align with the Utah Core Standards\n\n\n"]
["6.2  (C) Integrates Cross-disciplinary Skills"]
[null,null,"Preservice (Practicum)",null,null,null,"Student Teaching/Intern","Career Teacher"]
[]
["6.2\n\nC\nO\nN\nS\nU\nL\nT\nA\nT\nI\nO\nN","Performance Expectation","Not Scored\n\n(NS)","Not Effective\n\n(0)","Beginning\n\n(1)","Developing\n\n(2)","Preservice Effective/\nUSBE Emerging Effective\n(3)","Inservice Effective\n\n(3)"]
[null,"Integrates cross-disciplinary skills into instruction to purposefully engage learners in applying content knowledge.\n\nUETS 6b, 6e\nInTASC 7\nCAEP 1.1, 1.4, 3.4, 3.5","• The evaluator selected not to gather evidence and score this item for this formative assessment","• Does not acknowledge the importance of integrating cross-disciplinary skills (e.g., critical thinking, problem solving, creativity, communication)\n\n\n\n","• Acknowledges the importance of integrating cross-disciplinary skills\n\n","…and\n• Plans lessons in which cross-disciplinary skills are modeled\n\n","…and\n• Plans lessons that engage students in using cross-disciplinary skills\n","…and\n• Plans lessons that demonstrate how knowledge and skills transfer to other content areas\n• Designs learning experiences that promote the application of knowledge in multiple content areas\n\n\n"]
["STANDARD 7:  Instructional Strategies",null,null,null,null,"SCORE"]
["7.1  (O) Range of Appropriate Instructional Strategies"]
[null,null,"Preservice (Practicum)",null,null,null,"Student Teaching/Intern","Career Teacher"]
[]
["7.1\n\nO\nB\nS\nE\nR\nV\nA\nT\nI\nO\nN","Performance Expectation","Not Scored\n\n(NS)","Not Effective\n\n(0)","Beginning\n\n(1)","Developing\n\n(2)","Preservice Effective/\nUSBE Emerging Effective\n(3)","Inservice Effective\n\n(3)"]
[null,"Practices a range of developmentally, culturally, and linguistically appropriate instructional strategies to meet the needs of individuals and groups of learners.\n\nUETS 2b, 2e, 6c, 7a, 7b\nInTASC 8\nCAEP 1.1, 1.2, 1.4, 3.5\nCross-cutting diversity","• The evaluator selected not to gather evidence and score this item for this formative assessment","• Inappropriate strategies\n• No variety of strategies\n• Insensitivity to individual differences\n• No adjustments to instruction\n\n\n\n\n\n\n","• Uses instructional strategies focused on lesson objectives\n\n\n","…and \n• Incorporates various instructional strategies\n\n\n\n","…and \n• Identifies each learner's diverse learning strengths and needs\n• Attempts to adjust instruction based on the developmental, culture, or linguistic needs of the students in individual or small group settings\n","…and\n• Monitors and adjusts instruction in response to developmental, cultural, and linguistic needs of individuals and groups of learners\n• Enhances instruction by using a variety of appropriate strategies\n\n\n"]
["7.2  (O) Opportunities for Students to Develop Skills"]
[null,null,"Preservice (Practicum)",null,null,null,"Student Teaching/Intern","Career Teacher"]
[]
["7.2\n\nO\nB\nS\nE\nR\nV\nA\nT\nI\nO\nN","Performance Expectation","Not Scored\n\n(NS)","Not Effective\n\n(0)","Beginning\n\n(1)","Developing\n\n(2)","Preservice Effective/\nUSBE Emerging Effective\n(3)","Inservice Effective\n\n(3)"]
[null,"Provides multiple opportunities for students to develop higher-order and meta-cognitive skills.\n\nUETS 3f, 6d, 7e\nInTASC 8\nCAEP 1.1, 1.2, 1.4, 3.4, 3.5","• The evaluator selected not to gather evidence and score this item for this formative assessment","• Is not familiar with higher-order and meta-cognitive skills \n\n\n","• Uses instructional strategies focused on lower-order thinking skills (e.g., uses memorization, recall, and rote knowledge for most assessments/ tasks)\n\n","…and \n• Uses instructional strategies in which higher-order thinking skills are modeled \n\n","…and \n• Uses instructional strategies that engage learners in higher-order thinking","…and\n• Provides learners with explicit instruction to analyze, synthesize, and make decisions\n• Provides opportunities for learners to reflect on their own learning\n• Provides opportunities for student to generate and evaluate new ideas\n\n\n"]
["7.3  (O) Expands Learner's Communication Skills"]
[null,null,"Preservice (Practicum)",null,null,null,"Student Teaching/Intern","Career Teacher"]
[]
["7.3\n\nO\nB\nS\nE\nR\nV\nA\nT\nI\nO\nN","Performance Expectation","Not Scored\n\n(NS)","Not Effective\n\n(0)","Beginning\n\n(1)","Developing\n\n(2)","Preservice Effective/\nUSBE Emerging Effective\n(3)","Inservice Effective\n\n(3)"]
[null,"Supports and expands each learner’s communication skills through reading, writing, listening, and speaking.\n\nUETS 3f, 7d\nInTASC 8\nCAEP 1.1, 1.4, 3.4, 3.5","• The evaluator selected not to gather evidence and score this item for this formative assessment","• Communication skills are not taught or developed specifically\n• No opportunities for learner communication\n\n\n\n","• Engages learners in listening and/or reading during instruction ","…and \n• Allows learners to contribute through speaking or writing as part of instruction\n","…and \n• Provides opportunities for learners to practice communication skills, including reading, writing, listening, and speaking","…and\n• Teaches content-specific reading, writing, listening, and speaking skills for effective communication\n• Provides opportunities for learners to expand communication skills to articulate thoughts and ideas \n\n\n"]
["7.4  (O) Variety of Effective Technology and Resources"]
[null,null,"Preservice (Practicum)",null,null,null,"Student Teaching/Intern","Career Teacher"]
[]
["7.4\n\nO\nB\nS\nE\nR\nV\nA\nT\nI\nO\nN","Performance Expectation","Not Scored\n\n(NS)","Not Effective\n\n(0)","Beginning\n\n(1)","Developing\n\n(2)","Preservice Effective/\nUSBE Emerging Effective\n(3)","Inservice Effective\n\n(3)"]
[null,"Uses a variety of available and appropriate technology and/or resources to support learning.\n\nUETS 3e, 7f, 7g\nInTASC 8\nCAEP 1.1, 1.3, 1.5, 3.4, 3.5\nCross-cutting technology","• The evaluator selected not to gather evidence and score this item for this formative assessment","• Does not use available technology \n\n\n","• Uses teacher-centered technologies\n\n\n","…and \n• Uses technology to engage students\n\n","…and\n• Uses student-centered technologies in ways that promote learning","…and\n• Evaluates and uses various appropriate technologies to support content and skill development\n• Incorporates appropriate technology and/or resources to extend learner content knowledge and skill development\n\n\n"]
["7.5  (O) Finding and Using Information to Solve Problems"]
[null,null,"Preservice (Practicum)",null,null,null,"Student Teaching/Intern","Career Teacher"]
[]
["7.5\n\nO\nB\nS\nE\nR\nV\nA\nT\nI\nO\nN","Performance Expectation","Not Scored\n\n(NS)","Not Effective\n\n(0)","Beginning\n\n(1)","Developing\n\n(2)","Preservice Effective/\nUSBE Emerging Effective\n(3)","Inservice Effective\n\n(3)"]
[null,"Develops learners’ abilities to find and use information to solve real-world problems.\n\nUETS 7f, 7g\nInTASC 8\nCAEP 1.1, 1.3, 1.4, 3.4, 3.5","• The evaluator selected not to gather evidence and score this item for this formative assessment","• Sources not appropriate for instruction \n\n\n","• Provides multiple, appropriate sources of  information","…and \n• Uses multiple, appropriate sources of information during instruction ","…and \n• Engages learners in using multiple, appropriate sources of information","…and\n• Develops each learner’s ability to find, understand, and analyze diverse sources of information\n• Provides opportunities for learners to use multiple sources of information for quality and accuracy\n\n"]
["PROFESSIONAL RESPONSIBILITY\nCreating and supporting safe, productive learning environments that result in learners achieving at the highest levels is a teacher's primary responsibility. To do this well, teachers must engage in meaningful, intensive professional learning by regularly examining practice through ongoing study, self-reflection, and collaboration. They must be aware of legal and ethical requirements and engage in the highest levels of professional and ethical conduct."]
["STANDARD 8:  Reflection and Continuous Growth",null,null,null,null,"SCORE"]
["8.1 (C) Adapts and Improves Practice"]
[null,null,"Preservice (Practicum)",null,null,null,"Student Teaching/Intern","Career Teacher"]
[]
["8.1\n\nC\nO\nN\nS\nU\nL\nT\nA\nT\nI\nO\nN","Performance Expectation","Not Scored\n\n(NS)","Not Effective\n\n(0)","Beginning\n\n(1)","Developing\n\n(2)","Preservice Effective/\nUSBE Emerging Effective\n(3)","Inservice Effective\n\n(3)"]
[null,"Adapts and improves practice based on reflection and new learning.\n\nUETS 8b, 8c, 8d, 8e\nInTASC 9\nCAEP 1.1, 1.2, 3.3, 3.4, 3.5","• The evaluator selected not to gather evidence and score this item for this formative assessment","• Does not reflect on instruction \n• Does not accept feedback","• Attends to feedback from mentor teacher and supervisor ","…and \n• Develops a plan to improve practice in response to feedback\n• Self-reflects on lesson effectiveness \n","…and \n• Applies feedback from mentor teachers, supervisors, and self-reflection to improve teaching and learning in the classroom","…and\n• Applies current professional learning to classroom practice, consistent with its intent\n• Acknowledges the impact of bias on own teaching\n• Collaborates with supervisor to develop a professional learning plan based on data and the Utah Effective Teaching Standards\n"]
["STANDARD 9:  Leadership and Collaboration",null,null,null,null,"SCORE"]
["  9.1  (C) Participates and Collaborates in Decision Making"]
[null,null,"Preservice (Practicum)",null,null,null,"Student Teaching/Intern","Career Teacher"]
[]
["9.1\n\nC\nO\nN\nS\nU\nL\nT\nA\nT\nI\nO\nN","Performance Expectation","Not Scored\n\n(NS)","Not Effective\n\n(0)","Beginning\n\n(1)","Developing\n\n(2)","Preservice Effective/\nUSBE Emerging Effective\n(3)","Inservice Effective\n\n(3)"]
[null,"Participates actively in decision-making processes, while building a shared culture that affects the school and larger educational community.\n\nUETS 9a, 9b, 9d, 9e\nInTASC 10\nCAEP 1.1, 3.3, 3.5\n\n\n\n","• The evaluator selected not to gather evidence and score this item for this formative assessment","• Fails to fulfill required duties (e.g., contracted school day, etc.)\n• Displays lack of respect for colleagues/ classmates\n• Blames others, including students, for lack of success\n\n\n","• Participates in required school activities \n• Communicates with colleagues/ classmates when required \n\n\n\n","…and \n• Attends and participates in team meetings and other collaborative opportunities, when invited\n","…and \n• Acknowledges own actions that lead to success of all learners\n• Maintains cordial professional relationships with colleagues/classmates\n\n","…and\n• Participates with colleagues and collaborates in decision making\n• Accepts responsibility for the success of all learners\n\n"]
["  9.2  (C) Student is an Advocate"]
[null,null,"Preservice (Practicum)",null,null,null,"Student Teaching/Intern","Career Teacher"]
[]
["9.2\n\nC\nO\nN\nS\nU\nL\nT\nA\nT\nI\nO\nN","Performance Expectation","Not Scored\n\n(NS)","Not Effective\n\n(0)","Beginning\n\n(1)","Developing\n\n(2)","Preservice Effective/\nUSBE Emerging Effective\n(3)","Inservice Effective\n\n(3)"]
[null,"Advocates for the learners, the school, the community, and the profession.\n\nUETS 9c\nInTASC 9\nCAEP 1.1, 3.3, 3.5","• The evaluator selected not to gather evidence and score this item for this formative assessment","• Lacks respect for learners and families\n• Communicates negatively about learners, families, or the profession\n• Interacts inappropriately with learners, families, or colleagues/ classmates\n\n\n\n","• Respects learners, families, and the profession\n• Communicates positively about learners, families, and the profession\n• Interacts appropriately with learners, classmates, colleagues, and families\n\n","…and\n• Positively represents the profession, school, and university \n\n","…and \n• Contributes to learner success by responding to learner and/or family/community concerns ","…and\n• Advocates for all students to be prepared for high school graduation and future school work success\n• Seeks opportunities to make a positive impact on teaching quality, school improvement, and student achievement \n\n\n"]
["STANDARD 10: Professional Learning and Ethical Practices",null,null,null,null,"SCORE"]
["  10.1  (C) Complies With All Policies, Rules & Laws"]
["10.1\n\nC\nO\nN\nS\nU\nL\nT\nA\nT\nI\nO\nN","Performance Expectation","NO",null,"YES"]
[null,"Is responsible for compliance with university policies, federal and state laws, State Board of Education administrative rules, state assessment policies, local board policies, and supervisory directives.\n\nUETS 10a, 5f\nInTASC 9\nCAEP 1.1, 1.4, 3.3, 3.5, 3.6\n\n\n","• Does not understand nor adheres to university policies, federal and state laws, State Board of Education rules, state and local policies, supervisory directives, professional, moral, and ethical conduct and does not hold others accountable to do the same ",null," • Understands, adheres to, and upholds university polices, federal and state laws, State Board of Education rules, state and local policies, supervisory directives, professional, moral, and ethical conduct and holds others accountable to do the same\n"]
["  10.2  (C) Complies with State Board of Education Rule R277-530"]
["10.2\n\nC\nO\nN\nS\nU\nL\nT\nA\nT\nI\nO\nN","Performance Expectation","NO",null,"YES"]
[null,"Is responsible for compliance with all requirements of State Board of Education Rule R277-515 at all levels of teacher development.\n\nUETS 10b\nInTASC 9\nCAEP 1.1, 1.4, 3.3, 3.5, 3.6","• Does not avoid actions that may adversely affect ability to perform assigned duties and carry out the responsibilities of the profession, including role-model responsibilities\n• Does not know or understand professional requirements\n• Does not complete all requirements for clinical experiences\n• Does not maintain instructional and non-instructional records\n• Does not maintain integrity and confidentiality in matters concerning student records and collegial consultation\n• Develops inappropriate student-teacher relationships as defined in rules, law, and policy\n• Does not maintain professional demeanor and appearance as defined by university and the local education agency (LEA)\n",null,"• Avoids actions that may adversely affect ability to perform assigned duties and carry out the responsibilities of the profession, including role-model responsibilities\n• Takes responsibility to understand professional requirements and to complete all requirements for clinical experience\n• Takes responsibility to understand professional requirements, to maintain a current Utah Educator License, and to complete license upgrades, renewals, and additional requirements in a timely way\n• Maintains accurate instructional and non-instructional records\n• Maintains integrity and confidentiality in matters concerning student records and collegial consultation\n• Develops appropriate student-teacher relationships as defined in rules, law, and policy\n• Maintains professional demeanor and appearance as defined by university and the local education agency (LEA)\n"]
["Strengths:"]
["Suggestions:"]
["Candidate's Goal(s):"]
["Evaluator's Goal(s):"]
["Other:"]

{"sheet":"Cycle 4","index":7,"n_rows":140,"n_cols":8,"rows_kept":140,"cut":false,"hidden":false,"merged":[[136,1,136,6],[137,1,137,6],[138,1,138,6],[139,1,139,6],[133,0,134,0],[133,2,133,3],[133,4,133,6],[134,2,134,3],[134,4,134,6],[135,1,135,6],[130,0,131,0],[130,2,130,3],[130,4,130,6],[131,2,131,3],[131,4,131,6],[132,0,132,4],[132,5,132,6],[124,7,125,7],[126,0,127,0],[128,0,128,4],[128,5,128,6],[129,0,129,4],[129,5,129,6],[121,0,122,0],[123,0,123,4],[123,5,123,6],[124,0,125,1],[124,2,125,5],[124,6,125,6],[118,0,118,4],[118,5,118,6],[119,0,120,1],[119,2,120,5],[119,6,120,6],[119,7,120,7],[113,0,114,1],[113,2,114,5],[113,6,114,6],[113,7,114,7],[115,0,116,0],[117,0,117,4],[117,5,117,6],[108,0,109,0],[110,0,110,3],[110,5,110,6],[111,0,111,4],[111,5,111,6],[112,0,112,4],[112,5,112,6],[101,7,102,7],[103,0,104,0],[105,0,105,4],[105,5,105,6],[106,0,107,1],[106,2,107,5],[106,6,107,6],[106,7,107,7],[98,0,99,0],[100,0,100,4],[100,5,100,6],[101,0,102,1],[101,2,102,5],[101,6,102,6],[91,7,92,7],[93,0,94,0],[95,0,95,4],[95,5,95,6],[96,0,97,1],[96,2,97,5],[96,6,97,6],[96,7,97,7],[88,0,89,0],[90,0,90,4],[90,5,90,6],[91,0,92,1],[91,2,92,5],[91,6,92,6],[85,0,85,4],[85,5,85,6],[86,0,87,1],[86,2,87,5],[86,6,87,6],[86,7,87,7],[80,0,81,1],[80,2,81,5],[80,6,81,6],[80,7,81,7],[82,0,83,0],[84,0,84,4],[84,5,84,6],[75,0,76,1],[75,2,76,5],[75,6,76,6],[75,7,76,7],[77,0,78,0],[79,0,79,4],[79,5,79,6],[69,7,70,7],[71,0,72,0],[73,0,73,4],[73,5,73,6],[74,0,74,4],[74,5,74,6],[66,0,67,0],[68,0,68,4],[68,5,68,6],[69,0,70,1],[69,2,70,5],[69,6,70,6],[59,7,60,7],[61,0,62,0],[63,0,63,4],[63,5,63,6],[64,0,65,1],[64,2,65,5],[64,6,65,6],[64,7,65,7],[55,0,56,0],[57,0,57,4],[57,5,57,6],[58,0,58,4],[58,5,58,6],[59,0,60,1],[59,2,60,5],[59,6,60,6],[52,0,52,4],[52,5,52,6],[53,0,54,1],[53,2,54,5],[53,6,54,6],[53,7,54,7],[46,7,47,7],[48,0,49,0],[50,0,50,3],[50,5,50,6],[51,0,51,4],[51,5,51,6],[43,0,44,0],[45,0,45,4],[45,5,45,6],[46,0,47,1],[46,2,47,5],[46,6,47,6],[39,16367,39,16368],[39,16376,39,16377],[40,0,40,4],[40,5,40,6],[41,0,42,1],[41,2,42,5],[41,6,42,6],[41,7,42,7],[38,16367,38,16368],[38,16371,39,16371],[38,16376,38,16377],[38,16380,39,16380],[39,14,39,15],[39,23,39,24],[39,32,39,33],[39,41,39,42],[39,50,39,51],[39,59,39,60],[38,16340,38,16341],[38,16344,39,16344],[38,16349,38,16350],[38,16353,39,16353],[38,16358,38,16359],[38,16362,39,16362],[39,16340,39,16341],[39,16349,39,16350],[39,16358,39,16359],[38,16313,38,16314],[38,16317,39,16317],[38,16322,38,16323],[38,16326,39,16326],[38,16331,38,16332],[38,16335,39,16335],[39,16313,39,16314],[39,16322,39,16323],[39,16331,39,16332],[38,16286,38,16287],[38,16290,39,16290],[38,16295,38,16296],[38,16299,39,16299],[38,16304,38,16305],[38,16308,39,16308],[39,16286,39,16287],[39,16295,39,16296],[39,16304,39,16305],[38,16259,38,16260],[38,16263,39,16263],[38,16268,38,16269],[38,16272,39,16272],[38,16277,38,16278],[38,16281,39,16281],[39,16259,39,16260],[39,16268,39,16269],[39,16277,39,16278],[38,16232,38,16233],[38,16236,39,16236],[38,16241,38,16242],[38,16245,39,16245],[38,16250,38,16251],[38,16254,39,16254],[39,16232,39,16233],[39,16241,39,16242],[39,16250,39,16251],[38,16205,38,16206],[38,16209,39,16209],[38,16214,38,16215],[38,16218,39,16218],[38,16223,38,16224],[38,16227,39,16227],[39,16205,39,16206],[39,16214,39,16215],[39,16223,39,16224],[38,16178,38,16179],[38,16182,39,16182],[38,16187,38,16188],[38,16191,39,16191],[38,16196,38,16197],[38,16200,39,16200],[39,16178,39,16179],[39,16187,39,16188],[39,16196,39,16197],[38,16151,38,16152],[38,16155,39,16155],[38,16160,38,16161],[38,16164,39,16164],[38,16169,38,16170],[38,16173,39,16173],[39,16151,39,16152],[39,16160,39,16161],[39,16169,39,16170],[38,16124,38,16125],[38,16128,39,16128],[38,16133,38,16134],[38,16137,39,16137],[38,16142,38,16143],[38,16146,39,16146],[39,16124,39,16125],[39,16133,39,16134],[39,16142,39,16143],[38,16097,38,16098],[38,16101,39,16101],[38,16106,38,16107],[38,16110,39,16110],[38,16115,38,16116],[38,16119,39,16119],[39,16097,39,16098],[39,16106,39,16107],[39,16115,39,16116],[38,16070,38,16071],[38,16074,39,16074],[38,16079,38,16080],[38,16083,39,16083],[38,16088,38,16089],[38,16092,39,16092],[39,16070,39,16071],[39,16079,39,16080],[39,16088,39,16089],[38,16043,38,16044],[38,16047,39,16047],[38,16052,38,16053],[38,16056,39,16056],[38,16061,38,16062],[38,16065,39,16065],[39,16043,39,16044],[39,16052,39,16053],[39,16061,39,16062],[38,16016,38,16017],[38,16020,39,16020],[38,16025,38,16026],[38,16029,39,16029],[38,16034,38,16035],[38,16038,39,16038],[39,16016,39,16017],[39,16025,39,16026],[39,16034,39,16035],[38,15989,38,15990],[38,15993,39,15993],[38,15998,38,15999],[38,16002,39,16002],[38,16007,38,16008],[38,16011,39,16011],[39,15989,39,15990],[39,15998,39,15999],[39,16007,39,16008],[38,15962,38,15963],[38,15966,39,15966],[38,15971,38,15972],[38,15975,39,15975],[38,15980,38,15981],[38,15984,39,15984],[39,15962,39,15963],[39,15971,39,15972],[39,15980,39,15981],[38,15935,38,15936],[38,15939,39,15939],[38,15944,38,15945],[38,15948,39,15948],[38,15953,38,15954],[38,15957,39,15957],[39,15935,39,15936],[39,15944,39,15945],[39,15953,39,15954],[38,15908,38,15909],[38,15912,39,15912],[38,15917,38,15918],[38,15921,39,15921],[38,15926,38,15927],[38,15930,39,15930],[39,15908,39,15909],[39,15917,39,15918],[39,15926,39,15927],[38,15881,38,15882],[38,15885,39,15885],[38,15890,38,15891],[38,15894,39,15894],[38,15899,38,15900],[38,15903,39,15903],[39,15881,39,15882],[39,15890,39,15891],[39,15899,39,15900],[38,15854,38,15855],[38,15858,39,15858],[38,15863,38,15864],[38,15867,39,15867],[38,15872,38,15873],[38,15876,39,15876],[39,15854,39,15855],[39,15863,39,15864],[39,15872,39,15873],[38,15827,38,15828],[38,15831,39,15831],[38,15836,38,15837],[38,15840,39,15840],[38,15845,38,15846],[38,15849,39,15849],[39,15827,39,15828],[39,15836,39,15837],[39,15845,39,15846],[38,15800,38,15801],[38,15804,39,15804],[38,15809,38,15810],[38,15813,39,15813],[38,15818,38,15819],[38,15822,39,15822],[39,15800,39,15801],[39,15809,39,15810],[39,15818,39,15819],[38,15773,38,15774],[38,15777,39,15777],[38,15782,38,15783],[38,15786,39,15786],[38,15791,38,15792],[38,15795,39,15795],[39,15773,39,15774],[39,15782,39,15783],[39,15791,39,15792],[38,15746,38,15747],[38,15750,39,15750],[38,15755,38,15756],[38,15759,39,15759],[38,15764,38,15765],[38,15768,39,15768],[39,15746,39,15747],[39,15755,39,15756],[39,15764,39,15765],[38,15719,38,15720],[38,15723,39,15723],[38,15728,38,15729],[38,15732,39,15732],[38,15737,38,15738],[38,15741,39,15741],[39,15719,39,15720],[39,15728,39,15729],[39,15737,39,15738],[38,15692,38,15693],[38,15696,39,15696],[38,15701,38,15702],[38,15705,39,15705],[38,15710,38,15711],[38,15714,39,15714],[39,15692,39,15693],[39,15701,39,15702],[39,15710,39,15711],[38,15665,38,15666],[38,15669,39,15669],[38,15674,38,15675],[38,15678,39,15678],[38,15683,38,15684],[38,15687,39,15687],[39,15665,39,15666],[39,15674,39,15675],[39,15683,39,15684],[38,15638,38,15639],[38,15642,39,15642],[38,15647,38,15648],[38,15651,39,15651],[38,15656,38,15657],[38,15660,39,15660],[39,15638,39,15639],[39,15647,39,15648],[39,15656,39,15657],[38,15611,38,15612],[38,15615,39,15615],[38,15620,38,15621],[38,15624,39,15624],[38,15629,38,15630],[38,15633,39,15633],[39,15611,39,15612],[39,15620,39,15621],[39,15629,39,15630],[38,15584,38,15585],[38,15588,39,15588],[38,15593,38,15594],[38,15597,39,15597],[38,15602,38,15603],[38,15606,39,15606],[39,15584,39,15585],[39,15593,39,15594],[39,15602,39,15603],[38,15557,38,15558],[38,15561,39,15561],[38,15566,38,15567],[38,15570,39,15570],[38,15575,38,15576],[38,15579,39,15579],[39,15557,39,15558],[39,15566,39,15567],[39,15575,39,15576],[38,15530,38,15531],[38,15534,39,15534],[38,15539,38,15540],[38,15543,39,15543],[38,15548,38,15549],[38,15552,39,15552],[39,15530,39,15531],[39,15539,39,15540],[39,15548,39,15549],[38,15503,38,15504],[38,15507,39,15507],[38,15512,38,15513],[38,15516,39,15516],[38,15521,38,15522],[38,15525,39,15525],[39,15503,39,15504],[39,15512,39,15513],[39,15521,39,15522],[38,15476,38,15477],[38,15480,39,15480],[38,15485,38,15486],[38,15489,39,15489],[38,15494,38,15495],[38,15498,39,15498],[39,15476,39,15477],[39,15485,39,15486],[39,15494,39,15495],[38,15449,38,15450],[38,15453,39,15453],[38,15458,38,15459],[38,15462,39,15462],[38,15467,38,15468],[38,15471,39,15471],[39,15449,39,15450],[39,15458,39,15459],[39,15467,39,15468],[38,15422,38,15423],[38,15426,39,15426],[38,15431,38,15432],[38,15435,39,15435],[38,15440,38,15441],[38,15444,39,15444],[39,15422,39,15423],[39,15431,39,15432],[39,15440,39,15441],[38,15395,38,15396],[38,15399,39,15399],[38,15404,38,15405],[38,15408,39,15408],[38,15413,38,15414],[38,15417,39,15417],[39,15395,39,15396],[39,15404,39,15405],[39,15413,39,15414],[38,15368,38,15369],[38,15372,39,15372],[38,15377,38,15378],[38,15381,39,15381],[38,15386,38,15387],[38,15390,39,15390],[39,15368,39,15369],[39,15377,39,15378],[39,15386,39,15387],[38,15341,38,15342],[38,15345,39,15345],[38,15350,38,15351],[38,15354,39,15354],[38,15359,38,15360],[38,15363,39,15363],[39,15341,39,15342],[39,15350,39,15351],[39,15359,39,15360],[38,15314,38,15315],[38,15318,39,15318],[38,15323,38,15324],[38,15327,39,15327],[38,15332,38,15333],[38,15336,39,15336],[39,15314,39,15315],[39,15323,39,15324],[39,15332,39,15333],[38,15287,38,15288],[38,15291,39,15291],[38,15296,38,15297],[38,15300,39,15300],[38,15305,38,15306],[38,15309,39,15309],[39,15287,39,15288],[39,15296,39,15297],[39,15305,39,15306],[38,15260,38,15261],[38,15264,39,15264],[38,15269,38,15270],[38,15273,39,15273],[38,15278,38,15279],[38,15282,39,15282],[39,15260,39,15261],[39,15269,39,15270],[39,15278,39,15279],[38,15233,38,15234],[38,15237,39,15237],[38,15242,38,15243],[38,15246,39,15246],[38,15251,38,15252],[38,15255,39,15255],[39,15233,39,15234],[39,15242,39,15243],[39,15251,39,15252],[38,15206,38,15207],[38,15210,39,15210],[38,15215,38,15216],[38,15219,39,15219],[38,15224,38,15225],[38,15228,39,15228],[39,15206,39,15207],[39,15215,39,15216],[39,15224,39,15225],[38,15179,38,15180],[38,15183,39,15183],[38,15188,38,15189],[38,15192,39,15192],[38,15197,38,15198],[38,15201,39,15201],[39,15179,39,15180],[39,15188,39,15189],[39,15197,39,15198],[38,15152,38,15153],[38,15156,39,15156],[38,15161,38,15162],[38,15165,39,15165],[38,15170,38,15171],[38,15174,39,15174],[39,15152,39,15153],[39,15161,39,15162],[39,15170,39,15171],[38,15125,38,15126],[38,15129,39,15129],[38,15134,38,15135],[38,15138,39,15138],[38,15143,38,15144],[38,15147,39,15147],[39,15125,39,15126],[39,15134,39,15135],[39,15143,39,15144],[38,15098,38,15099],[38,15102,39,15102],[38,15107,38,15108],[38,15111,39,15111],[38,15116,38,15117],[38,15120,39,15120],[39,15098,39,15099],[39,15107,39,15108],[39,15116,39,15117],[38,15071,38,15072],[38,15075,39,15075],[38,15080,38,15081],[38,15084,39,15084],[38,15089,38,15090],[38,15093,39,15093],[39,15071,39,15072],[39,15080,39,15081],[39,15089,39,15090],[38,15044,38,15045],[38,15048,39,15048],[38,15053,38,15054],[38,15057,39,15057],[38,15062,38,15063],[38,15066,39,15066],[39,15044,39,15045],[39,15053,39,15054],[39,15062,39,15063],[38,15017,38,15018],[38,15021,39,15021],[38,15026,38,15027],[38,15030,39,15030],[38,15035,38,15036],[38,15039,39,15039],[39,15017,39,15018],[39,15026,39,15027],[39,15035,39,15036],[38,14990,38,14991],[38,14994,39,14994],[38,14999,38,15000],[38,15003,39,15003],[38,15008,38,15009],[38,15012,39,15012],[39,14990,39,14991],[39,14999,39,15000],[39,15008,39,15009],[38,14963,38,14964],[38,14967,39,14967],[38,14972,38,14973],[38,14976,39,14976],[38,14981,38,14982],[38,14985,39,14985],[39,14963,39,14964],[39,14972,39,14973],[39,14981,39,14982],[38,14936,38,14937],[38,14940,39,14940],[38,14945,38,14946],[38,14949,39,14949],[38,14954,38,14955],[38,14958,39,14958],[39,14936,39,14937],[39,14945,39,14946],[39,14954,39,14955],[38,14909,38,14910],[38,14913,39,14913],[38,14918,38,14919],[38,14922,39,14922],[38,14927,38,14928],[38,14931,39,14931],[39,14909,39,14910],[39,14918,39,14919],[39,14927,39,14928],[38,14882,38,14883],[38,14886,39,14886],[38,14891,38,14892],[38,14895,39,14895],[38,14900,38,14901],[38,14904,39,14904],[39,14882,39,14883],[39,14891,39,14892],[39,14900,39,14901],[38,14855,38,14856],[38,14859,39,14859],[38,14864,38,14865],[38,14868,39,14868],[38,14873,38,14874],[38,14877,39,14877],[39,14855,39,14856],[39,14864,39,14865],[39,14873,39,14874],[38,14828,38,14829],[38,14832,39,14832],[38,14837,38,14838],[38,14841,39,14841],[38,14846,38,14847],[38,14850,39,14850],[39,14828,39,14829],[39,14837,39,14838],[39,14846,39,14847],[38,14801,38,14802],[38,14805,39,14805],[38,14810,38,14811],[38,14814,39,14814],[38,14819,38,14820],[38,14823,39,14823],[39,14801,39,14802],[39,14810,39,14811],[39,14819,39,14820],[38,14774,38,14775],[38,14778,39,14778],[38,14783,38,14784],[38,14787,39,14787],[38,14792,38,14793],[38,14796,39,14796],[39,14774,39,14775],[39,14783,39,14784],[39,14792,39,14793],[38,14747,38,14748],[38,14751,39,14751],[38,14756,38,14757],[38,14760,39,14760],[38,14765,38,14766],[38,14769,39,14769],[39,14747,39,14748],[39,14756,39,14757],[39,14765,39,14766],[38,14720,38,14721],[38,14724,39,14724],[38,14729,38,14730],[38,14733,39,14733],[38,14738,38,14739],[38,14742,39,14742],[39,14720,39,14721],[39,14729,39,14730],[39,14738,39,14739],[38,14693,38,14694],[38,14697,39,14697],[38,14702,38,14703],[38,14706,39,14706],[38,14711,38,14712],[38,14715,39,14715],[39,14693,39,14694],[39,14702,39,14703],[39,14711,39,14712],[38,14666,38,14667],[38,14670,39,14670],[38,14675,38,14676],[38,14679,39,14679],[38,14684,38,14685],[38,14688,39,14688],[39,14666,39,14667],[39,14675,39,14676],[39,14684,39,14685],[38,14639,38,14640],[38,14643,39,14643],[38,14648,38,14649],[38,14652,39,14652],[38,14657,38,14658],[38,14661,39,14661],[39,14639,39,14640],[39,14648,39,14649],[39,14657,39,14658],[38,14612,38,14613],[38,14616,39,14616],[38,14621,38,14622],[38,14625,39,14625],[38,14630,38,14631],[38,14634,39,14634],[39,14612,39,14613],[39,14621,39,14622],[39,14630,39,14631],[38,14585,38,14586],[38,14589,39,14589],[38,14594,38,14595],[38,14598,39,14598],[38,14603,38,14604],[38,14607,39,14607],[39,14585,39,14586],[39,14594,39,14595],[39,14603,39,14604],[38,14558,38,14559],[38,14562,39,14562],[38,14567,38,14568],[38,14571,39,14571],[38,14576,38,14577],[38,14580,39,14580],[39,14558,39,14559],[39,14567,39,14568],[39,14576,39,14577],[38,14531,38,14532],[38,14535,39,14535],[38,14540,38,14541],[38,14544,39,14544],[38,14549,38,14550],[38,14553,39,14553],[39,14531,39,14532],[39,14540,39,14541],[39,14549,39,14550],[38,14504,38,14505],[38,14508,39,14508],[38,14513,38,14514],[38,14517,39,14517],[38,14522,38,14523],[38,14526,39,14526],[39,14504,39,14505],[39,14513,39,14514],[39,14522,39,14523],[38,14477,38,14478],[38,14481,39,14481],[38,14486,38,14487],[38,14490,39,14490],[38,14495,38,14496],[38,14499,39,14499],[39,14477,39,14478],[39,14486,39,14487],[39,14495,39,14496],[38,14450,38,14451],[38,14454,39,14454],[38,14459,38,14460],[38,14463,39,14463],[38,14468,38,14469],[38,14472,39,14472],[39,14450,39,14451],[39,14459,39,14460],[39,14468,39,14469],[38,14423,38,14424],[38,14427,39,14427],[38,14432,38,14433],[38,14436,39,14436],[38,14441,38,14442],[38,14445,39,14445],[39,14423,39,14424],[39,14432,39,14433],[39,14441,39,14442],[38,14396,38,14397],[38,14400,39,14400],[38,14405,38,14406],[38,14409,39,14409],[38,14414,38,14415],[38,14418,39,14418],[39,14396,39,14397],[39,14405,39,14406],[39,14414,39,14415],[38,14369,38,14370],[38,14373,39,14373],[38,14378,38,14379],[38,14382,39,14382],[38,14387,38,14388],[38,14391,39,14391],[39,14369,39,14370],[39,14378,39,14379],[39,14387,39,14388],[38,14342,38,14343],[38,14346,39,14346],[38,14351,38,14352],[38,14355,39,14355],[38,14360,38,14361],[38,14364,39,14364],[39,14342,39,14343],[39,14351,39,14352],[39,14360,39,14361],[38,14315,38,14316],[38,14319,39,14319],[38,14324,38,14325],[38,14328,39,14328],[38,14333,38,14334],[38,14337,39,14337],[39,14315,39,14316],[39,14324,39,14325],[39,14333,39,14334],[38,14288,38,14289],[38,14292,39,14292],[38,14297,38,14298],[38,14301,39,14301],[38,14306,38,14307],[38,14310,39,14310],[39,14288,39,14289],[39,14297,39,14298],[39,14306,39,14307],[38,14261,38,14262],[38,14265,39,14265],[38,14270,38,14271],[38,14274,39,14274],[38,14279,38,14280],[38,14283,39,14283],[39,14261,39,14262],[39,14270,39,14271],[39,14279,39,14280],[38,14234,38,14235],[38,14238,39,14238],[38,14243,38,14244],[38,14247,39,14247],[38,14252,38,14253],[38,14256,39,14256],[39,14234,39,14235],[39,14243,39,14244],[39,14252,39,14253],[38,14207,38,14208],[38,14211,39,14211],[38,14216,38,14217],[38,14220,39,14220],[38,14225,38,14226],[38,14229,39,14229],[39,14207,39,14208],[39,14216,39,14217],[39,14225,39,14226],[38,14180,38,14181],[38,14184,39,14184],[38,14189,38,14190],[38,14193,39,14193],[38,14198,38,14199],[38,14202,39,14202],[39,14180,39,14181],[39,14189,39,14190],[39,14198,39,14199],[38,14153,38,14154],[38,14157,39,14157],[38,14162,38,14163],[38,14166,39,14166],[38,14171,38,14172],[38,14175,39,14175],[39,14153,39,14154],[39,14162,39,14163],[39,14171,39,14172],[38,14126,38,14127],[38,14130,39,14130],[38,14135,38,14136],[38,14139,39,14139],[38,14144,38,14145],[38,14148,39,14148],[39,14126,39,14127],[39,14135,39,14136],[39,14144,39,14145],[38,14099,38,14100],[38,14103,39,14103],[38,14108,38,14109],[38,14112,39,14112],[38,14117,38,14118],[38,14121,39,14121],[39,14099,39,14100],[39,14108,39,14109],[39,14117,39,14118],[38,14072,38,14073],[38,14076,39,14076],[38,14081,38,14082],[38,14085,39,14085],[38,14090,38,14091],[38,14094,39,14094],[39,14072,39,14073],[39,14081,39,14082],[39,14090,39,14091],[38,14045,38,14046],[38,14049,39,14049],[38,14054,38,14055],[38,14058,39,14058],[38,14063,38,14064],[38,14067,39,14067],[39,14045,39,14046],[39,14054,39,14055],[39,14063,39,14064],[38,14018,38,14019],[38,14022,39,14022],[38,14027,38,14028],[38,14031,39,14031],[38,14036,38,14037],[38,14040,39,14040],[39,14018,39,14019],[39,14027,39,14028],[39,14036,39,14037],[38,13991,38,13992],[38,13995,39,13995],[38,14000,38,14001],[38,14004,39,14004],[38,14009,38,14010],[38,14013,39,14013],[39,13991,39,13992],[39,14000,39,14001],[39,14009,39,14010],[38,13964,38,13965],[38,13968,39,13968],[38,13973,38,13974],[38,13977,39,13977],[38,13982,38,13983],[38,13986,39,13986],[39,13964,39,13965],[39,13973,39,13974],[39,13982,39,13983],[38,13937,38,13938],[38,13941,39,13941],[38,13946,38,13947],[38,13950,39,13950],[38,13955,38,13956],[38,13959,39,13959],[39,13937,39,13938],[39,13946,39,13947],[39,13955,39,13956],[38,13910,38,13911],[38,13914,39,13914],[38,13919,38,13920],[38,13923,39,13923],[38,13928,38,13929],[38,13932,39,13932],[39,13910,39,13911],[39,13919,39,13920],[39,13928,39,13929],[38,13883,38,13884],[38,13887,39,13887],[38,13892,38,13893],[38,13896,39,13896],[38,13901,38,13902],[38,13905,39,13905],[39,13883,39,13884],[39,13892,39,13893],[39,13901,39,13902],[38,13856,38,13857],[38,13860,39,13860],[38,13865,38,13866],[38,13869,39,13869],[38,13874,38,13875],[38,13878,39,13878],[39,13856,39,13857],[39,13865,39,13866],[39,13874,39,13875],[38,13829,38,13830],[38,13833,39,13833]],"merged_total":5658,"flags":["merged_cut"]}
[]
["Candidate",{"$f":"IF(COUNTA('Cycle 1'!B2:C2)<>0,'Cycle 1'!B2:C2,\"\")","v":""},null,"Major",{"$f":"IF(COUNTA('Cycle 1'!E2)<>0,'Cycle 1'!E2,\"\")","v":""},"Date"]
["School",{"$f":"IF(COUNTA('Cycle 1'!B3:C3)<>0,'Cycle 1'!B3:C3,\"\")","v":""},null,"Course",{"$f":"IF(COUNTA('Cycle 1'!E3)<>0,'Cycle 1'!E3,\"\")","v":""},"District",{"$f":"IF(COUNTA('Cycle 1'!G3)<>0,'Cycle 1'!G3,\"\")","v":""}]
["Mentor Teacher",{"$f":"IF(COUNTA('Cycle 1'!B4:C4)<>0,'Cycle 1'!B4:C4,\"\")","v":""},null,"Grade",{"$f":"IF(COUNTA('Cycle 1'!E4)<>0,'Cycle 1'!E4,\"\")","v":""},"Principal",{"$f":"IF(COUNTA('Cycle 1'!G4)<>0,'Cycle 1'!G4,\"\")","v":""}]
["Evaluator",null,null,"Semester",{"$f":"IF(COUNTA('Cycle 1'!E5)<>0,'Cycle 1'!E5,\"\")","v":""},"Position",{"$f":"IF(COUNTA('Cycle 1'!G5)<>0,'Cycle 1'!G5,\"\")","v":""}]
["Field Experience",null,null,"Term",{"$f":"IF(COUNTA('Cycle 1'!E6)<>0,'Cycle 1'!E6,\"\")","v":""},"Subject"]
["Cycle #4 Notes"]
["Lesson Topic"]
["Observation Minutes"]
["Debrief/Consultation Minutes"]
[]
["Notes:"]
["Notes:"]
["Notes:"]
["Notes:"]
["Cycle #4 Scores "]
["THE LEARNER & LEARNING\nTeaching begins with the learner. To ensure that each student learns new knowledge and skills, teachers must understand that learning and developmental patterns vary among individuals, that learners bring unique individual differences to the learning process, and that learners need supportive and safe learning environments to thrive. ",null,null,null,"Total Average Score:",{"$f":"IFERROR(ROUND(AVERAGE($F$19,$F$24,$F$30,$F$36,$F$41,$F$46,$F$53,$F$59,$F$64,$F$69,$F$75,$F$80,$F$86,$F$91,$F$96,$F$101,$F$106,$F$113,$F$119,$F$124,$F$130,$F$133),2),\"--\")","v":"--"}]
["STANDARD 1: Learner Development",null,null,null,null,"SCORE"]
["  1.1  (O)  Appropriate Learning Experiences"]
[null,null,"Preservice (Practicum)",null,null,null,"Student Teaching/Intern","Career Teacher"]
[]
["1.1 \n\nO\nB\nS\nE\nR\nV\nA\nT\nI\nO\nN","Performance Expectation","Not Scored\n\n(NS)","Not Effective\n\n(0)","Beginning\n\n(1)","Developing\n\n(2)","Preservice Effective/\nUSBE Emerging Effective\n(3)","Inservice Effective\n\n(3)"]
[null,"Creates developmentally appropriate and challenging learning experiences based on each learner’s strengths, interests, and needs\n\nUETS 1a, 2e\nInTASC 1\nCAEP 1.1, 3.5","• The evaluator selected not to gather evidence and score this item for this formative assessment","• Provides developmentally inappropriate instruction\n• Lacks awareness of developmental needs\n\n\n","• Creates lessons according to grade level Utah Core Standards\n","…and\n• Add to or modifies lessons to provide varied learning experiences","…and\n• Implements learning experiences based on specific learners developmental levels","…and\n• Identifies appropriate developmental levels of individual learners and consistently and appropriately differentiates instruction learning experiences\n• Incorporates methods of language development into planning and instruction"]
["  1.2  (C) Collaborates with Others"]
[null,null,"Preservice (Practicum)",null,null,null,"Student Teaching/Intern","Career Teacher"]
[]
["1.2 \n\nC\nO\nN\nS\nU\nL\nT\nA\nT\nI\nO\nN","Performance Expectation","Not Scored\n\n(NS)","Not Effective\n\n(0)","Beginning\n\n(1)","Developing\n\n(2)","Preservice Effective/\nUSBE Emerging Effective\n(3)","Inservice Effective\n\n(3)"]
[null,"Collaborates with families, colleagues, and other professionals to promote student growth and development.\n\nUETS 1b\nInTASC 1\nCAEP 1.1, 3.5","• The evaluator selected not to gather evidence and score this item for this formative assessment","• Works in isolation \n• Avoids communication or communicates ineffectively\n• Does not focus on learner needs","• Communicates about procedural issues, schedules, and requirements.","…and \n• Responds to mentor inquires/concerns about learner development and progress. \n• Communicates about curriculum and instruction.\n","…and \n• Interacts with colleagues or families related to learner growth and development","…and\n• Collaborates with family members and a full range of colleagues to help meet the unique needs of all learners\n"]
["STANDARD 2:  Learning Differences",null,null,null,null,"SCORE"]
["  2.1  (O) Diverse Experiences"]
[null,null,"Preservice (Practicum)",null,null,null,"Student Teaching/Intern","Career Teacher"]
[]
["2.1 \n\nO\nB\nS\nE\nR\nV\nA\nT\nI\nO\nN","Performance Expectation","Not Scored\n\n(NS)","Not Effective\n\n(0)","Beginning\n\n(1)","Developing\n\n(2)","Preservice Effective/\nUSBE Emerging Effective\n(3)","Inservice Effective\n\n(3)"]
[null,"Allows learners multiple ways to demonstrate learning sensitive to diverse experiences, while holding high expectations for all.\n\nUETS 2a, 2b, 2c, 2d\nInTASC 2\nCAEP 1.1, 3.5\nCross-cutting Diversity","• The evaluator selected not to gather evidence and score this item for this formative assessment","• Not aware of learner differences\n• Not accepting of differences\n• Does not hold high expectations for learners","• Demonstrates awareness of learner diversity \n• Respects individual differences\n","..and\n• Applies general strategies for diverse learners","…and\n• Applies understanding of specific strategies for learner diversity to encourage all learners to reach their full potential","…and\n• Uses learner differences as an asset to adapt and deliver instruction for all learners\n• Provides students multiple ways to demonstrate learning"]
["STANDARD 3:  Learning Environment",null,null,null,null,"SCORE"]
["3.1  (O)  Engage and Support Students"]
[null,null,"Preservice (Practicum)",null,null,null,"Student Teaching/Intern","Career Teacher"]
[]
["3.1 \n\nO\nB\nS\nE\nR\nV\nA\nT\nI\nO\nN","Performance Expectation","Not Scored\n\n(NS)","Not Effective\n\n(0)","Beginning\n\n(1)","Developing\n\n(2)","Preservice Effective/\nUSBE Emerging Effective\n(3)","Inservice Effective\n\n(3)"]
[null,"Develops learning experiences that engage and support students as self-directed learners who internalize classroom routines, expectations, and procedures.\n\nUETS 3a\nInTASC 3\nCAEP 1.1, 3.5","• The evaluator selected not to gather evidence and score this item for this formative assessment","• Does not have a schedule planned\n• Has unorganized and lengthy transitions \n• Loses Instructional time\n\n","• Plans a schedule, routines, and behavioral expectations\n\n\n","…and \n• Communicates schedule, routines, and behavioral expectations to students\n \n","…and\n• Implements the daily schedule \n• Holds students accountable to follow routines and behavioral expectations\n","…and\n• Provides explicit direction so that learners know what to do and when to do it\n• Supports each learner as he/she establishes expectations and develops responsibility for his/her own behavior\n\n"]
["3.2  (O) Collaborates with Students"]
[null,null,"Preservice (Practicum)",null,null,null,"Student Teaching/Intern","Career Teacher"]
[]
["\n3.2 \n\nO\nB\nS\nE\nR\nV\nA\nT\nI\nO\nN\n","Performance Expectation","Not Scored\n\n(NS)","Not Effective\n\n(0)","Beginning\n\n(1)","Developing\n\n(2)","Preservice Effective/\nUSBE Emerging Effective\n(3)","Inservice Effective\n\n(3)"]
[null,"Collaborates with students to establish a positive learning climate of openness, respectful interactions, support, and inquiry.\n\nUETS 3b\nInTASC 3\nCAEP 1.1, 3.5","• The evaluator selected not to gather evidence and score this item for this formative assessment","• Demonstrates negative demeanor \n• Reprimands frequently \n• Leaves students unattended \n\n","• Communicates with students using developmentally appropriate language \n\n","…and \n• Communicates explicitly the expectations for classroom interactions\n• Provides opportunities for teacher-student interactions\n• Provides opportunities for student interactions\n \n","…and\n• Maintains positive interactions with and among students\n\n","…and\n• Collaborates with students to establish a positive learning climate of openness, respectful interactions, support, and inquiry\n• Organizes student learning teams for the purpose of developing cooperation, collaboration, and student leadership\n\n"]
["3.3  (O) Classroom Management Strategies"]
[null,null,"Preservice (Practicum)",null,null,null,"Student Teaching/Intern","Career Teacher"]
[]
["3.3 \n\nO\nB\nS\nE\nR\nV\nA\nT\nI\nO\nN","Performance Expectation","Not Scored\n\n(NS)","Not Effective\n\n(0)","Beginning\n\n(1)","Developing\n\n(2)","Preservice Effective/\nUSBE Emerging Effective\n(3)","Inservice Effective\n\n(3)"]
[null,"Utilizes positive classroom management strategies, including the resources of time, space, and attention, effectively.\n\nUETS 3c, 3d\nInTASC 3\nCAEP 1.1, 3.5","• The evaluator selected not to gather evidence and score this item for this formative assessment","• Uses time, space, and attention ineffectively\n• Does not use management plan\n","• Plans classroom management strategies\n• Plans instruction for the allotted time\n\n\n","…and\n• Paces instruction appropriate for student learning\n• Addresses inappropriate student behavior","…and \n• Implements classroom management strategies \n• Encourages learners to be engaged with the content \n• Manages time, space, and attention to increase participation","…and\n• Uses differentiated management strategies focusing on individual learner need\n• Gains and maintains student attention through active participation\n• Adjusts instructional pacing and transitions to maintain learner participation and support learning\n\n"]
["INSTRUCTIONAL PRACTICE\nEffective instructional practice requires that teachers have a deep and flexible understanding of their content areas and be able to draw upon content knowledge as they work with learners to access information, apply knowledge in real-world settings, and address meaningful issues. They must also understand and integrate assessment, planning, and instructional strategies in coordinated and engaging ways to assure learner mastery of the content."]
["STANDARD 4:  Content Knowledge",null,null,null,null,"SCORE"]
["  4.1  (O) Accurate, Multiple Representations"]
[null,null,"Preservice (Practicum)",null,null,null,"Student Teaching/Intern","Career Teacher"]
[]
["4.1\n\nO\nB\nS\nE\nR\nV\nA\nT\nI\nO\nN","Performance Expectation","Not Scored\n\n(NS)","Not Effective\n\n(0)","Beginning\n\n(1)","Developing\n\n(2)","Preservice Effective/\nUSBE Emerging Effective\n(3)","Inservice Effective\n\n(3)"]
[null,"Bases instruction on accurate content knowledge using multiple representations of concepts and appropriate academic language.\n \nUETS 4a, 4c, 4d, 4e, 7c\nInTASC 4 and 5\nCAEP 1.1, 1.3, 1.4, 3.4, 3.5\n\n","• The evaluator selected not to gather evidence and score this item for this formative assessment","• Provides inaccurate lesson content\n\n","• Demonstrate content knowledge\n\n","…and \n• Uses more than one way to explain concepts\n• Uses accurate academic language\n","…and \n• Models critical and/or creative thinking in the content area\n• Supports learner use of content-specific academic language\n\n","…and\n• Uses multiple representations and explanations of concepts to deepen each learner’s understanding\n• Models and expects learners to evaluate, create, and think critically about the content\n• Analyzes learner errors and misconceptions in order to redirect, focus, and deepen learning\n\n"]
["STANDARD 5:  Assessment",null,null,null,null,"SCORE"]
["5.1  (C) Assesses Effectiveness of Instruction"]
[null,null,"Preservice (Practicum)",null,null,null,"Student Teaching/Intern","Career Teacher"]
[]
["5.1\n\nC\nO\nN\nS\nU\nL\nT\nA\nT\nI\nO\nN","Performance Expectation","Not Scored\n\n(NS)","Not Effective\n\n(0)","Beginning\n\n(1)","Developing\n\n(2)","Preservice Effective/\nUSBE Emerging Effective\n(3)","Inservice Effective\n\n(3)"]
[null,"Uses data sources to assess the effectiveness of instruction and to make adjustments in planning and instruction.\n\nUETS 5a, 5c, 5d, 8a\nINTASC 6 \nCAEP 1.1, 1.2, 3.5\n\n\n\n","• The evaluator selected not to gather evidence and score this item for this formative assessment","• Does not collect or use data \n\n","• Collects data \n","…and\n• Analyzes data to document student learning \n• Uses formative assessment during instruction\n\n","…and\n• Uses data to evaluate the outcomes of teaching\n• Monitors learning and adjusts instruction during the lesson\n","…and \n• Targets instructional, intervention, and enrichment strategies based on data\n• Uses multiple formative and summative assessments to make ongoing adjustments in instruction based on a wide range of individual learner needs\n"]
["5.2  (C) Elements of Quality Work"]
[null,null,"Preservice (Practicum)",null,null,null,"Student Teaching/Intern","Career Teacher"]
[]
["5.2\n\nC\nO\nN\nS\nU\nL\nT\nA\nT\nI\nO\nN","Performance Expectation","Not Scored\n\n(NS)","Not Effective\n\n(0)","Beginning\n\n(1)","Developing\n\n(2)","Preservice Effective/\nUSBE Emerging Effective\n(3)","Inservice Effective\n\n(3)"]
[null,"Documents student progress and provides descriptive feedback to student, parent/guardian, and other stakeholders in a variety of ways.\n\nUETS 5b, 5e\nINTASC 6\nCAEP 1.1, 3.5","• The evaluator selected not to gather evidence and score this item for this formative assessment","• Does not document learner progress\n•Does not provide feedback\n\n","• Documents learner progress\n• Provides general feedback\n\n","…and \n• Provides specific and timely feedback","…and \n• Provides feedback to individuals and groups based on identified elements of quality work (e.g. rubrics, checklists, exemplars)\n• Shares assessment feedback with parents/guardians under the direction of the mentor teacher","…and\n• Uses a variety of effective formats to document and provide feedback on learner progress\n• Initiates ongoing, open communication between home and school about learner progress\n• Provides timely descriptive, and specific feedback to individuals and groups\n"]
["5.3  (C) Documents Progress, Provides Feedback"]
[null,null,"Preservice (Practicum)",null,null,null,"Student Teaching/Intern","Career Teacher"]
[]
["5.3\n\nC\nO\nN\nS\nU\nL\nT\nA\nT\nI\nO\nN","Performance Expectation","Not Scored\n\n(NS)","Not Effective\n\n(0)","Beginning\n\n(1)","Developing\n\n(2)","Preservice Effective/\nUSBE Emerging Effective\n(3)","Inservice Effective\n\n(3)"]
[null,"Designs or selects pre-assessments, formative, and summative assessments in a variety of formats that align to learning objectives and engage the learner in demonstrating knowledge and skills. \n\nUETS 5a\nInTASC 6\nCAEP 1.1, 3.5\n\n","• The evaluator selected not to gather evidence and score this item for this formative assessment","• Does not assess student learning \n• Assessment is inappropriate \n\n","• Lesson plan includes an assessment\n","…and\n• Designs, selects, or adapts assessments that align with learning objectives\n","…and \n• Uses a variety of assessment formats to evaluate student learning\n","…and\n• Designs assessments in a variety of formats that match learning objectives and Utah Common Core standards\n• Selected assessment(s) differentiate levels of student learning allowing the teacher to reteach missed concepts \n•  Selected assessment(s) accounts for individual learning styles and multicultural differences of learners minimizing bias\n"]
["STANDARD 6:  Instructional Planning",null,null,null,null,"SCORE"]
["6.1  (C) Knowledge and Reference  of Utah Core Standards"]
[null,null,"Preservice (Practicum)",null,null,null,"Student Teaching/Intern","Career Teacher"]
[]
["6.1\n\nC\nO\nN\nS\nU\nL\nT\nA\nT\nI\nO\nN","Performance Expectation","Not Scored\n\n(NS)","Not Effective\n\n(0)","Beginning\n\n(1)","Developing\n\n(2)","Preservice Effective/\nUSBE Emerging Effective\n(3)","Inservice Effective\n\n(3)"]
[null,"Demonstrates knowledge of the Utah Core Standards and references them in short- and long-term planning.\n\nUETS 4b, 6a\nInTASC 7\nCAEP 1.1, 1.3, 1.4, 3.4, 3.5\n","• The evaluator selected not to gather evidence and score this item for this formative assessment","• Unfamiliar with Utah Core Standards\n• Instructional materials do not align with standards \n• No evidence of learning objectives \n• No evidence of planning\n\n\n\n","• Includes Utah Core Standards in lesson plans\n\n\n","…and \n• Includes appropriate learning objectives based on Utah Core Standards\n\n","…and \n• Aligns daily instruction with Utah Core Standards \n• Selects instructional materials that support standards \n","…and\n• Plans and implements short- and long-term learning experiences that reference Utah Core Standards learning objectives and content\n• Organizes and adapts learning experiences and materials to align with the Utah Core Standards\n\n\n"]
["6.2  (C) Integrates Cross-disciplinary Skills"]
[null,null,"Preservice (Practicum)",null,null,null,"Student Teaching/Intern","Career Teacher"]
[]
["6.2\n\nC\nO\nN\nS\nU\nL\nT\nA\nT\nI\nO\nN","Performance Expectation","Not Scored\n\n(NS)","Not Effective\n\n(0)","Beginning\n\n(1)","Developing\n\n(2)","Preservice Effective/\nUSBE Emerging Effective\n(3)","Inservice Effective\n\n(3)"]
[null,"Integrates cross-disciplinary skills into instruction to purposefully engage learners in applying content knowledge.\n\nUETS 6b, 6e\nInTASC 7\nCAEP 1.1, 1.4, 3.4, 3.5","• The evaluator selected not to gather evidence and score this item for this formative assessment","• Does not acknowledge the importance of integrating cross-disciplinary skills (e.g., critical thinking, problem solving, creativity, communication)\n\n\n\n","• Acknowledges the importance of integrating cross-disciplinary skills\n\n","…and\n• Plans lessons in which cross-disciplinary skills are modeled\n\n","…and\n• Plans lessons that engage students in using cross-disciplinary skills\n","…and\n• Plans lessons that demonstrate how knowledge and skills transfer to other content areas\n• Designs learning experiences that promote the application of knowledge in multiple content areas\n\n\n"]
["STANDARD 7:  Instructional Strategies",null,null,null,null,"SCORE"]
["7.1  (O) Range of Appropriate Instructional Strategies"]
[null,null,"Preservice (Practicum)",null,null,null,"Student Teaching/Intern","Career Teacher"]
[]
["7.1\n\nO\nB\nS\nE\nR\nV\nA\nT\nI\nO\nN","Performance Expectation","Not Scored\n\n(NS)","Not Effective\n\n(0)","Beginning\n\n(1)","Developing\n\n(2)","Preservice Effective/\nUSBE Emerging Effective\n(3)","Inservice Effective\n\n(3)"]
[null,"Practices a range of developmentally, culturally, and linguistically appropriate instructional strategies to meet the needs of individuals and groups of learners.\n\nUETS 2b, 2e, 6c, 7a, 7b\nInTASC 8\nCAEP 1.1, 1.2, 1.4, 3.5\nCross-cutting diversity","• The evaluator selected not to gather evidence and score this item for this formative assessment","• Inappropriate strategies\n• No variety of strategies\n• Insensitivity to individual differences\n• No adjustments to instruction\n\n\n\n\n\n\n","• Uses instructional strategies focused on lesson objectives\n\n\n","…and \n• Incorporates various instructional strategies\n\n\n\n","…and \n• Identifies each learner's diverse learning strengths and needs\n• Attempts to adjust instruction based on the developmental, culture, or linguistic needs of the students in individual or small group settings\n","…and\n• Monitors and adjusts instruction in response to developmental, cultural, and linguistic needs of individuals and groups of learners\n• Enhances instruction by using a variety of appropriate strategies\n\n\n"]
["7.2  (O) Opportunities for Students to Develop Skills"]
[null,null,"Preservice (Practicum)",null,null,null,"Student Teaching/Intern","Career Teacher"]
[]
["7.2\n\nO\nB\nS\nE\nR\nV\nA\nT\nI\nO\nN","Performance Expectation","Not Scored\n\n(NS)","Not Effective\n\n(0)","Beginning\n\n(1)","Developing\n\n(2)","Preservice Effective/\nUSBE Emerging Effective\n(3)","Inservice Effective\n\n(3)"]
[null,"Provides multiple opportunities for students to develop higher-order and meta-cognitive skills.\n\nUETS 3f, 6d, 7e\nInTASC 8\nCAEP 1.1, 1.2, 1.4, 3.4, 3.5","• The evaluator selected not to gather evidence and score this item for this formative assessment","• Is not familiar with higher-order and meta-cognitive skills \n\n\n","• Uses instructional strategies focused on lower-order thinking skills (e.g., uses memorization, recall, and rote knowledge for most assessments/ tasks)\n\n","…and \n• Uses instructional strategies in which higher-order thinking skills are modeled \n\n","…and \n• Uses instructional strategies that engage learners in higher-order thinking","…and\n• Provides learners with explicit instruction to analyze, synthesize, and make decisions\n• Provides opportunities for learners to reflect on their own learning\n• Provides opportunities for student to generate and evaluate new ideas\n\n\n"]
["7.3  (O) Expands Learner's Communication Skills"]
[null,null,"Preservice (Practicum)",null,null,null,"Student Teaching/Intern","Career Teacher"]
[]
["7.3\n\nO\nB\nS\nE\nR\nV\nA\nT\nI\nO\nN","Performance Expectation","Not Scored\n\n(NS)","Not Effective\n\n(0)","Beginning\n\n(1)","Developing\n\n(2)","Preservice Effective/\nUSBE Emerging Effective\n(3)","Inservice Effective\n\n(3)"]
[null,"Supports and expands each learner’s communication skills through reading, writing, listening, and speaking.\n\nUETS 3f, 7d\nInTASC 8\nCAEP 1.1, 1.4, 3.4, 3.5","• The evaluator selected not to gather evidence and score this item for this formative assessment","• Communication skills are not taught or developed specifically\n• No opportunities for learner communication\n\n\n\n","• Engages learners in listening and/or reading during instruction ","…and \n• Allows learners to contribute through speaking or writing as part of instruction\n","…and \n• Provides opportunities for learners to practice communication skills, including reading, writing, listening, and speaking","…and\n• Teaches content-specific reading, writing, listening, and speaking skills for effective communication\n• Provides opportunities for learners to expand communication skills to articulate thoughts and ideas \n\n\n"]
["7.4  (O) Variety of Effective Technology and Resources"]
[null,null,"Preservice (Practicum)",null,null,null,"Student Teaching/Intern","Career Teacher"]
[]
["7.4\n\nO\nB\nS\nE\nR\nV\nA\nT\nI\nO\nN","Performance Expectation","Not Scored\n\n(NS)","Not Effective\n\n(0)","Beginning\n\n(1)","Developing\n\n(2)","Preservice Effective/\nUSBE Emerging Effective\n(3)","Inservice Effective\n\n(3)"]
[null,"Uses a variety of available and appropriate technology and/or resources to support learning.\n\nUETS 3e, 7f, 7g\nInTASC 8\nCAEP 1.1, 1.3, 1.5, 3.4, 3.5\nCross-cutting technology","• The evaluator selected not to gather evidence and score this item for this formative assessment","• Does not use available technology \n\n\n","• Uses teacher-centered technologies\n\n\n","…and \n• Uses technology to engage students\n\n","…and\n• Uses student-centered technologies in ways that promote learning","…and\n• Evaluates and uses various appropriate technologies to support content and skill development\n• Incorporates appropriate technology and/or resources to extend learner content knowledge and skill development\n\n\n"]
["7.5  (O) Finding and Using Information to Solve Problems"]
[null,null,"Preservice (Practicum)",null,null,null,"Student Teaching/Intern","Career Teacher"]
[]
["7.5\n\nO\nB\nS\nE\nR\nV\nA\nT\nI\nO\nN","Performance Expectation","Not Scored\n\n(NS)","Not Effective\n\n(0)","Beginning\n\n(1)","Developing\n\n(2)","Preservice Effective/\nUSBE Emerging Effective\n(3)","Inservice Effective\n\n(3)"]
[null,"Develops learners’ abilities to find and use information to solve real-world problems.\n\nUETS 7f, 7g\nInTASC 8\nCAEP 1.1, 1.3, 1.4, 3.4, 3.5","• The evaluator selected not to gather evidence and score this item for this formative assessment","• Sources not appropriate for instruction \n\n\n","• Provides multiple, appropriate sources of  information","…and \n• Uses multiple, appropriate sources of information during instruction ","…and \n• Engages learners in using multiple, appropriate sources of information","…and\n• Develops each learner’s ability to find, understand, and analyze diverse sources of information\n• Provides opportunities for learners to use multiple sources of information for quality and accuracy\n\n"]
["PROFESSIONAL RESPONSIBILITY\nCreating and supporting safe, productive learning environments that result in learners achieving at the highest levels is a teacher's primary responsibility. To do this well, teachers must engage in meaningful, intensive professional learning by regularly examining practice through ongoing study, self-reflection, and collaboration. They must be aware of legal and ethical requirements and engage in the highest levels of professional and ethical conduct."]
["STANDARD 8:  Reflection and Continuous Growth",null,null,null,null,"SCORE"]
["8.1 (C) Adapts and Improves Practice"]
[null,null,"Preservice (Practicum)",null,null,null,"Student Teaching/Intern","Career Teacher"]
[]
["8.1\n\nC\nO\nN\nS\nU\nL\nT\nA\nT\nI\nO\nN","Performance Expectation","Not Scored\n\n(NS)","Not Effective\n\n(0)","Beginning\n\n(1)","Developing\n\n(2)","Preservice Effective/\nUSBE Emerging Effective\n(3)","Inservice Effective\n\n(3)"]
[null,"Adapts and improves practice based on reflection and new learning.\n\nUETS 8b, 8c, 8d, 8e\nInTASC 9\nCAEP 1.1, 1.2, 3.3, 3.4, 3.5","• The evaluator selected not to gather evidence and score this item for this formative assessment","• Does not reflect on instruction \n• Does not accept feedback","• Attends to feedback from mentor teacher and supervisor ","…and \n• Develops a plan to improve practice in response to feedback\n• Self-reflects on lesson effectiveness \n","…and \n• Applies feedback from mentor teachers, supervisors, and self-reflection to improve teaching and learning in the classroom","…and\n• Applies current professional learning to classroom practice, consistent with its intent\n• Acknowledges the impact of bias on own teaching\n• Collaborates with supervisor to develop a professional learning plan based on data and the Utah Effective Teaching Standards\n"]
["STANDARD 9:  Leadership and Collaboration",null,null,null,null,"SCORE"]
["  9.1  (C) Participates and Collaborates in Decision Making"]
[null,null,"Preservice (Practicum)",null,null,null,"Student Teaching/Intern","Career Teacher"]
[]
["9.1\n\nC\nO\nN\nS\nU\nL\nT\nA\nT\nI\nO\nN","Performance Expectation","Not Scored\n\n(NS)","Not Effective\n\n(0)","Beginning\n\n(1)","Developing\n\n(2)","Preservice Effective/\nUSBE Emerging Effective\n(3)","Inservice Effective\n\n(3)"]
[null,"Participates actively in decision-making processes, while building a shared culture that affects the school and larger educational community.\n\nUETS 9a, 9b, 9d, 9e\nInTASC 10\nCAEP 1.1, 3.3, 3.5\n\n\n\n","• The evaluator selected not to gather evidence and score this item for this formative assessment","• Fails to fulfill required duties (e.g., contracted school day, etc.)\n• Displays lack of respect for colleagues/ classmates\n• Blames others, including students, for lack of success\n\n\n","• Participates in required school activities \n• Communicates with colleagues/ classmates when required \n\n\n\n","…and \n• Attends and participates in team meetings and other collaborative opportunities, when invited\n","…and \n• Acknowledges own actions that lead to success of all learners\n• Maintains cordial professional relationships with colleagues/classmates\n\n","…and\n• Participates with colleagues and collaborates in decision making\n• Accepts responsibility for the success of all learners\n\n"]
["  9.2  (C) Student is an Advocate"]
[null,null,"Preservice (Practicum)",null,null,null,"Student Teaching/Intern","Career Teacher"]
[]
["9.2\n\nC\nO\nN\nS\nU\nL\nT\nA\nT\nI\nO\nN","Performance Expectation","Not Scored\n\n(NS)","Not Effective\n\n(0)","Beginning\n\n(1)","Developing\n\n(2)","Preservice Effective/\nUSBE Emerging Effective\n(3)","Inservice Effective\n\n(3)"]
[null,"Advocates for the learners, the school, the community, and the profession.\n\nUETS 9c\nInTASC 9\nCAEP 1.1, 3.3, 3.5","• The evaluator selected not to gather evidence and score this item for this formative assessment","• Lacks respect for learners and families\n• Communicates negatively about learners, families, or the profession\n• Interacts inappropriately with learners, families, or colleagues/ classmates\n\n\n\n","• Respects learners, families, and the profession\n• Communicates positively about learners, families, and the profession\n• Interacts appropriately with learners, classmates, colleagues, and families\n\n","…and\n• Positively represents the profession, school, and university \n\n","…and \n• Contributes to learner success by responding to learner and/or family/community concerns ","…and\n• Advocates for all students to be prepared for high school graduation and future school work success\n• Seeks opportunities to make a positive impact on teaching quality, school improvement, and student achievement \n\n\n"]
["STANDARD 10: Professional Learning and Ethical Practices",null,null,null,null,"SCORE"]
["  10.1  (C) Complies With All Policies, Rules & Laws"]
["10.1\n\nC\nO\nN\nS\nU\nL\nT\nA\nT\nI\nO\nN","Performance Expectation","NO",null,"YES"]
[null,"Is responsible for compliance with university policies, federal and state laws, State Board of Education administrative rules, state assessment policies, local board policies, and supervisory directives.\n\nUETS 10a, 5f\nInTASC 9\nCAEP 1.1, 1.4, 3.3, 3.5, 3.6\n\n\n","• Does not understand nor adheres to university policies, federal and state laws, State Board of Education rules, state and local policies, supervisory directives, professional, moral, and ethical conduct and does not hold others accountable to do the same ",null," • Understands, adheres to, and upholds university polices, federal and state laws, State Board of Education rules, state and local policies, supervisory directives, professional, moral, and ethical conduct and holds others accountable to do the same\n"]
["  10.2  (C) Complies with State Board of Education Rule R277-530"]
["10.2\n\nC\nO\nN\nS\nU\nL\nT\nA\nT\nI\nO\nN","Performance Expectation","NO",null,"YES"]
[null,"Is responsible for compliance with all requirements of State Board of Education Rule R277-515 at all levels of teacher development.\n\nUETS 10b\nInTASC 9\nCAEP 1.1, 1.4, 3.3, 3.5, 3.6","• Does not avoid actions that may adversely affect ability to perform assigned duties and carry out the responsibilities of the profession, including role-model responsibilities\n• Does not know or understand professional requirements\n• Does not complete all requirements for clinical experiences\n• Does not maintain instructional and non-instructional records\n• Does not maintain integrity and confidentiality in matters concerning student records and collegial consultation\n• Develops inappropriate student-teacher relationships as defined in rules, law, and policy\n• Does not maintain professional demeanor and appearance as defined by university and the local education agency (LEA)\n",null,"• Avoids actions that may adversely affect ability to perform assigned duties and carry out the responsibilities of the profession, including role-model responsibilities\n• Takes responsibility to understand professional requirements and to complete all requirements for clinical experience\n• Takes responsibility to understand professional requirements, to maintain a current Utah Educator License, and to complete license upgrades, renewals, and additional requirements in a timely way\n• Maintains accurate instructional and non-instructional records\n• Maintains integrity and confidentiality in matters concerning student records and collegial consultation\n• Develops appropriate student-teacher relationships as defined in rules, law, and policy\n• Maintains professional demeanor and appearance as defined by university and the local education agency (LEA)\n"]
["Strengths:"]
["Suggestions:"]
["Candidate's Goal(s):"]
["Evaluator's Goal(s):"]
["Other:"]